BEGIN:VCALENDAR
VERSION:2.0
PRODID:-//Love Pittsfield MA - ECPv6.15.20//NONSGML v1.0//EN
CALSCALE:GREGORIAN
METHOD:PUBLISH
X-ORIGINAL-URL:https://lovepittsfield.com
X-WR-CALDESC:Events for Love Pittsfield MA
REFRESH-INTERVAL;VALUE=DURATION:PT1H
X-Robots-Tag:noindex
X-PUBLISHED-TTL:PT1H
BEGIN:VTIMEZONE
TZID:America/New_York
BEGIN:DAYLIGHT
TZOFFSETFROM:-0500
TZOFFSETTO:-0400
TZNAME:EDT
DTSTART:20250309T070000
END:DAYLIGHT
BEGIN:STANDARD
TZOFFSETFROM:-0400
TZOFFSETTO:-0500
TZNAME:EST
DTSTART:20251102T060000
END:STANDARD
BEGIN:DAYLIGHT
TZOFFSETFROM:-0500
TZOFFSETTO:-0400
TZNAME:EDT
DTSTART:20260308T070000
END:DAYLIGHT
BEGIN:STANDARD
TZOFFSETFROM:-0400
TZOFFSETTO:-0500
TZNAME:EST
DTSTART:20261101T060000
END:STANDARD
BEGIN:DAYLIGHT
TZOFFSETFROM:-0500
TZOFFSETTO:-0400
TZNAME:EDT
DTSTART:20270314T070000
END:DAYLIGHT
BEGIN:STANDARD
TZOFFSETFROM:-0400
TZOFFSETTO:-0500
TZNAME:EST
DTSTART:20271107T060000
END:STANDARD
END:VTIMEZONE
BEGIN:VEVENT
DTSTART;TZID=America/New_York:20260520T180000
DTEND;TZID=America/New_York:20260520T193000
DTSTAMP:20260424T004743
CREATED:20250829T150003Z
LAST-MODIFIED:20260423T172440Z
UID:10020335-1779300000-1779305400@lovepittsfield.com
SUMMARY:PUZ DUZ: Trivia Night
DESCRIPTION:Get ready to tease your brain and slay the game!\nBring your crew (teams up to 4) – occurs MONTHLY\n🎁 Prizes for the top teams\, laughs\, and bragging rights guaranteed \nPick your teammates + Join us for some end of summer fun!\nTuesday\, September 16th | 🕕 6 PM : $5 per person – teams up to 4pp
URL:https://lovepittsfield.com/event/puz-duz-trivia-night/2026-05-20/
LOCATION:WANDER Berkshires\, 34 Depot Street\, Pittsfield\, MA\, 01201\, United States
CATEGORIES:Trivia
ATTACH;FMTTYPE=image/webp:https://lovepittsfield.com/wp-content/uploads/2025/08/WANDEREVENTS56-1.webp
END:VEVENT
END:VCALENDAR