BEGIN:VCALENDAR
VERSION:2.0
PRODID:-//Love Pittsfield MA - ECPv6.15.20//NONSGML v1.0//EN
CALSCALE:GREGORIAN
METHOD:PUBLISH
X-WR-CALNAME:Love Pittsfield MA
X-ORIGINAL-URL:https://lovepittsfield.com
X-WR-CALDESC:Events for Love Pittsfield MA
REFRESH-INTERVAL;VALUE=DURATION:PT1H
X-Robots-Tag:noindex
X-PUBLISHED-TTL:PT1H
BEGIN:VTIMEZONE
TZID:America/New_York
BEGIN:DAYLIGHT
TZOFFSETFROM:-0500
TZOFFSETTO:-0400
TZNAME:EDT
DTSTART:20250309T070000
END:DAYLIGHT
BEGIN:STANDARD
TZOFFSETFROM:-0400
TZOFFSETTO:-0500
TZNAME:EST
DTSTART:20251102T060000
END:STANDARD
BEGIN:DAYLIGHT
TZOFFSETFROM:-0500
TZOFFSETTO:-0400
TZNAME:EDT
DTSTART:20260308T070000
END:DAYLIGHT
BEGIN:STANDARD
TZOFFSETFROM:-0400
TZOFFSETTO:-0500
TZNAME:EST
DTSTART:20261101T060000
END:STANDARD
BEGIN:DAYLIGHT
TZOFFSETFROM:-0500
TZOFFSETTO:-0400
TZNAME:EDT
DTSTART:20270314T070000
END:DAYLIGHT
BEGIN:STANDARD
TZOFFSETFROM:-0400
TZOFFSETTO:-0500
TZNAME:EST
DTSTART:20271107T060000
END:STANDARD
END:VTIMEZONE
BEGIN:VEVENT
DTSTART;TZID=America/New_York:20260424T110000
DTEND;TZID=America/New_York:20260424T160000
DTSTAMP:20260424T021608
CREATED:20260325T130914Z
LAST-MODIFIED:20260325T130914Z
UID:10020150-1777028400-1777046400@lovepittsfield.com
SUMMARY:Baby Animals Festival
DESCRIPTION:Welcome the arrival of Spring with our BABY ANIMALS FESTIVAL! Meet our newest farm babies – lambs\, piglets\, calves\, chicks and kids (goats\, that is)–and enjoy events and activities throughout the Village\, from daily talks about the farm and the Shakers to craft demonstrations to walks along the Farm & Forest Trail.  To allow enough time for your visit\, please arrive at the Village between 11am-4:00pm. \nGeneral admission is $20 for adults\, $8 for youths ages 13-17 and children 12 and under are free.
URL:https://lovepittsfield.com/event/baby-animals-festival-2/2026-04-24/
LOCATION:Hancock Shaker Village\, 1843 West Housatonic St.\, Pittsfield\, MA\, 01201\, United States
CATEGORIES:Kids Activities
ATTACH;FMTTYPE=image/jpeg:https://lovepittsfield.com/wp-content/uploads/2026/03/BA26-1080x1080-1-600x600-1.jpg
END:VEVENT
BEGIN:VEVENT
DTSTART;TZID=America/New_York:20260424T113000
DTEND;TZID=America/New_York:20260424T150000
DTSTAMP:20260424T021608
CREATED:20260407T115830Z
LAST-MODIFIED:20260407T115830Z
UID:10020245-1777030200-1777042800@lovepittsfield.com
SUMMARY:BAA Collage Fellowship Show
DESCRIPTION:The BAA honors exceptional student artists at 2026 College Fellowship Show. \n\n\n\n\n\n\n\n\n\n\nFrom Friday\, April 3 through Friday\, April 24\, the Lichtenstein Center of the Arts will host the work of exceptional student artists in the 2026 Berkshire Art Association College Fellowship Show. \n\n\n\n\n\n\n\n\n\nAn awards reception will take place Saturday\, April 11\, from 3:00-5:00 pm at the Lichtenstein Center of the Arts. Fellowship Awards have been made possible by a generous grant from the Feigenbaum Foundation and by individual donors. \nOpen to college art students from Berkshire County enrolled in a visual art major anywhere in the country and students studying at Berkshire County colleges\, this show was juried by a panel of artists representing several disciplines. Forty art works\, created by 16 students\, were selected for the show. \n\n\n\n\n\n\n\n\n\n\n\n\n\n\n\non view April 3-24\, 2026\n\n\n\n\n\n\n\n\n\n\n\n\n\n\n\n\n2026 Artists\n\n\n\n\n\n\n\n\n\n\nElizabeth Cheng\nWilliams College \nZoe Coote\nSimon’s Rock at Bard College \nSergio Demo\nMassachusetts College of Liberal Arts \nGrace Espinosa\nWilliams College \nYasmine Faigle\nWilliams College \nGissel Gomez\nWilliams College \n\n\n\n\n\n\n\n\n\n\nKeira Harder\nWilliams College \nOlivia Jo\nWilliams College \nAidan Mack\nBerkshire Community College \nKatie Maier\nWilliams College \nLio Otter\nWilliams College \nMishal Powers\nWilliams College \n\n\n\n\n\n\n\n\n\n\nDaisy Rogers\nMassachusetts College of Liberal Arts  \nShriya Sharma\nWilliams College \nJian Su\nWilliams College \nStephanie Trotto\nMassachusetts College of Liberal Arts
URL:https://lovepittsfield.com/event/baa-collage-fellowship-show/2026-04-24/
LOCATION:Lichtenstein Center For the Arts\, 28 Renne Ave\, Pittsfield\, MA\, 01201\, United States
CATEGORIES:Arts
ATTACH;FMTTYPE=image/png:https://lovepittsfield.com/wp-content/uploads/2026/04/Screenshot-2026-04-07-at-7.53.54-AM.png
END:VEVENT
BEGIN:VEVENT
DTSTART;TZID=America/New_York:20260424T130000
DTEND;TZID=America/New_York:20260424T150000
DTSTAMP:20260424T021608
CREATED:20260413T120805Z
LAST-MODIFIED:20260413T120806Z
UID:10020285-1777035600-1777042800@lovepittsfield.com
SUMMARY:Wildflower seed bombs and Paper flower Workshop (Celebrates Spring!)
DESCRIPTION:SOLARIUM Plant Shop at 46 West Street will present a free\, drop-in Wildflower seed bombs and Paper flower Workshop on Friday\, April 24 from 1 to 3 pm\, open to all ages. \nFor a full event listing and additional information on Downtown Celebrates Spring\, visit downtownpittsfield.com/2026/04/celebrates-spring or call Downtown Pittsfield\, Inc. at 413-443-6501.
URL:https://lovepittsfield.com/event/wildflower-seed-bombs-and-paper-flower-workshop-celebrates-spring/
LOCATION:Solarium Plant Shop\, 46 West Street\, Pittsfield\, MA\, 01201-7362\, United States
CATEGORIES:Kids Activities
ATTACH;FMTTYPE=image/png:https://lovepittsfield.com/wp-content/uploads/2026/04/Solarium-Celebrates-Spring-Poster-2026.png
ORGANIZER;CN="Downtown Pittsfield%2C Inc.":MAILTO:info@downtownpittsfield.com
END:VEVENT
BEGIN:VEVENT
DTSTART;TZID=America/New_York:20260424T170000
DTEND;TZID=America/New_York:20260424T220000
DTSTAMP:20260424T021608
CREATED:20260331T153858Z
LAST-MODIFIED:20260331T153858Z
UID:10020203-1777050000-1777068000@lovepittsfield.com
SUMMARY:Pittsfield CityJazz Festival: Jazz Crawl
DESCRIPTION:Friday\, April 24 is the Jazz Crawl\, when North Street in Pittsfield will be alive with the sound of music.  Numerous establishments\, all within an easy walk from one another\, including  Methuselah\, BB’s Hot Spot (fka The Lantern)\, Rare 297at Hotel on North\, Tito’s Mexican Bar and Grill\, and WANDER Berkshires will be hosting jazz performances between 5 -10 p.m. For more information\, visit berkshiresjazz.org. \n 
URL:https://lovepittsfield.com/event/pittsfield-cityjazz-festival-jazz-crawl/
LOCATION:Around Downtown
CATEGORIES:Jazz
ATTACH;FMTTYPE=image/jpeg:https://lovepittsfield.com/wp-content/uploads/2026/03/2025-Jazz-Jam-Dotties.jpeg
END:VEVENT
BEGIN:VEVENT
DTSTART;TZID=America/New_York:20260424T190000
DTEND;TZID=America/New_York:20260424T210000
DTSTAMP:20260424T021608
CREATED:20250106T161351Z
LAST-MODIFIED:20251118T153721Z
UID:10019198-1777057200-1777064400@lovepittsfield.com
SUMMARY:Bring Your Own Vinyl Night with DJ Pup Daddy
DESCRIPTION:Join us for our monthly installment of Bring Your Own Vinyl Night. You\, of course\, don’t actually need to own your own vinyl albums to participate—DJ Pup Daddy will also let you dig through his crates and pick out some classic gems.
URL:https://lovepittsfield.com/event/bring-your-own-vinyl-night-with-dj-pup-daddy/2026-04-24/
LOCATION:Hot Plate Brewing Company\, 1 School Street\, Pittsfield\, 01201\, United States
CATEGORIES:Live Music
ATTACH;FMTTYPE=image/jpeg:https://lovepittsfield.com/wp-content/uploads/2025/01/471917357_1030112622492289_6795567918161634472_n.jpg
END:VEVENT
BEGIN:VEVENT
DTSTART;TZID=America/New_York:20260424T190000
DTEND;TZID=America/New_York:20260424T210000
DTSTAMP:20260424T021608
CREATED:20260304T140143Z
LAST-MODIFIED:20260304T140143Z
UID:10019965-1777057200-1777064400@lovepittsfield.com
SUMMARY:Roald Dahl’s James and the Giant Peach JR.
DESCRIPTION:Featuring over 50 Berkshire County and beyond elementary\, middle and high school students. \nBased on Roald Dahl’s most delightfully offbeat—and poignantly quirky—tale\, Roald Dahl’s James and the Giant Peach JR. is a fresh\, “masterpeach” musical adventure bursting with heart\, humor and imagination. When young James escapes his miserable life with his conniving aunts\, a mysterious magic potion transforms an ordinary peach into an enormous vessel for an unforgettable ocean voyage. Along the way\, James befriends a band of singing insect companions and faces sharks\, storms\, hunger and the occasional squabble\, discovering courage\, resilience and the joy of finding his chosen family. \nFeaturing a wickedly tuneful\, high-energy score and a witty\, charming book\, this adventurous musical celebrates friendship and self-discovery through colorful characters and larger-than-life moments. Bursting with imaginative costuming and playful puppetry\, this family-friendly production creates a colorful world where human and insect characters leap off the stage. Directed and choreographed by Kathy Jo Grover with music direction by Erin White\, James and the Giant Peach JR. highlights BTG’s commitment to youth theatre and arts education—an imaginative\, big-hearted journey that’s destined to become a favorite. \nAppropriate for all ages. \nProduction\nbook by Timothy Allen McDonald\nwords and music by Benj Pasek and Justin Paul\nbased on the book James and the Giant Peach by Roald Dahl \ndirection and choreography by Kathy Jo Grover\nmusic direction by Erin White
URL:https://lovepittsfield.com/event/roald-dahls-james-and-the-giant-peach-jr/2026-04-24/
LOCATION:The Colonial Theatre\, 111 South Street\, Pittsfield\, MA\, 01201\, United States
CATEGORIES:Kids Activities,Musical Theatre,Theater
ATTACH;FMTTYPE=image/png:https://lovepittsfield.com/wp-content/uploads/2026/03/04-24-26-James-and-the-Giant-Peach_email-header.png
END:VEVENT
END:VCALENDAR