BEGIN:VCALENDAR
VERSION:2.0
PRODID:-//Love Pittsfield MA - ECPv6.15.20//NONSGML v1.0//EN
CALSCALE:GREGORIAN
METHOD:PUBLISH
X-WR-CALNAME:Love Pittsfield MA
X-ORIGINAL-URL:https://lovepittsfield.com
X-WR-CALDESC:Events for Love Pittsfield MA
REFRESH-INTERVAL;VALUE=DURATION:PT1H
X-Robots-Tag:noindex
X-PUBLISHED-TTL:PT1H
BEGIN:VTIMEZONE
TZID:America/New_York
BEGIN:DAYLIGHT
TZOFFSETFROM:-0500
TZOFFSETTO:-0400
TZNAME:EDT
DTSTART:20250309T070000
END:DAYLIGHT
BEGIN:STANDARD
TZOFFSETFROM:-0400
TZOFFSETTO:-0500
TZNAME:EST
DTSTART:20251102T060000
END:STANDARD
BEGIN:DAYLIGHT
TZOFFSETFROM:-0500
TZOFFSETTO:-0400
TZNAME:EDT
DTSTART:20260308T070000
END:DAYLIGHT
BEGIN:STANDARD
TZOFFSETFROM:-0400
TZOFFSETTO:-0500
TZNAME:EST
DTSTART:20261101T060000
END:STANDARD
BEGIN:DAYLIGHT
TZOFFSETFROM:-0500
TZOFFSETTO:-0400
TZNAME:EDT
DTSTART:20270314T070000
END:DAYLIGHT
BEGIN:STANDARD
TZOFFSETFROM:-0400
TZOFFSETTO:-0500
TZNAME:EST
DTSTART:20271107T060000
END:STANDARD
END:VTIMEZONE
BEGIN:VEVENT
DTSTART;TZID=America/New_York:20260422T110000
DTEND;TZID=America/New_York:20260422T150000
DTSTAMP:20260422T130559
CREATED:20260407T115830Z
LAST-MODIFIED:20260407T115830Z
UID:10020243-1776855600-1776870000@lovepittsfield.com
SUMMARY:BAA Collage Fellowship Show
DESCRIPTION:The BAA honors exceptional student artists at 2026 College Fellowship Show. \n\n\n\n\n\n\n\n\n\n\nFrom Friday\, April 3 through Friday\, April 24\, the Lichtenstein Center of the Arts will host the work of exceptional student artists in the 2026 Berkshire Art Association College Fellowship Show. \n\n\n\n\n\n\n\n\n\nAn awards reception will take place Saturday\, April 11\, from 3:00-5:00 pm at the Lichtenstein Center of the Arts. Fellowship Awards have been made possible by a generous grant from the Feigenbaum Foundation and by individual donors. \nOpen to college art students from Berkshire County enrolled in a visual art major anywhere in the country and students studying at Berkshire County colleges\, this show was juried by a panel of artists representing several disciplines. Forty art works\, created by 16 students\, were selected for the show. \n\n\n\n\n\n\n\n\n\n\n\n\n\n\n\non view April 3-24\, 2026\n\n\n\n\n\n\n\n\n\n\n\n\n\n\n\n\n2026 Artists\n\n\n\n\n\n\n\n\n\n\nElizabeth Cheng\nWilliams College \nZoe Coote\nSimon’s Rock at Bard College \nSergio Demo\nMassachusetts College of Liberal Arts \nGrace Espinosa\nWilliams College \nYasmine Faigle\nWilliams College \nGissel Gomez\nWilliams College \n\n\n\n\n\n\n\n\n\n\nKeira Harder\nWilliams College \nOlivia Jo\nWilliams College \nAidan Mack\nBerkshire Community College \nKatie Maier\nWilliams College \nLio Otter\nWilliams College \nMishal Powers\nWilliams College \n\n\n\n\n\n\n\n\n\n\nDaisy Rogers\nMassachusetts College of Liberal Arts  \nShriya Sharma\nWilliams College \nJian Su\nWilliams College \nStephanie Trotto\nMassachusetts College of Liberal Arts
URL:https://lovepittsfield.com/event/baa-collage-fellowship-show/2026-04-22/
LOCATION:Lichtenstein Center For the Arts\, 28 Renne Ave\, Pittsfield\, MA\, 01201\, United States
CATEGORIES:Arts
ATTACH;FMTTYPE=image/png:https://lovepittsfield.com/wp-content/uploads/2026/04/Screenshot-2026-04-07-at-7.53.54-AM.png
END:VEVENT
BEGIN:VEVENT
DTSTART;TZID=America/New_York:20260422T110000
DTEND;TZID=America/New_York:20260422T160000
DTSTAMP:20260422T130559
CREATED:20260325T130914Z
LAST-MODIFIED:20260325T130914Z
UID:10020148-1776855600-1776873600@lovepittsfield.com
SUMMARY:Baby Animals Festival
DESCRIPTION:Welcome the arrival of Spring with our BABY ANIMALS FESTIVAL! Meet our newest farm babies – lambs\, piglets\, calves\, chicks and kids (goats\, that is)–and enjoy events and activities throughout the Village\, from daily talks about the farm and the Shakers to craft demonstrations to walks along the Farm & Forest Trail.  To allow enough time for your visit\, please arrive at the Village between 11am-4:00pm. \nGeneral admission is $20 for adults\, $8 for youths ages 13-17 and children 12 and under are free.
URL:https://lovepittsfield.com/event/baby-animals-festival-2/2026-04-22/
LOCATION:Hancock Shaker Village\, 1843 West Housatonic St.\, Pittsfield\, MA\, 01201\, United States
CATEGORIES:Kids Activities
ATTACH;FMTTYPE=image/jpeg:https://lovepittsfield.com/wp-content/uploads/2026/03/BA26-1080x1080-1-600x600-1.jpg
END:VEVENT
BEGIN:VEVENT
DTSTART;TZID=America/New_York:20260422T150000
DTEND;TZID=America/New_York:20260422T170000
DTSTAMP:20260422T130559
CREATED:20260413T120848Z
LAST-MODIFIED:20260413T120848Z
UID:10020286-1776870000-1776877200@lovepittsfield.com
SUMMARY:Decorate a pot and Plant a flower at Peace Train Tees (Celebrates Spring!)
DESCRIPTION:Peace Train Tees at 2 South Street will present a free\, drop-in Decorate a pot and Plant a flower Workshop on Wednesday\, April 22 from 3 to 5 pm. \nFor a full event listing and additional information on Downtown Celebrates Spring\, visit downtownpittsfield.com/2026/04/celebrates-spring or call Downtown Pittsfield\, Inc. at 413-443-6501.
URL:https://lovepittsfield.com/event/decorate-a-pot-and-plant-a-flower-at-peace-train-tees-celebrates-spring/
LOCATION:Peace Train Tees\, 2 South Street\, Pittsfield\, MA\, 01201\, United States
CATEGORIES:Kids Activities
ATTACH;FMTTYPE=image/png:https://lovepittsfield.com/wp-content/uploads/2026/04/Decorate-a-pot-and-plant-a-flower-Poster-2026.png
ORGANIZER;CN="Downtown Pittsfield%2C Inc.":MAILTO:info@downtownpittsfield.com
END:VEVENT
BEGIN:VEVENT
DTSTART;TZID=America/New_York:20260422T160000
DTEND;TZID=America/New_York:20260422T170000
DTSTAMP:20260422T130559
CREATED:20250305T082451Z
LAST-MODIFIED:20260108T144021Z
UID:10019580-1776873600-1776877200@lovepittsfield.com
SUMMARY:Knit-Wits Club
DESCRIPTION:Get cozy and crafty with fiber arts! Whether you are a master of yarn or looking to learn\, you are invited to hang out and help yourself to our stash of supplies. Volunteers will be available to help you learn. \n¡Ponte cómodo y crea manualidades con la artesanía textil! Tanto si eres un experto en estambre como si buscas aprender\, te invitamos a pasar el rato y a aprovechar nuestra colección de materiales. Habrá voluntarios disponibles para ayudarte a aprender. \nFor more information call the Children’s Library: (413) 499-9480\, ext. 203 or email youngadult@pittsfieldlibrary.org. \nSponsored by the Friends of the Berkshire Athenaeum.
URL:https://lovepittsfield.com/event/kids-knitting-and-crochet-club-2/2026-04-22/
LOCATION:Berkshire Athenaeum\, 1 Wendell Ave.\, Pittsfield\, MA\, 01201\, United States
CATEGORIES:Arts,Education,Kids Activities
ATTACH;FMTTYPE=image/png:https://lovepittsfield.com/wp-content/uploads/2025/03/Screenshot-2026-01-08-at-9.39.33-AM.png
ORGANIZER;CN="Berkshire Athenaeum":MAILTO:info@pittsfieldlibrary.org
END:VEVENT
BEGIN:VEVENT
DTSTART;TZID=America/New_York:20260422T190000
DTEND;TZID=America/New_York:20260422T210000
DTSTAMP:20260422T130559
CREATED:20260331T153326Z
LAST-MODIFIED:20260331T153602Z
UID:10020202-1776884400-1776891600@lovepittsfield.com
SUMMARY:Pittsfield CityJazz Festival: Jazz Prodigy
DESCRIPTION:The music resumes on Wednesday\, April 22\, with the annual Jazz Prodigy concert at the Berkshire Athenaeum. Sponsored by the Friends of the Athenaeum\, this year’s concert introduces 14-year-old drum phenom Xander Rosenblum\, who will be playing with a local all-star group headed by pianist George Oldziey\, and including Paul Ostermayer on saxophone and Adam Cote on bass.
URL:https://lovepittsfield.com/event/pittsfield-cityjazz-festival-jazz-prodigy/
LOCATION:Berkshire Athenaeum\, 1 Wendell Ave.\, Pittsfield\, MA\, 01201\, United States
CATEGORIES:Jazz
ATTACH;FMTTYPE=image/png:https://lovepittsfield.com/wp-content/uploads/2026/03/2026-Xander-Prodigy.png
END:VEVENT
END:VCALENDAR