BEGIN:VCALENDAR
VERSION:2.0
PRODID:-//Love Pittsfield MA - ECPv6.15.20//NONSGML v1.0//EN
CALSCALE:GREGORIAN
METHOD:PUBLISH
X-WR-CALNAME:Love Pittsfield MA
X-ORIGINAL-URL:https://lovepittsfield.com
X-WR-CALDESC:Events for Love Pittsfield MA
REFRESH-INTERVAL;VALUE=DURATION:PT1H
X-Robots-Tag:noindex
X-PUBLISHED-TTL:PT1H
BEGIN:VTIMEZONE
TZID:America/New_York
BEGIN:DAYLIGHT
TZOFFSETFROM:-0500
TZOFFSETTO:-0400
TZNAME:EDT
DTSTART:20250309T070000
END:DAYLIGHT
BEGIN:STANDARD
TZOFFSETFROM:-0400
TZOFFSETTO:-0500
TZNAME:EST
DTSTART:20251102T060000
END:STANDARD
BEGIN:DAYLIGHT
TZOFFSETFROM:-0500
TZOFFSETTO:-0400
TZNAME:EDT
DTSTART:20260308T070000
END:DAYLIGHT
BEGIN:STANDARD
TZOFFSETFROM:-0400
TZOFFSETTO:-0500
TZNAME:EST
DTSTART:20261101T060000
END:STANDARD
BEGIN:DAYLIGHT
TZOFFSETFROM:-0500
TZOFFSETTO:-0400
TZNAME:EDT
DTSTART:20270314T070000
END:DAYLIGHT
BEGIN:STANDARD
TZOFFSETFROM:-0400
TZOFFSETTO:-0500
TZNAME:EST
DTSTART:20271107T060000
END:STANDARD
END:VTIMEZONE
BEGIN:VEVENT
DTSTART;TZID=America/New_York:20260421T110000
DTEND;TZID=America/New_York:20260421T160000
DTSTAMP:20260421T035102
CREATED:20260325T130914Z
LAST-MODIFIED:20260325T130914Z
UID:10020147-1776769200-1776787200@lovepittsfield.com
SUMMARY:Baby Animals Festival
DESCRIPTION:Welcome the arrival of Spring with our BABY ANIMALS FESTIVAL! Meet our newest farm babies – lambs\, piglets\, calves\, chicks and kids (goats\, that is)–and enjoy events and activities throughout the Village\, from daily talks about the farm and the Shakers to craft demonstrations to walks along the Farm & Forest Trail.  To allow enough time for your visit\, please arrive at the Village between 11am-4:00pm. \nGeneral admission is $20 for adults\, $8 for youths ages 13-17 and children 12 and under are free.
URL:https://lovepittsfield.com/event/baby-animals-festival-2/2026-04-21/
LOCATION:Hancock Shaker Village\, 1843 West Housatonic St.\, Pittsfield\, MA\, 01201\, United States
CATEGORIES:Kids Activities
ATTACH;FMTTYPE=image/jpeg:https://lovepittsfield.com/wp-content/uploads/2026/03/BA26-1080x1080-1-600x600-1.jpg
END:VEVENT
BEGIN:VEVENT
DTSTART;TZID=America/New_York:20260421T140000
DTEND;TZID=America/New_York:20260421T160000
DTSTAMP:20260421T035102
CREATED:20260413T121120Z
LAST-MODIFIED:20260413T121120Z
UID:10020287-1776780000-1776787200@lovepittsfield.com
SUMMARY:Kids’ Spring Fest in Dunham Mall (Celebrates Spring!)
DESCRIPTION:Join Downtown Pittsfield\, Inc.\, the Berkshire Museum\, and BeatNest for a Spring gathering outside on Dunham Mall at 100 North Street. The Berkshire Museum will bring objects from their education collection about the living world blossoming in spring such as plants and bugs\, and they will bring a craft relating to spring! Music will be provided by BeatNest’s Spin Club students as they share their DJ skills that they have been working on this session. \nDowntown Pittsfield\, Inc. will host kids’ games and hand out free Officer Winston drawstring backpacks! \nChildren are welcome to drop in anytime over the course of the event\, and all children must be accompanied by an adult. \nFor a full event listing and additional information on Downtown Celebrates Spring\, visit downtownpittsfield.com/2026/04/celebrates-spring or call Downtown Pittsfield\, Inc. at 413-443-6501.
URL:https://lovepittsfield.com/event/kids-spring-fest-in-dunham-mall-celebrates-spring/
LOCATION:Dunham Mall\, 100 North Street\, Pittsfield\, MA\, 01201
CATEGORIES:Kids Activities
ATTACH;FMTTYPE=image/png:https://lovepittsfield.com/wp-content/uploads/2026/04/Kids-Spring-Fest-Dunham-Mall-Poster-2026.png
ORGANIZER;CN="Downtown Pittsfield%2C Inc.":MAILTO:info@downtownpittsfield.com
END:VEVENT
BEGIN:VEVENT
DTSTART;TZID=America/New_York:20260421T153000
DTEND;TZID=America/New_York:20260421T170000
DTSTAMP:20260421T035102
CREATED:20260108T143622Z
LAST-MODIFIED:20260108T143622Z
UID:10019533-1776785400-1776790800@lovepittsfield.com
SUMMARY:Lego Club at the Library
DESCRIPTION:Join us for afterschool LEGO building fun with the library’s huge collection of LEGO Bricks! Best for ages 6-10. Youth will have opportunities for free play\, cooperative building\, a LEGO challenge\, and a time for sharing. No registration required\, siblings welcome. \n¡Venga y construya con la enorme colección de ladrillos LEGO de biblioteca! Sugerido para niños de 6 a 10 años. \nChildren under the age of 10 must be accompanied by an adult 18+ at all times. \nFor more information call the Children’s Library: 413-499-9480\, ext. 5. \nSponsored by the Friends of the Berkshire Athenaeum. \nAttendance at library programs constitutes consent to be photographed; photos may be used in print or electronic publicity for the Berkshire Athenaeum.
URL:https://lovepittsfield.com/event/lego-club-at-the-library/2026-04-21/
LOCATION:Berkshire Athenaeum\, 1 Wendell Ave.\, Pittsfield\, MA\, 01201\, United States
CATEGORIES:Kids Activities
ATTACH;FMTTYPE=image/jpeg:https://lovepittsfield.com/wp-content/uploads/2026/01/572880605_1230094502488031_1283558016512444081_n.jpg
END:VEVENT
BEGIN:VEVENT
DTSTART;TZID=America/New_York:20260421T190000
DTEND;TZID=America/New_York:20260421T210000
DTSTAMP:20260421T035102
CREATED:20250106T154511Z
LAST-MODIFIED:20260330T212251Z
UID:10020196-1776798000-1776805200@lovepittsfield.com
SUMMARY:Hot Plate Taproom Trivia
DESCRIPTION:Join Mike in the taproom for another edition of taproom trivia\, where you’ll be able to test your knowledge of literature\, beer & brewing\, sports\, history\, music\, film & tv\, science\, geography\, current events\, and general trivia.
URL:https://lovepittsfield.com/event/hot-plate-taproom-trivia/2026-04-21/
LOCATION:Hot Plate Brewing Company\, 1 School Street\, Pittsfield\, 01201\, United States
CATEGORIES:Trivia
ATTACH;FMTTYPE=image/png:https://lovepittsfield.com/wp-content/uploads/2025/01/Screenshot-2025-05-20-at-11.37.01 AM.png
END:VEVENT
END:VCALENDAR