BEGIN:VCALENDAR
VERSION:2.0
PRODID:-//Love Pittsfield MA - ECPv6.15.20//NONSGML v1.0//EN
CALSCALE:GREGORIAN
METHOD:PUBLISH
X-WR-CALNAME:Love Pittsfield MA
X-ORIGINAL-URL:https://lovepittsfield.com
X-WR-CALDESC:Events for Love Pittsfield MA
REFRESH-INTERVAL;VALUE=DURATION:PT1H
X-Robots-Tag:noindex
X-PUBLISHED-TTL:PT1H
BEGIN:VTIMEZONE
TZID:America/New_York
BEGIN:DAYLIGHT
TZOFFSETFROM:-0500
TZOFFSETTO:-0400
TZNAME:EDT
DTSTART:20250309T070000
END:DAYLIGHT
BEGIN:STANDARD
TZOFFSETFROM:-0400
TZOFFSETTO:-0500
TZNAME:EST
DTSTART:20251102T060000
END:STANDARD
BEGIN:DAYLIGHT
TZOFFSETFROM:-0500
TZOFFSETTO:-0400
TZNAME:EDT
DTSTART:20260308T070000
END:DAYLIGHT
BEGIN:STANDARD
TZOFFSETFROM:-0400
TZOFFSETTO:-0500
TZNAME:EST
DTSTART:20261101T060000
END:STANDARD
BEGIN:DAYLIGHT
TZOFFSETFROM:-0500
TZOFFSETTO:-0400
TZNAME:EDT
DTSTART:20270314T070000
END:DAYLIGHT
BEGIN:STANDARD
TZOFFSETFROM:-0400
TZOFFSETTO:-0500
TZNAME:EST
DTSTART:20271107T060000
END:STANDARD
END:VTIMEZONE
BEGIN:VEVENT
DTSTART;TZID=America/New_York:20260215T110000
DTEND;TZID=America/New_York:20260215T150000
DTSTAMP:20260423T101425
CREATED:20260115T151050Z
LAST-MODIFIED:20260204T134721Z
UID:10019715-1771153200-1771167600@lovepittsfield.com
SUMMARY:The Big Chill
DESCRIPTION:Pull on your boots\, grab your coat & hat and join us for The Big Chill on February 14 & 15 from 11am–3pm for a weekend of winter fun. \nActivities include: \n\nWood carving demonstration\nIce House talks (Sunday only)\nMaple tree tapping demonstrations (Saturday only)\nBlacksmithing & woodworking demonstrations\nVillage walks & talks\nFarm Animals\nSimple family crafts in the Discovery Barn\nTrails will be open for snow shoeing (bring your own snowshoes. Weather permitting)\n\nOur friends from the Berkshire Museum will be in the Discovery Barn with a seasonal display. Learn how to identify animal tracks in winter and make a paper lantern in honor of the many festivals of light that are held this time of year. \nIn addition\, we will be recognizing Shaker founder Ann Lee’s birthday (February 29\, 1736) with baking demonstrations in the kitchen of the Brick Dwelling on Saturday. \nGreat Cape Baking Company will be serving a pancake breakfast all day in the Cafe as well offering a variety of fresh baked goods and warm beverages. \nSeveral of the historic buildings will be open to explore as well. So\, shake off the cabin fever and join us for this fun filled weekend in the Village! \nAll event activities are included in general admission. \nAdults $15\, Children 12 & under\, and Members FREE.
URL:https://lovepittsfield.com/event/the-big-chill-2/2026-02-15/
LOCATION:Hancock Shaker Village\, 1843 West Housatonic St.\, Pittsfield\, MA\, 01201\, United States
CATEGORIES:10x10
ATTACH;FMTTYPE=image/webp:https://lovepittsfield.com/wp-content/uploads/2026/01/Screenshot-2026-01-15-at-6.34.27-AM.png.webp
END:VEVENT
BEGIN:VEVENT
DTSTART;TZID=America/New_York:20260215T130000
DTEND;TZID=America/New_York:20260215T150000
DTSTAMP:20260423T101425
CREATED:20250417T152718Z
LAST-MODIFIED:20251211T134307Z
UID:10019349-1771160400-1771167600@lovepittsfield.com
SUMMARY:Silent Book Club
DESCRIPTION:The SBC Berkshires will be back at Hot Plate Brewing\, Co. for our August meeting. If you are looking for something to do\, come by and join us with your books\, snacks\, and maybe a friend/loved one.\n1:00-1:30 – Order your drinks and share what you’re reading1:30-2:30 – Quiet Reading Hour2:30-3:00 – Optional socializing or keep on reading!\nThanks to Hot Plate for being our monthly venue host. Please feel free to order or bring in your own snacks/food.\nA variety of non-alcoholic and non-beer options are available for purchase\, and families are welcome!\nWe will meet every THIRD Sunday afternoon.
URL:https://lovepittsfield.com/event/silent-book-club-3/2026-02-15/
LOCATION:Hot Plate Brewing Company\, 1 School Street\, Pittsfield\, 01201\, United States
ATTACH;FMTTYPE=image/jpeg:https://lovepittsfield.com/wp-content/uploads/2024/10/452149310_122143662260250555_6830698244166565930_n.jpg
END:VEVENT
BEGIN:VEVENT
DTSTART;TZID=America/New_York:20260215T140000
DTEND;TZID=America/New_York:20260215T160000
DTSTAMP:20260423T101425
CREATED:20260112T143304Z
LAST-MODIFIED:20260112T143533Z
UID:10019641-1771164000-1771171200@lovepittsfield.com
SUMMARY:10x10 New Play Festival
DESCRIPTION:Catch BSC favorites in the spotlight as 100 minutes of dreams\, drama\, and pure delight unfold on BSC’s St. Germain Stage.  These fast-moving plays —10 plays\, each 10 minutes in length — will make you laugh\, might make you cry\, and promise to make you think. \nFirst Preview:  Thursday\, February 12\nOpening: Sunday\, February 15\nClosing: Sunday\, March 15 \nFebruary 12 – March 15: Thursdays-Saturdays\, 7pm | Sundays\, 2pm
URL:https://lovepittsfield.com/event/10x10-new-play-festival/2026-02-15/
LOCATION:Barrington Stage Company: St. Germain Stage at the Sydelle and Lee Blatt Performing Arts Center\, 36 Linden Street\, Pittsfield\, MA\, 01201\, United States
CATEGORIES:10x10
ATTACH;FMTTYPE=image/png:https://lovepittsfield.com/wp-content/uploads/2026/01/Screenshot-2026-01-12-at-9.33.51-AM.png
END:VEVENT
BEGIN:VEVENT
DTSTART;TZID=America/New_York:20260215T160000
DTEND;TZID=America/New_York:20260215T180000
DTSTAMP:20260423T101425
CREATED:20260123T202618Z
LAST-MODIFIED:20260123T203002Z
UID:10019771-1771171200-1771178400@lovepittsfield.com
SUMMARY:Paint Your Bestie
DESCRIPTION:Celebrate Galentines by spending a fun afternoon with your BESTIE \nNo experience necessary. \nguided by local artist Diane Firtell \n$70 per couple includes all materials \nAND \nchocolate covered strawberries full cash bar available \nRESERVATIONS REQUIRED to prepay & reserve your space: diane.firtell@gmail.com
URL:https://lovepittsfield.com/event/paint-your-bestie/
LOCATION:Dottie’s Coffee Lounge\, 444 North Street\, Pittsfield\, MA\, 01201\, United States
CATEGORIES:10x10,art classes
ATTACH;FMTTYPE=image/jpeg:https://lovepittsfield.com/wp-content/uploads/2026/01/paint-your-bestie.jpg
END:VEVENT
BEGIN:VEVENT
DTSTART;TZID=America/New_York:20260215T160000
DTEND;TZID=America/New_York:20260215T190000
DTSTAMP:20260423T101425
CREATED:20260115T154344Z
LAST-MODIFIED:20260203T141725Z
UID:10019722-1771171200-1771182000@lovepittsfield.com
SUMMARY:Hot Plate Brewing's 10x10: Berkshire Concert Choir Performance
DESCRIPTION:Beer: Instruction to Slay Mixed Fermentation Ale with Elderflower \nEvent: Berkshire Concert Choir Performance (4pm) \nInspired by the writings of Zosimos of Panopolis\, the first author to ever write about alchemy\, this mixed fermentation ale features an intoxicating mix of yeast strains along with Brettanomyces\, which adds a bit of tartness without being too overpowering. Joining us to celebrate this beer’s debut will be the Berkshire Concert Choir\, whose participation in our 10×10 celebrations has become an annual event. \nEvery year\, in honor of Pittsfield’s 10×10 Upstreet Arts Festival\, we release 10 small batch beers with 10 corresponding launch parties. This year\, we’ve teamed up with local artist Cara Betti for this year’s design\, and we’ve got a great lineup of special beers and events.
URL:https://lovepittsfield.com/event/hot-plate-brewings-10x10-2/
LOCATION:Hot Plate Brewing Company\, 1 School Street\, Pittsfield\, 01201\, United States
CATEGORIES:10x10
ATTACH;FMTTYPE=image/avif:https://lovepittsfield.com/wp-content/uploads/2026/01/9dc761_e6abf30195f24f2eaa924541f574d422mv2.avif
END:VEVENT
END:VCALENDAR