BEGIN:VCALENDAR
VERSION:2.0
PRODID:-//Love Pittsfield MA - ECPv6.15.20//NONSGML v1.0//EN
CALSCALE:GREGORIAN
METHOD:PUBLISH
X-ORIGINAL-URL:https://lovepittsfield.com
X-WR-CALDESC:Events for Love Pittsfield MA
REFRESH-INTERVAL;VALUE=DURATION:PT1H
X-Robots-Tag:noindex
X-PUBLISHED-TTL:PT1H
BEGIN:VTIMEZONE
TZID:America/New_York
BEGIN:DAYLIGHT
TZOFFSETFROM:-0500
TZOFFSETTO:-0400
TZNAME:EDT
DTSTART:20250309T070000
END:DAYLIGHT
BEGIN:STANDARD
TZOFFSETFROM:-0400
TZOFFSETTO:-0500
TZNAME:EST
DTSTART:20251102T060000
END:STANDARD
BEGIN:DAYLIGHT
TZOFFSETFROM:-0500
TZOFFSETTO:-0400
TZNAME:EDT
DTSTART:20260308T070000
END:DAYLIGHT
BEGIN:STANDARD
TZOFFSETFROM:-0400
TZOFFSETTO:-0500
TZNAME:EST
DTSTART:20261101T060000
END:STANDARD
BEGIN:DAYLIGHT
TZOFFSETFROM:-0500
TZOFFSETTO:-0400
TZNAME:EDT
DTSTART:20270314T070000
END:DAYLIGHT
BEGIN:STANDARD
TZOFFSETFROM:-0400
TZOFFSETTO:-0500
TZNAME:EST
DTSTART:20271107T060000
END:STANDARD
END:VTIMEZONE
BEGIN:VEVENT
DTSTART;TZID=America/New_York:20260129T180000
DTEND;TZID=America/New_York:20260129T200000
DTSTAMP:20260422T102901
CREATED:20260108T150706Z
LAST-MODIFIED:20260108T150706Z
UID:10019617-1769709600-1769716800@lovepittsfield.com
SUMMARY:Crafting & Karaoke
DESCRIPTION:Monthly Fun at WANDER: Crafting & Karaoke! 🎨🎤 \n\nJoin us this month for a double dose of fun! Craft with Casi and make your own Shrinky Dink keychains of joy—bring back that 90’s magic as your creations shrink before your eyes. Then\, sing your heart out with Ash during karaoke! \nThis event is free to attend\, with a suggested $5 donation for the craft. Come for the creativity\, stay for the laughs\, and leave with a little 90’s nostalgia in your pocket!
URL:https://lovepittsfield.com/event/crafting-karaoke/
LOCATION:WANDER Berkshires\, 34 Depot Street\, Pittsfield\, MA\, 01201\, United States
CATEGORIES:art classes,Arts
ATTACH;FMTTYPE=image/webp:https://lovepittsfield.com/wp-content/uploads/2026/01/WANDEREVENTS-2026-01-07T120908.978.webp
END:VEVENT
BEGIN:VEVENT
DTSTART;TZID=America/New_York:20260129T180000
DTEND;TZID=America/New_York:20260129T200000
DTSTAMP:20260422T102901
CREATED:20260122T142835Z
LAST-MODIFIED:20260122T142835Z
UID:10019751-1769709600-1769716800@lovepittsfield.com
SUMMARY:Paint a Pot Workshop
DESCRIPTION:Paint a Pot with artist Mike Carty ! Join us for an evening custom painting a terracotta pot for your plants! Mike will guide you in creating a spray painted background\, and all creative materials will be available to you. \nREGISTER AT WWW.SOLARIUMPLANTSHOP.COM
URL:https://lovepittsfield.com/event/paint-a-pot-workshop/
LOCATION:Solarium Plant Shop\, 46 West Street\, Pittsfield\, MA\, 01201-7362\, United States
CATEGORIES:art classes
ATTACH;FMTTYPE=image/png:https://lovepittsfield.com/wp-content/uploads/2026/01/Screenshot-2026-01-22-at-9.23.11-AM.png
END:VEVENT
END:VCALENDAR