BEGIN:VCALENDAR
VERSION:2.0
PRODID:-//Love Pittsfield MA - ECPv6.15.20//NONSGML v1.0//EN
CALSCALE:GREGORIAN
METHOD:PUBLISH
X-WR-CALNAME:Love Pittsfield MA
X-ORIGINAL-URL:https://lovepittsfield.com
X-WR-CALDESC:Events for Love Pittsfield MA
REFRESH-INTERVAL;VALUE=DURATION:PT1H
X-Robots-Tag:noindex
X-PUBLISHED-TTL:PT1H
BEGIN:VTIMEZONE
TZID:America/New_York
BEGIN:DAYLIGHT
TZOFFSETFROM:-0500
TZOFFSETTO:-0400
TZNAME:EDT
DTSTART:20240310T070000
END:DAYLIGHT
BEGIN:STANDARD
TZOFFSETFROM:-0400
TZOFFSETTO:-0500
TZNAME:EST
DTSTART:20241103T060000
END:STANDARD
BEGIN:DAYLIGHT
TZOFFSETFROM:-0500
TZOFFSETTO:-0400
TZNAME:EDT
DTSTART:20250309T070000
END:DAYLIGHT
BEGIN:STANDARD
TZOFFSETFROM:-0400
TZOFFSETTO:-0500
TZNAME:EST
DTSTART:20251102T060000
END:STANDARD
BEGIN:DAYLIGHT
TZOFFSETFROM:-0500
TZOFFSETTO:-0400
TZNAME:EDT
DTSTART:20260308T070000
END:DAYLIGHT
BEGIN:STANDARD
TZOFFSETFROM:-0400
TZOFFSETTO:-0500
TZNAME:EST
DTSTART:20261101T060000
END:STANDARD
BEGIN:DAYLIGHT
TZOFFSETFROM:-0500
TZOFFSETTO:-0400
TZNAME:EDT
DTSTART:20270314T070000
END:DAYLIGHT
BEGIN:STANDARD
TZOFFSETFROM:-0400
TZOFFSETTO:-0500
TZNAME:EST
DTSTART:20271107T060000
END:STANDARD
END:VTIMEZONE
BEGIN:VEVENT
DTSTART;TZID=America/New_York:20251231T170000
DTEND;TZID=America/New_York:20260101T000000
DTSTAMP:20260420T185540
CREATED:20251211T142536Z
LAST-MODIFIED:20251211T142536Z
UID:10019361-1767200400-1767225600@lovepittsfield.com
SUMMARY:New Year's Eve Celebration
DESCRIPTION:Ring in the New Year with music provided by Malibu Brothers Band at the Italian American Club.
URL:https://lovepittsfield.com/event/new-years-eve-celebration/
LOCATION:Italian American Club\, 203 Newell Street\, Pittsfield\, MA\, 01201\, United States
CATEGORIES:Holiday
ATTACH;FMTTYPE=image/jpeg:https://lovepittsfield.com/wp-content/uploads/2025/12/596888840_1463287665804809_1687508565280858040_n.jpg
END:VEVENT
BEGIN:VEVENT
DTSTART;TZID=America/New_York:20251231T203000
DTEND;TZID=America/New_York:20260101T003000
DTSTAMP:20260420T185540
CREATED:20250818T133838Z
LAST-MODIFIED:20250818T133838Z
UID:10018739-1767213000-1767227400@lovepittsfield.com
SUMMARY:New Year’s Eve with Max Creek
DESCRIPTION:Ring in the New Year with a Berkshire Tradition! Back by popular demand for a third unforgettable year\, Max Creek returns to The Colonial Theatre this New Year’s Eve! A beloved staple of the Northeast music scene for over five decades\, Max Creek defies categorization—fusing rock\, country\, reggae\, soul\, jazz and calypso into a sound that’s entirely their own. Joyful\, dynamic and endlessly engaging\, their performances are more than concerts—they’re celebrations. \nWith a catalog of more than 200 songs and a reputation for crafting epic\, free-flowing sets on the fly\, Max Creek invites audiences into an experience that’s spontaneous\, heartfelt and alive with connection. Expect everything from soulful ballads to deep jams\, raucous rockers and crowd sing-alongs—all delivered with signature Creek warmth and energy. \nThe core trio—guitarist Scott Murawski\, keyboardist Mark Mercier and bassist John Rider—have been playing together since the mid-1970s\, now joined by powerhouse rhythm section Bill Carbone and Jamemurrell Stanley. Together\, they create a musical family whose sense of camaraderie radiates from the stage and draws in generations of fans. It’s not unusual to see longtime “Creek Freeks” dancing beside their grown kids—or grandkids. \nIn a world where longevity is often tied to stardom\, Max Creek has done things differently. They’ve been big\, small and everything in between—but always authentic. They didn’t follow trends—they followed the music. And in doing so\, they’ve built something enduring\, joyful and completely unique. \nJoin us for a New Year’s Eve celebration filled with music\, community and decades of Creek magic. There’s no better way to welcome 2026 than with a band that’s been bringing the party—and the heart—for more than 50 years.
URL:https://lovepittsfield.com/event/new-years-eve-with-max-creek/
LOCATION:The Colonial Theatre\, 111 South Street\, Pittsfield\, MA\, 01201\, United States
CATEGORIES:Holiday,Live Music
ATTACH;FMTTYPE=image/png:https://lovepittsfield.com/wp-content/uploads/2025/08/12-31-25-Max-Creek_email-header.png
END:VEVENT
BEGIN:VEVENT
DTSTART;TZID=America/New_York:20251231T210000
DTEND;TZID=America/New_York:20260101T003000
DTSTAMP:20260420T185540
CREATED:20251211T141923Z
LAST-MODIFIED:20251211T141923Z
UID:10019360-1767214800-1767227400@lovepittsfield.com
SUMMARY:NYE at Bousquet
DESCRIPTION:Ring in the New Year at Bousquet Mountain’s annual NYE Party! With our music host\, DJ Adam Oam\, a dance floor in the lounge\, and complimentary snacks to get the night going. Enjoy an exclusive champagne toast at midnight to welcome 2025 in style!\nEvent Highlights:\nDate & Time: December 31\, Party from 9 PM – 12:30 AMSkiing + Riding: 9AM – 8PMNYE Party Ages: 21+ only\n Tickets: $39NYE Party at Bousquet has sold out every year!\nGet your tickets today!
URL:https://lovepittsfield.com/event/nye-at-bousquet/
LOCATION:Bousquet Mountain\, 101 Dan Fox Drive\, Pittsfield\, MA\, 01201\, United States
CATEGORIES:Dance
ATTACH;FMTTYPE=image/jpeg:https://lovepittsfield.com/wp-content/uploads/2025/12/596203752_1446118043763170_3955679075361934783_n.jpg
END:VEVENT
END:VCALENDAR