BEGIN:VCALENDAR
VERSION:2.0
PRODID:-//Love Pittsfield MA - ECPv6.15.20//NONSGML v1.0//EN
CALSCALE:GREGORIAN
METHOD:PUBLISH
X-ORIGINAL-URL:https://lovepittsfield.com
X-WR-CALDESC:Events for Love Pittsfield MA
REFRESH-INTERVAL;VALUE=DURATION:PT1H
X-Robots-Tag:noindex
X-PUBLISHED-TTL:PT1H
BEGIN:VTIMEZONE
TZID:America/New_York
BEGIN:DAYLIGHT
TZOFFSETFROM:-0500
TZOFFSETTO:-0400
TZNAME:EDT
DTSTART:20240310T070000
END:DAYLIGHT
BEGIN:STANDARD
TZOFFSETFROM:-0400
TZOFFSETTO:-0500
TZNAME:EST
DTSTART:20241103T060000
END:STANDARD
BEGIN:DAYLIGHT
TZOFFSETFROM:-0500
TZOFFSETTO:-0400
TZNAME:EDT
DTSTART:20250309T070000
END:DAYLIGHT
BEGIN:STANDARD
TZOFFSETFROM:-0400
TZOFFSETTO:-0500
TZNAME:EST
DTSTART:20251102T060000
END:STANDARD
BEGIN:DAYLIGHT
TZOFFSETFROM:-0500
TZOFFSETTO:-0400
TZNAME:EDT
DTSTART:20260308T070000
END:DAYLIGHT
BEGIN:STANDARD
TZOFFSETFROM:-0400
TZOFFSETTO:-0500
TZNAME:EST
DTSTART:20261101T060000
END:STANDARD
END:VTIMEZONE
BEGIN:VEVENT
DTSTART;TZID=America/New_York:20251230T140000
DTEND;TZID=America/New_York:20251230T160000
DTSTAMP:20260422T134342
CREATED:20251211T142836Z
LAST-MODIFIED:20251211T142837Z
UID:10019362-1767103200-1767110400@lovepittsfield.com
SUMMARY:Movie Afternoon Screenings
DESCRIPTION:Join us for “Movie Afternoons” – relaxed\, weekday afternoon movie screenings. This casual program offers adults a comfortable space to unwind\, enjoy a free film\, and spend quiet time alongside others without the pressure to socialize. It’s a welcoming option for adults looking to pass the time and enjoy a movie during their library visit.\nDetails for December 30: Movie: The Holiday Time: 2 pm Location: Berkshire Authors’ Room\nWe hope to see you there!\nPlease note: eating is not permitted in the Berkshire Authors’ Room (no snacks\, open food/drink containers\, etc.). Thank you!
URL:https://lovepittsfield.com/event/movie-afternoon-screenings/
LOCATION:Berkshire Athenaeum\, 1 Wendell Ave.\, Pittsfield\, MA\, 01201\, United States
CATEGORIES:Movie
ATTACH;FMTTYPE=image/jpeg:https://lovepittsfield.com/wp-content/uploads/2025/12/download-1.jpg
END:VEVENT
BEGIN:VEVENT
DTSTART;TZID=America/New_York:20251230T180000
DTEND;TZID=America/New_York:20251230T200000
DTSTAMP:20260422T134342
CREATED:20250717T151735Z
LAST-MODIFIED:20250829T151320Z
UID:10018842-1767117600-1767124800@lovepittsfield.com
SUMMARY:Bella's Monthly Drag Bingo
DESCRIPTION:Bella’s Bingo Ball – Last Tuesday of the month \n\nThis fun-filled evening is more than just a bingo game—it’s a celebration of community\, inclusivity\, and creativity with an intermission performance by Bella Santarella
URL:https://lovepittsfield.com/event/bellas-monthly-drag-bingo-last-tuesday-of-the-month/2025-12-30/
LOCATION:WANDER Berkshires\, 34 Depot Street\, Pittsfield\, MA\, 01201\, United States
ATTACH;FMTTYPE=image/png:https://lovepittsfield.com/wp-content/uploads/2025/07/WANDEREVENTS33-e1756480240862.png
END:VEVENT
BEGIN:VEVENT
DTSTART;TZID=America/New_York:20251230T180000
DTEND;TZID=America/New_York:20251230T200000
DTSTAMP:20260422T134342
CREATED:20250923T185051Z
LAST-MODIFIED:20260406T181019Z
UID:10019043-1767117600-1767124800@lovepittsfield.com
SUMMARY:Figure Drawing at The Lichtenstein
DESCRIPTION:A community group for independent figure drawing from a live model\, held on the 1st and 3rd Tuesday of each month at the Lichtenstein Center for the Arts in Pittsfield (28 Renne Ave) \nArtists should bring their own materials. Please be sure to register early! We will use the registration list to determine whether the group can run and if we may hire a model for the day. \n(In the event that BAC has to cancel a session due to low enrollment\, weather or facility emergencies\, please note will we notify registrants about cancellations via email. Please see our policies on cancellations\, refunds\, and more. \nLOCATION NOTE: Berkshire Art Center’s figure drawing group has moved its location to the Lichtenstein Center for the Arts\, 28 Renne Ave\, Pittsfield.
URL:https://lovepittsfield.com/event/figure-drawing-at-bac-2-2/2025-12-30/
LOCATION:Lichtenstein Center For the Arts\, 28 Renne Ave\, Pittsfield\, MA\, 01201\, United States
CATEGORIES:Arts
ATTACH;FMTTYPE=image/jpeg:https://lovepittsfield.com/wp-content/uploads/2024/10/image0.jpg
END:VEVENT
BEGIN:VEVENT
DTSTART;TZID=America/New_York:20251230T190000
DTEND;TZID=America/New_York:20251230T210000
DTSTAMP:20260422T134342
CREATED:20250106T154511Z
LAST-MODIFIED:20260330T212251Z
UID:10019355-1767121200-1767128400@lovepittsfield.com
SUMMARY:Hot Plate Taproom Trivia
DESCRIPTION:Join Mike in the taproom for another edition of taproom trivia\, where you’ll be able to test your knowledge of literature\, beer & brewing\, sports\, history\, music\, film & tv\, science\, geography\, current events\, and general trivia.
URL:https://lovepittsfield.com/event/hot-plate-taproom-trivia/2025-12-30/
LOCATION:Hot Plate Brewing Company\, 1 School Street\, Pittsfield\, 01201\, United States
CATEGORIES:Trivia
ATTACH;FMTTYPE=image/png:https://lovepittsfield.com/wp-content/uploads/2025/01/Screenshot-2025-05-20-at-11.37.01 AM.png
END:VEVENT
END:VCALENDAR