BEGIN:VCALENDAR
VERSION:2.0
PRODID:-//Love Pittsfield MA - ECPv6.15.20//NONSGML v1.0//EN
CALSCALE:GREGORIAN
METHOD:PUBLISH
X-ORIGINAL-URL:https://lovepittsfield.com
X-WR-CALDESC:Events for Love Pittsfield MA
REFRESH-INTERVAL;VALUE=DURATION:PT1H
X-Robots-Tag:noindex
X-PUBLISHED-TTL:PT1H
BEGIN:VTIMEZONE
TZID:America/New_York
BEGIN:DAYLIGHT
TZOFFSETFROM:-0500
TZOFFSETTO:-0400
TZNAME:EDT
DTSTART:20240310T070000
END:DAYLIGHT
BEGIN:STANDARD
TZOFFSETFROM:-0400
TZOFFSETTO:-0500
TZNAME:EST
DTSTART:20241103T060000
END:STANDARD
BEGIN:DAYLIGHT
TZOFFSETFROM:-0500
TZOFFSETTO:-0400
TZNAME:EDT
DTSTART:20250309T070000
END:DAYLIGHT
BEGIN:STANDARD
TZOFFSETFROM:-0400
TZOFFSETTO:-0500
TZNAME:EST
DTSTART:20251102T060000
END:STANDARD
BEGIN:DAYLIGHT
TZOFFSETFROM:-0500
TZOFFSETTO:-0400
TZNAME:EDT
DTSTART:20260308T070000
END:DAYLIGHT
BEGIN:STANDARD
TZOFFSETFROM:-0400
TZOFFSETTO:-0500
TZNAME:EST
DTSTART:20261101T060000
END:STANDARD
END:VTIMEZONE
BEGIN:VEVENT
DTSTART;TZID=America/New_York:20250701T100000
DTEND;TZID=America/New_York:20250701T113000
DTSTAMP:20260421T113850
CREATED:20250307T182025Z
LAST-MODIFIED:20250425T171417Z
UID:10017427-1751364000-1751369400@lovepittsfield.com
SUMMARY:Art Slam with AITB
DESCRIPTION:Join us for an Art Slam\, a fast-paced\, fun\, and interactive event where artists take the stage to present their work\, share their process\, and engage in conversation—just like a poetry slam\, but for visual art! \n🖌 How it works:\n🎙 Artists have 5 minutes to present their work (live\, we will have an easel; or digitally\, we will have a projector/screen).\n💬 Then\, it’s 5 minutes of feedback\, questions\, or open discussion with the group.\n🎭 Up to 7 artists can present per session. \nAll skill levels and art forms are welcome! Artists must sign up to present\, but everyone is welcome to attend and listen. We need at least 3 artists signed up for the event to happen!
URL:https://lovepittsfield.com/event/art-slam-with-aitb/2025-07-01/
LOCATION:WANDER Berkshires\, 34 Depot Street\, Pittsfield\, MA\, 01201\, United States
CATEGORIES:Arts
ATTACH;FMTTYPE=image/png:https://lovepittsfield.com/wp-content/uploads/2025/03/Artists-4-Artists-AITB-3-Art-Slam_IG.png
END:VEVENT
BEGIN:VEVENT
DTSTART;TZID=America/New_York:20250701T190000
DTEND;TZID=America/New_York:20250701T210000
DTSTAMP:20260421T113850
CREATED:20250106T154511Z
LAST-MODIFIED:20260330T212251Z
UID:10017501-1751396400-1751403600@lovepittsfield.com
SUMMARY:Hot Plate Taproom Trivia
DESCRIPTION:Join Mike in the taproom for another edition of taproom trivia\, where you’ll be able to test your knowledge of literature\, beer & brewing\, sports\, history\, music\, film & tv\, science\, geography\, current events\, and general trivia.
URL:https://lovepittsfield.com/event/hot-plate-taproom-trivia/2025-07-01/
LOCATION:Hot Plate Brewing Company\, 1 School Street\, Pittsfield\, 01201\, United States
CATEGORIES:Trivia
ATTACH;FMTTYPE=image/png:https://lovepittsfield.com/wp-content/uploads/2025/01/Screenshot-2025-05-20-at-11.37.01 AM.png
END:VEVENT
END:VCALENDAR