BEGIN:VCALENDAR
VERSION:2.0
PRODID:-//Love Pittsfield MA - ECPv6.15.20//NONSGML v1.0//EN
CALSCALE:GREGORIAN
METHOD:PUBLISH
X-ORIGINAL-URL:https://lovepittsfield.com
X-WR-CALDESC:Events for Love Pittsfield MA
REFRESH-INTERVAL;VALUE=DURATION:PT1H
X-Robots-Tag:noindex
X-PUBLISHED-TTL:PT1H
BEGIN:VTIMEZONE
TZID:America/New_York
BEGIN:DAYLIGHT
TZOFFSETFROM:-0500
TZOFFSETTO:-0400
TZNAME:EDT
DTSTART:20240310T070000
END:DAYLIGHT
BEGIN:STANDARD
TZOFFSETFROM:-0400
TZOFFSETTO:-0500
TZNAME:EST
DTSTART:20241103T060000
END:STANDARD
BEGIN:DAYLIGHT
TZOFFSETFROM:-0500
TZOFFSETTO:-0400
TZNAME:EDT
DTSTART:20250309T070000
END:DAYLIGHT
BEGIN:STANDARD
TZOFFSETFROM:-0400
TZOFFSETTO:-0500
TZNAME:EST
DTSTART:20251102T060000
END:STANDARD
BEGIN:DAYLIGHT
TZOFFSETFROM:-0500
TZOFFSETTO:-0400
TZNAME:EDT
DTSTART:20260308T070000
END:DAYLIGHT
BEGIN:STANDARD
TZOFFSETFROM:-0400
TZOFFSETTO:-0500
TZNAME:EST
DTSTART:20261101T060000
END:STANDARD
END:VTIMEZONE
BEGIN:VEVENT
DTSTART;TZID=America/New_York:20250627T110000
DTEND;TZID=America/New_York:20250627T150000
DTSTAMP:20260419T092742
CREATED:20250605T181045Z
LAST-MODIFIED:20250605T181621Z
UID:10017838-1751022000-1751036400@lovepittsfield.com
SUMMARY:"Mixed Bag" Art Show by JJ Tobin
DESCRIPTION:The Lichtenstein Center for the Arts\, 28 Renne Avenue\, will present “Mixed Bag” by JJ Tobin\, an abstract art show featuring paintings and sculptures from the past and present\, Friday\, June 6 through Saturday\, June 28. There will be an opening reception with JJ Tobin on Friday\, June 6\, 5 to 8 pm. Gallery hours are Wednesday – Friday\, 11 am to 3 pm. \nThere will be a Closing Artist Reception from 3 to 5 pm on Saturday\, June 28.
URL:https://lovepittsfield.com/event/mixed-bag-art-sho-by-jj-tobin/2025-06-27/
LOCATION:Lichtenstein Center For the Arts\, 28 Renne Ave\, Pittsfield\, MA\, 01201\, United States
CATEGORIES:Arts
ATTACH;FMTTYPE=image/jpeg:https://lovepittsfield.com/wp-content/uploads/2025/05/JJTobin_Socials.jpg
END:VEVENT
BEGIN:VEVENT
DTSTART;TZID=America/New_York:20250627T173000
DTEND;TZID=America/New_York:20250627T183000
DTSTAMP:20260419T092742
CREATED:20250623T134549Z
LAST-MODIFIED:20250623T134550Z
UID:10017919-1751045400-1751049000@lovepittsfield.com
SUMMARY:Ten Poets from the Berkshires & Beyond
DESCRIPTION:Join Straw Dog Writers Guild Poet Lisken Van Pelt Dus along with 9 other poets\, on Friday\, June 27\, for an international poetry reading! Four poets are from the Berkshires\, and six are from across the country and the UK. The reading will begin at 5:30 pm at the Lichtenstein Center for the Arts\, 28 Renne Avenue\, Pittsfield MA.\nFree and accessible. Light refreshments.
URL:https://lovepittsfield.com/event/ten-poets-from-the-berkshires-beyond/
LOCATION:Lichtenstein Center For the Arts\, 28 Renne Ave\, Pittsfield\, MA\, 01201\, United States
CATEGORIES:Readings
ATTACH;FMTTYPE=image/jpeg:https://lovepittsfield.com/wp-content/uploads/2025/06/506307169_10236966067354840_7750162070327647170_n.jpg
END:VEVENT
BEGIN:VEVENT
DTSTART;TZID=America/New_York:20250627T180000
DTEND;TZID=America/New_York:20250627T210000
DTSTAMP:20260419T092742
CREATED:20250623T143133Z
LAST-MODIFIED:20250623T143133Z
UID:10017924-1751047200-1751058000@lovepittsfield.com
SUMMARY:SONG SO WILD AND BLUE: Paul Lisicky Book Reading + Kendra McKinley Performing songs of Joni
DESCRIPTION:SONG SO WILD AND BLUE: A Tribute to Joni Mitchell through Song + Story \n\nThursday\, June 27 | 6–9 PM | WANDER Berkshires \nWANDER invites you to a transcendent night of music and memoir as we honor the legacy of Joni Mitchell—icon\, poet\, and visionary—through a special tribute blending live performance and literary reflection.
URL:https://lovepittsfield.com/event/song-so-wild-and-blue-paul-lisicky-book-reading-kendra-mckinley-performing-songs-of-joni/
LOCATION:WANDER Berkshires\, 34 Depot Street\, Pittsfield\, MA\, 01201\, United States
CATEGORIES:Readings
ATTACH;FMTTYPE=image/jpeg:https://lovepittsfield.com/wp-content/uploads/2025/06/481299219_10161678501772098_4557167705804898486_n.jpg
END:VEVENT
BEGIN:VEVENT
DTSTART;TZID=America/New_York:20250627T190000
DTEND;TZID=America/New_York:20250627T210000
DTSTAMP:20260419T092742
CREATED:20250311T155852Z
LAST-MODIFIED:20250311T155853Z
UID:10014606-1751050800-1751058000@lovepittsfield.com
SUMMARY:Pink Floyd’s The Wall: A Theatrical Concert Experience
DESCRIPTION:Featuring Beyond The Wall with Mike WartellaAfter an electrifying and highly successful run last year\, Berkshire Theatre Group is thrilled to bring back the theatrical concert experience of Pink Floyd’s The Wall to The Colonial Theatre! This unforgettable production returns due to overwhelming demand\, offering audiences another chance to experience the sonic and visual spectacle of one of the most imaginative and influential albums in rock history. Since its 1979 release\, The Wall has captivated generations with its hauntingly powerful narrative of isolation\, fame and self-destruction\, following the fictional protagonist\, “Pink\,” from his post-World War II childhood to his descent into a psychological wall of his own making. The Wall’s themes remain as potent and resonant today as ever\, making this a must-see event for both longtime fans and newcomers alike.This BTG-produced concert event transforms the Colonial into an immersive Pink Floyd experience\, featuring BTG alum Mike Wartella and the renowned Pink Floyd tribute band\, Beyond The Wall. Audiences will be enveloped in the album’s legendary soundscape\, brought to life with dazzling visuals\, stunning effects\, and the same musical complexity that has made The Wall a cultural landmark. Whether you missed it last year or can’t wait to relive the magic\, don’t miss this encore presentation of a one-of-a-kind theatrical journey through Pink Floyd’s masterpiece! \nAbout Beyond The Wall \nFormed in 2007\, Beyond The Wall is the region’s premier Pink Floyd tribute band\, dedicated to recreating the legendary sound and spectacle of the iconic rock group. With over 100 years of collective performing experience\, this talented ensemble of five musicians meticulously crafts every detail\, combining music\, lights\, video\, and sound effects to bring audiences a truly authentic Pink Floyd experience. From greatest hits to full-album performances\, Beyond The Wall continues to captivate both rock enthusiasts and devoted Floyd fans alike. Don’t miss this extraordinary night of music and visuals—an encore experience that promises to be even bigger and more breathtaking than before!
URL:https://lovepittsfield.com/event/pink-floyds-the-wall-a-theatrical-concert-experience/2025-06-27/
LOCATION:The Colonial Theatre\, 111 South Street\, Pittsfield\, MA\, 01201\, United States
CATEGORIES:Musical Theatre
ATTACH;FMTTYPE=image/jpeg:https://lovepittsfield.com/wp-content/uploads/2025/03/514ac843-45c9-464c-8c85-625bc92c9e17.jpg
END:VEVENT
END:VCALENDAR