BEGIN:VCALENDAR
VERSION:2.0
PRODID:-//Love Pittsfield MA - ECPv6.15.20//NONSGML v1.0//EN
CALSCALE:GREGORIAN
METHOD:PUBLISH
X-WR-CALNAME:Love Pittsfield MA
X-ORIGINAL-URL:https://lovepittsfield.com
X-WR-CALDESC:Events for Love Pittsfield MA
REFRESH-INTERVAL;VALUE=DURATION:PT1H
X-Robots-Tag:noindex
X-PUBLISHED-TTL:PT1H
BEGIN:VTIMEZONE
TZID:America/New_York
BEGIN:DAYLIGHT
TZOFFSETFROM:-0500
TZOFFSETTO:-0400
TZNAME:EDT
DTSTART:20240310T070000
END:DAYLIGHT
BEGIN:STANDARD
TZOFFSETFROM:-0400
TZOFFSETTO:-0500
TZNAME:EST
DTSTART:20241103T060000
END:STANDARD
BEGIN:DAYLIGHT
TZOFFSETFROM:-0500
TZOFFSETTO:-0400
TZNAME:EDT
DTSTART:20250309T070000
END:DAYLIGHT
BEGIN:STANDARD
TZOFFSETFROM:-0400
TZOFFSETTO:-0500
TZNAME:EST
DTSTART:20251102T060000
END:STANDARD
BEGIN:DAYLIGHT
TZOFFSETFROM:-0500
TZOFFSETTO:-0400
TZNAME:EDT
DTSTART:20260308T070000
END:DAYLIGHT
BEGIN:STANDARD
TZOFFSETFROM:-0400
TZOFFSETTO:-0500
TZNAME:EST
DTSTART:20261101T060000
END:STANDARD
END:VTIMEZONE
BEGIN:VEVENT
DTSTART;TZID=America/New_York:20250612T100000
DTEND;TZID=America/New_York:20250612T110000
DTSTAMP:20260421T143930
CREATED:20241219T161153Z
LAST-MODIFIED:20250124T155517Z
UID:10013459-1749722400-1749726000@lovepittsfield.com
SUMMARY:Preschool STEAM
DESCRIPTION:Join Pittsfield CFCE for a free playgroup for children ages 3-5. Come explore the world of Science\, Technology\, Engineering\, Art and Math with your preschool age child. This program will investigate a different topic through books\, hands on activities\, and play. All families will receive learning activities to take home. \nÚnase a Pittsfield CFCE para un grupo de juego gratuito para niños de 3 a 5 años. Venga a explorar el mundo de la ciencia\, la tecnología\, la ingeniería\, el arte y las matemáticas con su hijo en edad preescolar. Este programa investigará un tema diferente a través de libros\, actividades prácticas y juegos. Todas las familias recibirán actividades de aprendizaje para llevar a casa. \nChildren under the age of 10 must be accompanied by an adult 18+ at all times. \nFor more information call the Children’s Library: (413) 499–9480\, ext. 203 or Jenn Faulconer\, CFCE Coordinator at (413) 441–0974.
URL:https://lovepittsfield.com/event/preschool-steam-2/2025-06-12/
LOCATION:Berkshire Athenaeum\, 1 Wendell Ave.\, Pittsfield\, MA\, 01201\, United States
CATEGORIES:Education,Kids Activities,Literacy,Readings
ATTACH;FMTTYPE=image/png:https://lovepittsfield.com/wp-content/uploads/2024/12/3-49.png
ORGANIZER;CN="Berkshire Athenaeum":MAILTO:info@pittsfieldlibrary.org
END:VEVENT
BEGIN:VEVENT
DTSTART;TZID=America/New_York:20250612T110000
DTEND;TZID=America/New_York:20250612T150000
DTSTAMP:20260421T143930
CREATED:20250605T181045Z
LAST-MODIFIED:20250605T181621Z
UID:10017832-1749726000-1749740400@lovepittsfield.com
SUMMARY:"Mixed Bag" Art Show by JJ Tobin
DESCRIPTION:The Lichtenstein Center for the Arts\, 28 Renne Avenue\, will present “Mixed Bag” by JJ Tobin\, an abstract art show featuring paintings and sculptures from the past and present\, Friday\, June 6 through Saturday\, June 28. There will be an opening reception with JJ Tobin on Friday\, June 6\, 5 to 8 pm. Gallery hours are Wednesday – Friday\, 11 am to 3 pm. \nThere will be a Closing Artist Reception from 3 to 5 pm on Saturday\, June 28.
URL:https://lovepittsfield.com/event/mixed-bag-art-sho-by-jj-tobin/2025-06-12/
LOCATION:Lichtenstein Center For the Arts\, 28 Renne Ave\, Pittsfield\, MA\, 01201\, United States
CATEGORIES:Arts
ATTACH;FMTTYPE=image/jpeg:https://lovepittsfield.com/wp-content/uploads/2025/05/JJTobin_Socials.jpg
END:VEVENT
BEGIN:VEVENT
DTSTART;TZID=America/New_York:20250612T190000
DTEND;TZID=America/New_York:20250612T203000
DTSTAMP:20260421T143930
CREATED:20250527T153134Z
LAST-MODIFIED:20250527T153134Z
UID:10017784-1749754800-1749760200@lovepittsfield.com
SUMMARY:Jacobs Pillow: Parading through Culture
DESCRIPTION:Afro Latin Jazz and Soul Experience – Community Residency with Sekou McMiller & Friends\nParading through Culture: A Community Gathering about Celebration\, Ritual\, and Movement\nCommon Room\, Zion Lutheran Church | 7-8:30pm\nThis dynamic session invites participants to explore the many ways family\, community\, and culture express themselves through celebration\, ritual\, and parade. Rooted in conversation and celebration\, this experience opens up space for sharing personal and collective traditions—those that shape our identities and connect us across generations and borders. Using the vibrant traditions of the African Diaspora as a focal point—including Uruguay’s candombe parades\, Mardi Gras\, Carnival\, and Salsa dance parties—we’ll explore the power of parading as both a cultural expression and a form of joy\, resistance\, and unity. The session will culminate in a collaborative social dance space\, where the stories and rhythms we’ve explored come to life through music and movement – a living parade of culture\, creativity\, and connection. \nJacob’s Pillow welcomes Sekou McMiller’s Afro Latin Jazz and Soul Experience to Pittsfield for a multi-day community residency. This dynamic series of movement workshops\, listening sessions\, and dance parties\, led by Sekou and his collaborators Adriel Flete\, Khary Kamau\, and Miriam Gallardo\, will immerse participants in themes from his upcoming premiere Urban Love Suite\, which will be performed during Week 6 of the Festival. The residency will explore the joy of celebration\, parades\, and rituals across cultures\, from Mardi Gras in New Orleans to Carnival in Trinidad and other global festivities. Participants of all ages are invited to join in the fun\, learn\, and celebrate through movement and sound.
URL:https://lovepittsfield.com/event/jacobs-pillow-parading-through-culture/
LOCATION:Zion Lutheran Church\, 74 1st Street\, Pittsfield\, MA\, 01201\, United States
CATEGORIES:Dance
ATTACH;FMTTYPE=image/jpeg:https://lovepittsfield.com/wp-content/uploads/2025/05/unnamed.jpg
END:VEVENT
BEGIN:VEVENT
DTSTART;TZID=America/New_York:20250612T193000
DTEND;TZID=America/New_York:20250612T213000
DTSTAMP:20260421T143930
CREATED:20250521T150026Z
LAST-MODIFIED:20250521T150127Z
UID:10017682-1749756600-1749763800@lovepittsfield.com
SUMMARY:N/A: The Play
DESCRIPTION:Be a fly on the wall for a riveting Congressional clash of wills. A trailblazing Speaker of the House and a junior firebrand go toe-to-toe in this witty\, whip-smart two-hander. \nBy MARIO CORREA\nDirected by KATIE BIRENBOIM\nStarring DIANE GUERRERO and KELLY LESTER \nJUNE 4- JUNE 22 | ST. GERMAIN STAGE\nShow times are as follows:* \nWednesdays: 7pm\nThursdays: 2pm & 7:30pm\nFridays: 7:30pm\nSaturdays: 2pm & 7:30pm\nSundays: 3pm \n*Show times are subject to change
URL:https://lovepittsfield.com/event/n-a-the-play-2/2025-06-12/
LOCATION:Barrington Stage Company: Boyd-Quinson Stage\, 30 Union Street\, Pittsfield\, MA\, 01201\, United States
CATEGORIES:Theater
ATTACH;FMTTYPE=image/png:https://lovepittsfield.com/wp-content/uploads/2025/05/2025_Square_Icons_N-A_Icon-1200x1117-1.png
END:VEVENT
END:VCALENDAR