BEGIN:VCALENDAR
VERSION:2.0
PRODID:-//Love Pittsfield MA - ECPv6.15.20//NONSGML v1.0//EN
CALSCALE:GREGORIAN
METHOD:PUBLISH
X-WR-CALNAME:Love Pittsfield MA
X-ORIGINAL-URL:https://lovepittsfield.com
X-WR-CALDESC:Events for Love Pittsfield MA
REFRESH-INTERVAL;VALUE=DURATION:PT1H
X-Robots-Tag:noindex
X-PUBLISHED-TTL:PT1H
BEGIN:VTIMEZONE
TZID:America/New_York
BEGIN:DAYLIGHT
TZOFFSETFROM:-0500
TZOFFSETTO:-0400
TZNAME:EDT
DTSTART:20240310T070000
END:DAYLIGHT
BEGIN:STANDARD
TZOFFSETFROM:-0400
TZOFFSETTO:-0500
TZNAME:EST
DTSTART:20241103T060000
END:STANDARD
BEGIN:DAYLIGHT
TZOFFSETFROM:-0500
TZOFFSETTO:-0400
TZNAME:EDT
DTSTART:20250309T070000
END:DAYLIGHT
BEGIN:STANDARD
TZOFFSETFROM:-0400
TZOFFSETTO:-0500
TZNAME:EST
DTSTART:20251102T060000
END:STANDARD
BEGIN:DAYLIGHT
TZOFFSETFROM:-0500
TZOFFSETTO:-0400
TZNAME:EDT
DTSTART:20260308T070000
END:DAYLIGHT
BEGIN:STANDARD
TZOFFSETFROM:-0400
TZOFFSETTO:-0500
TZNAME:EST
DTSTART:20261101T060000
END:STANDARD
END:VTIMEZONE
BEGIN:VEVENT
DTSTART;TZID=America/New_York:20250604T170000
DTEND;TZID=America/New_York:20250604T200000
DTSTAMP:20260419T081603
CREATED:20250527T151516Z
LAST-MODIFIED:20250527T151517Z
UID:10017780-1749056400-1749067200@lovepittsfield.com
SUMMARY:First cruise night of the season!!
DESCRIPTION:Cruise Night at the Pittsfield Airport \n 5pm-8pm Family friendly! Free admission All types of vehicles welcome!\nThere will be music and food trucks if you’d like to grab a bite to eat.\nCome join us and check out some awesome rides while you’re here!\nAnd don’t forget to share this event with your friends!
URL:https://lovepittsfield.com/event/first-cruise-night-of-the-season/
LOCATION:Pittsfield Airport\, 832 Tamarack Road\, Pittsfield\, MA\, 01201\, United States
ATTACH;FMTTYPE=image/png:https://lovepittsfield.com/wp-content/uploads/2025/05/Screenshot-2025-05-27-at-11.12.44 AM.png
END:VEVENT
BEGIN:VEVENT
DTSTART;TZID=America/New_York:20250604T183000
DTEND;TZID=America/New_York:20250604T210000
DTSTAMP:20260419T081603
CREATED:20250320T152937Z
LAST-MODIFIED:20250320T152942Z
UID:10016786-1749061800-1749070800@lovepittsfield.com
SUMMARY:Silent Book Club
DESCRIPTION:The SBC Berkshires will be back at Hot Plate Brewing\, Co. for our August meeting. If you are looking for something to do\, come by and join us with your books\, snacks\, and maybe a friend/loved one.\nThanks to Hot Plate for being our monthly venue host. Please feel free to order or bring in your own snacks/food.\nA variety of non-alcoholic and non-beer options are available for purchase\, and families are welcome!\nWe will meet every THIRD Sunday afternoon.
URL:https://lovepittsfield.com/event/silent-book-club-2/2025-06-04/
LOCATION:Hot Plate Brewing Company\, 1 School Street\, Pittsfield\, 01201\, United States
ATTACH;FMTTYPE=image/jpeg:https://lovepittsfield.com/wp-content/uploads/2024/10/452149310_122143662260250555_6830698244166565930_n.jpg
END:VEVENT
BEGIN:VEVENT
DTSTART;TZID=America/New_York:20250604T190000
DTEND;TZID=America/New_York:20250604T210000
DTSTAMP:20260419T081603
CREATED:20250521T145323Z
LAST-MODIFIED:20250521T145323Z
UID:10017565-1749063600-1749070800@lovepittsfield.com
SUMMARY:Eisenhower: This Piece of Ground
DESCRIPTION:Tony Award® winner John Rubinstein stars in a one-man tour de force about the five-star President who put people over party. \n 
URL:https://lovepittsfield.com/event/eisenhower-this-piece-of-ground/2025-06-04/
LOCATION:Barrington Stage Company: Boyd-Quinson Stage\, 30 Union Street\, Pittsfield\, MA\, 01201\, United States
CATEGORIES:Theater
ATTACH;FMTTYPE=image/png:https://lovepittsfield.com/wp-content/uploads/2025/05/2025_Square_Icons_EISEN_Icon.png
END:VEVENT
BEGIN:VEVENT
DTSTART;TZID=America/New_York:20250604T190000
DTEND;TZID=America/New_York:20250604T210000
DTSTAMP:20260419T081603
CREATED:20250521T145834Z
LAST-MODIFIED:20250521T150145Z
UID:10017571-1749063600-1749070800@lovepittsfield.com
SUMMARY:N/A: The Play
DESCRIPTION:Be a fly on the wall for a riveting Congressional clash of wills. A trailblazing Speaker of the House and a junior firebrand go toe-to-toe in this witty\, whip-smart two-hander. \nBy MARIO CORREA\nDirected by KATIE BIRENBOIM\nStarring DIANE GUERRERO and KELLY LESTER \nJUNE 4- JUNE 22 | ST. GERMAIN STAGE\nShow times are as follows:* \nWednesdays: 7pm\nThursdays: 2pm & 7:30pm\nFridays: 7:30pm\nSaturdays: 2pm & 7:30pm\nSundays: 3pm \n*Show times are subject to change
URL:https://lovepittsfield.com/event/n-a-the-play/2025-06-04/
LOCATION:Barrington Stage Company: Boyd-Quinson Stage\, 30 Union Street\, Pittsfield\, MA\, 01201\, United States
CATEGORIES:Theater
ATTACH;FMTTYPE=image/png:https://lovepittsfield.com/wp-content/uploads/2025/05/2025_Square_Icons_N-A_Icon-1200x1117-1.png
END:VEVENT
BEGIN:VEVENT
DTSTART;TZID=America/New_York:20250604T190000
DTEND;TZID=America/New_York:20250604T213000
DTSTAMP:20260419T081603
CREATED:20250325T163405Z
LAST-MODIFIED:20250325T163407Z
UID:10016852-1749063600-1749072600@lovepittsfield.com
SUMMARY:Thistle and Mirth Trivia Night!
DESCRIPTION:Each group will be given a score sheet for each round and a pen. They will have to write their group names at the top of the score sheet. While the questions are being call for each round groups must put their cell phones away or face down in the middle of the table.Any group caught using electronic devices to cheat will be disqualified. There are six rounds of the game with 5 questions in each round which are worth one point each. The game ends with a bonus round with one question worth 5 points. In the event of a tie there will be addition rounds to act as a tie breaker.The categories of the questions can rotate weekly by will include things like arts and entertainment\, history\, sports\, literature\, geography\, etc
URL:https://lovepittsfield.com/event/thistle-n-mirth-trivia-night-2/2025-06-04/
LOCATION:Thistle and Mirth\, 44 West Street\, Pittsfield\, MA\, 01201\, United States
CATEGORIES:Trivia
ATTACH;FMTTYPE=image/jpeg:https://lovepittsfield.com/wp-content/uploads/2025/01/474584109_1242202231245583_2295123432189508673_n.jpg
END:VEVENT
END:VCALENDAR