BEGIN:VCALENDAR
VERSION:2.0
PRODID:-//Love Pittsfield MA - ECPv6.15.20//NONSGML v1.0//EN
CALSCALE:GREGORIAN
METHOD:PUBLISH
X-WR-CALNAME:Love Pittsfield MA
X-ORIGINAL-URL:https://lovepittsfield.com
X-WR-CALDESC:Events for Love Pittsfield MA
REFRESH-INTERVAL;VALUE=DURATION:PT1H
X-Robots-Tag:noindex
X-PUBLISHED-TTL:PT1H
BEGIN:VTIMEZONE
TZID:America/New_York
BEGIN:DAYLIGHT
TZOFFSETFROM:-0500
TZOFFSETTO:-0400
TZNAME:EDT
DTSTART:20240310T070000
END:DAYLIGHT
BEGIN:STANDARD
TZOFFSETFROM:-0400
TZOFFSETTO:-0500
TZNAME:EST
DTSTART:20241103T060000
END:STANDARD
BEGIN:DAYLIGHT
TZOFFSETFROM:-0500
TZOFFSETTO:-0400
TZNAME:EDT
DTSTART:20250309T070000
END:DAYLIGHT
BEGIN:STANDARD
TZOFFSETFROM:-0400
TZOFFSETTO:-0500
TZNAME:EST
DTSTART:20251102T060000
END:STANDARD
BEGIN:DAYLIGHT
TZOFFSETFROM:-0500
TZOFFSETTO:-0400
TZNAME:EDT
DTSTART:20260308T070000
END:DAYLIGHT
BEGIN:STANDARD
TZOFFSETFROM:-0400
TZOFFSETTO:-0500
TZNAME:EST
DTSTART:20261101T060000
END:STANDARD
END:VTIMEZONE
BEGIN:VEVENT
DTSTART;TZID=America/New_York:20250527T150000
DTEND;TZID=America/New_York:20250527T163000
DTSTAMP:20260422T132836
CREATED:20241125T152819Z
LAST-MODIFIED:20241125T152819Z
UID:10012646-1748358000-1748363400@lovepittsfield.com
SUMMARY:LEGO Club
DESCRIPTION:Join us for afterschool LEGO building fun with the library’s huge collection of LEGO Bricks! Best for ages 6-10. Youth will have opportunities for free play\, cooperative building\, a LEGO challenge\, and a time for sharing. No registration required\, siblings welcome. \n¡Venga y construya con la enorme colección de ladrillos LEGO de biblioteca! Sugerido para niños de 6 a 10 años. \nChildren under the age of 10 must be accompanied by an adult 18+ at all times.\nFor more information call the Children’s Library: 413-499-9480\, ext. 5.
URL:https://lovepittsfield.com/event/lego-club-2/2025-05-27/
LOCATION:Berkshire Athenaeum\, 1 Wendell Ave.\, Pittsfield\, MA\, 01201\, United States
CATEGORIES:Education,Kids Activities
ATTACH;FMTTYPE=image/png:https://lovepittsfield.com/wp-content/uploads/2024/11/7-45.png
ORGANIZER;CN="Berkshire Athenaeum":MAILTO:info@pittsfieldlibrary.org
END:VEVENT
BEGIN:VEVENT
DTSTART;TZID=America/New_York:20250527T180000
DTEND;TZID=America/New_York:20250527T200000
DTSTAMP:20260422T132836
CREATED:20250514T140400Z
LAST-MODIFIED:20250514T140401Z
UID:10017514-1748368800-1748376000@lovepittsfield.com
SUMMARY:Flowering Serving Board Fundraiser for Berkshire Carousel
DESCRIPTION:Welcome to the Flower Serving Board Fundraiser event happening on Tuesday\, May 27th at 6:00pm at Zucchini’s Restaurant! Join us for a fun evening of crafting beautiful flower serving boards while supporting a great place\, The Berkshire Carousel. Get creative with your designs and enjoy some delicious snacks and drinks. Don’t miss out on this opportunity to give back and have a blast with friends and family. See you there!\nEach ticket includes:\nA serving boardFlowers\, resin & other suppliesA donation to The Berkshire Carousel
URL:https://lovepittsfield.com/event/flowering-serving-board-fundraiser-for-berkshire-carousel/
LOCATION:Zucchini’s Restaurant\, 1331 North Street\, Pittsfield\, MA\, 01201\, United States
CATEGORIES:Arts
ATTACH;FMTTYPE=image/jpeg:https://lovepittsfield.com/wp-content/uploads/2025/05/494796518_122191316870266714_7139116363691050898_n.jpg
END:VEVENT
BEGIN:VEVENT
DTSTART;TZID=America/New_York:20250527T210000
DTEND;TZID=America/New_York:20250527T230000
DTSTAMP:20260422T132836
CREATED:20250129T185111Z
LAST-MODIFIED:20250304T170106Z
UID:10014180-1748379600-1748386800@lovepittsfield.com
SUMMARY:Karaoke at Thistle and Mirth
DESCRIPTION:This is your moment to practice for AGT.\nKaraoke starts @ 9!
URL:https://lovepittsfield.com/event/karaoke-at-thistle-and-mirth/2025-05-27/
LOCATION:Thistle and Mirth\, 44 West Street\, Pittsfield\, MA\, 01201\, United States
CATEGORIES:Live Music
ATTACH;FMTTYPE=image/jpeg:https://lovepittsfield.com/wp-content/uploads/2025/01/474535763_1242236041242202_3368647784600003536_n.jpg
END:VEVENT
END:VCALENDAR