BEGIN:VCALENDAR
VERSION:2.0
PRODID:-//Love Pittsfield MA - ECPv6.15.20//NONSGML v1.0//EN
CALSCALE:GREGORIAN
METHOD:PUBLISH
X-ORIGINAL-URL:https://lovepittsfield.com
X-WR-CALDESC:Events for Love Pittsfield MA
REFRESH-INTERVAL;VALUE=DURATION:PT1H
X-Robots-Tag:noindex
X-PUBLISHED-TTL:PT1H
BEGIN:VTIMEZONE
TZID:America/New_York
BEGIN:DAYLIGHT
TZOFFSETFROM:-0500
TZOFFSETTO:-0400
TZNAME:EDT
DTSTART:20240310T070000
END:DAYLIGHT
BEGIN:STANDARD
TZOFFSETFROM:-0400
TZOFFSETTO:-0500
TZNAME:EST
DTSTART:20241103T060000
END:STANDARD
BEGIN:DAYLIGHT
TZOFFSETFROM:-0500
TZOFFSETTO:-0400
TZNAME:EDT
DTSTART:20250309T070000
END:DAYLIGHT
BEGIN:STANDARD
TZOFFSETFROM:-0400
TZOFFSETTO:-0500
TZNAME:EST
DTSTART:20251102T060000
END:STANDARD
BEGIN:DAYLIGHT
TZOFFSETFROM:-0500
TZOFFSETTO:-0400
TZNAME:EDT
DTSTART:20260308T070000
END:DAYLIGHT
BEGIN:STANDARD
TZOFFSETFROM:-0400
TZOFFSETTO:-0500
TZNAME:EST
DTSTART:20261101T060000
END:STANDARD
END:VTIMEZONE
BEGIN:VEVENT
DTSTART;TZID=America/New_York:20250516T180000
DTEND;TZID=America/New_York:20250516T210000
DTSTAMP:20260421T144152
CREATED:20250513T152130Z
LAST-MODIFIED:20250513T152131Z
UID:10017493-1747418400-1747429200@lovepittsfield.com
SUMMARY:The John and Pug Show
DESCRIPTION:2-9p Dinner Service available 6-9p Live Music featuring the Pug and John Show Full Cash Bar till…..\nJohn Temple Zarvis and Pug Demary are the Pug and John Show. Both share a deep passion for iconic songs featuring classic guitar duos and expressive vocal harmonies. Their byline is “Music from Everywhere!”\nServing breakfast lunch and dinner 5 days a week. Monday closed Tuesday – Thursday 7a-7p\, (dinner service 2-7p) Friday 7a-till…….. (dinner service 2-9p) Saturday 8a-till ……(dinner service 2-9p) Sunday (cafe open at  Brunch 9-2p\, live music 10-noon\nOpen holidays at 8am and closed Thanksgiving Day\, Christmas Day and New Year’s Day. coffee & cash bar\, indoor and patio\, Doordash and takeout service available till closing\n1 413 443 1792 www.dottiescoffeelounge.com Find Dottie’s on Facebook
URL:https://lovepittsfield.com/event/the-john-and-pug-show/
LOCATION:Dottie’s Coffee Lounge\, 444 North Street\, Pittsfield\, MA\, 01201\, United States
CATEGORIES:Live Music
ATTACH;FMTTYPE=image/jpeg:https://lovepittsfield.com/wp-content/uploads/2025/05/493140399_693796199858392_2197384282598752227_n.jpg
END:VEVENT
END:VCALENDAR