BEGIN:VCALENDAR
VERSION:2.0
PRODID:-//Love Pittsfield MA - ECPv6.15.20//NONSGML v1.0//EN
CALSCALE:GREGORIAN
METHOD:PUBLISH
X-WR-CALNAME:Love Pittsfield MA
X-ORIGINAL-URL:https://lovepittsfield.com
X-WR-CALDESC:Events for Love Pittsfield MA
REFRESH-INTERVAL;VALUE=DURATION:PT1H
X-Robots-Tag:noindex
X-PUBLISHED-TTL:PT1H
BEGIN:VTIMEZONE
TZID:America/New_York
BEGIN:DAYLIGHT
TZOFFSETFROM:-0500
TZOFFSETTO:-0400
TZNAME:EDT
DTSTART:20240310T070000
END:DAYLIGHT
BEGIN:STANDARD
TZOFFSETFROM:-0400
TZOFFSETTO:-0500
TZNAME:EST
DTSTART:20241103T060000
END:STANDARD
BEGIN:DAYLIGHT
TZOFFSETFROM:-0500
TZOFFSETTO:-0400
TZNAME:EDT
DTSTART:20250309T070000
END:DAYLIGHT
BEGIN:STANDARD
TZOFFSETFROM:-0400
TZOFFSETTO:-0500
TZNAME:EST
DTSTART:20251102T060000
END:STANDARD
BEGIN:DAYLIGHT
TZOFFSETFROM:-0500
TZOFFSETTO:-0400
TZNAME:EDT
DTSTART:20260308T070000
END:DAYLIGHT
BEGIN:STANDARD
TZOFFSETFROM:-0400
TZOFFSETTO:-0500
TZNAME:EST
DTSTART:20261101T060000
END:STANDARD
END:VTIMEZONE
BEGIN:VEVENT
DTSTART;TZID=America/New_York:20250515T100000
DTEND;TZID=America/New_York:20250515T110000
DTSTAMP:20260420T152804
CREATED:20241219T161153Z
LAST-MODIFIED:20250124T155517Z
UID:10013455-1747303200-1747306800@lovepittsfield.com
SUMMARY:Preschool STEAM
DESCRIPTION:Join Pittsfield CFCE for a free playgroup for children ages 3-5. Come explore the world of Science\, Technology\, Engineering\, Art and Math with your preschool age child. This program will investigate a different topic through books\, hands on activities\, and play. All families will receive learning activities to take home. \nÚnase a Pittsfield CFCE para un grupo de juego gratuito para niños de 3 a 5 años. Venga a explorar el mundo de la ciencia\, la tecnología\, la ingeniería\, el arte y las matemáticas con su hijo en edad preescolar. Este programa investigará un tema diferente a través de libros\, actividades prácticas y juegos. Todas las familias recibirán actividades de aprendizaje para llevar a casa. \nChildren under the age of 10 must be accompanied by an adult 18+ at all times. \nFor more information call the Children’s Library: (413) 499–9480\, ext. 203 or Jenn Faulconer\, CFCE Coordinator at (413) 441–0974.
URL:https://lovepittsfield.com/event/preschool-steam-2/2025-05-15/
LOCATION:Berkshire Athenaeum\, 1 Wendell Ave.\, Pittsfield\, MA\, 01201\, United States
CATEGORIES:Education,Kids Activities,Literacy,Readings
ATTACH;FMTTYPE=image/png:https://lovepittsfield.com/wp-content/uploads/2024/12/3-49.png
ORGANIZER;CN="Berkshire Athenaeum":MAILTO:info@pittsfieldlibrary.org
END:VEVENT
BEGIN:VEVENT
DTSTART;TZID=America/New_York:20250515T170000
DTEND;TZID=America/New_York:20250515T190000
DTSTAMP:20260420T152804
CREATED:20250116T175851Z
LAST-MODIFIED:20250116T182143Z
UID:10014050-1747328400-1747335600@lovepittsfield.com
SUMMARY:Sip ‘n Stitch Social
DESCRIPTION:Calling all crafters\, creators\, and curious souls! Join us at Witch Slapped every Thursday evening for our Sip ‘n Stitch Social. Bring your latest project—whether it’s knitting\, crocheting\, embroidery\, or another craft—and enjoy a cozy\, welcoming space to stitch and sip with kindred spirits. \nB RING YOUR OWN SIP! Sip on tea\, coffee\, or your favorite  beverage\, and let the creativity flow. \nThis is a free\, drop-in event perfect for all skill levels. Whether you’re here to share tips\, get inspired\, or just unwind with a relaxing activity\, there’s a spot for you. \n✨ Let’s create magic\, one stitch at a time!
URL:https://lovepittsfield.com/event/sip-n-stitch-social/2025-05-15/
LOCATION:Witch Slapped\, 78 North Street\, Pittsfield\, MA\, 01201\, United States
CATEGORIES:Arts
ATTACH;FMTTYPE=image/jpeg:https://lovepittsfield.com/wp-content/uploads/2025/01/423312637_912099763940692_7044734864453822739_n.jpg
END:VEVENT
BEGIN:VEVENT
DTSTART;TZID=America/New_York:20250515T193000
DTEND;TZID=America/New_York:20250515T220000
DTSTAMP:20260420T152804
CREATED:20250417T132437Z
LAST-MODIFIED:20250417T132543Z
UID:10017352-1747337400-1747346400@lovepittsfield.com
SUMMARY:Comedian Bob Marley
DESCRIPTION:New England’s King of Comedy is back for one night only. Comedian Bob Marley returns for his 5th straight year with a brand new show. As one of the hottest and most sought-after comedians in the country\, he has been featured in his own special on Comedy Central and has been on over 100 television shows including\, The Late Show with David Letterman\, The Tonight Show with Jay Leno\, Late Night with Conan O’Brien\, The Late Late Show with Craig Ferguson\, The Late Late Show with Craig Kilborn and The Tonight Show Starring Jimmy Fallon. Marley\, a Maine native and University of Maine at Farmington graduate\, uses biographical and observational material for his high-energy routines. \nHe’s featured regularly on Sirius XM radio and he even won their Super Bowl of Comedy. He has put out over 20 comedy CD’s and DVD’s. He was inducted into The Guinness Book of World Records for “the longest stand up comedy show by an individual” at 40 hours of straight stand up. He co-starred in Boondock Saints I and II and All Saints Day playing Detective Greenly. He has toured the U.S.\, Europe\, Canada\, Kuwait and Iraq.
URL:https://lovepittsfield.com/event/comedian-bob-marley/
LOCATION:The Colonial Theatre\, 111 South Street\, Pittsfield\, MA\, 01201\, United States
CATEGORIES:comedy
ATTACH;FMTTYPE=image/jpeg:https://lovepittsfield.com/wp-content/uploads/2025/04/d4f8a6ca-7b28-4442-a7c3-0b22616918cd.jpg
END:VEVENT
BEGIN:VEVENT
DTSTART;TZID=America/New_York:20250515T200000
DTEND;TZID=America/New_York:20250515T230000
DTSTAMP:20260420T152804
CREATED:20250513T151904Z
LAST-MODIFIED:20250513T151904Z
UID:10017492-1747339200-1747350000@lovepittsfield.com
SUMMARY:Pride Night with DJ Pup Daddy
DESCRIPTION:Pride Night w/ DJ Pup Daddy happens every 1st and 3rd Thursdays of the month at Methuselah Bar & Lounge as a safe space for the LGBTQ+ community to socialize\, meet others and dance!\nDJ Pup Daddy is putting the music spotlight on Studio 54 for the May 15th Pride Night and will be spinning disco classics from the 70s along with newer tunes that were influenced by the disco-era!\nPut on those bell bottom jeans and boogie shoes\, then come celebrate Pride with the Berkshire LGBTQ community at the most alternative bar & lounge in Pittsfield!
URL:https://lovepittsfield.com/event/pride-night-with-dj-pup-daddy-6/
LOCATION:Methuselah Bar and Lounge\, 391 North Street\, Pittsfield\, 01201\, United States
CATEGORIES:Live Music
ATTACH;FMTTYPE=image/jpeg:https://lovepittsfield.com/wp-content/uploads/2025/05/488043032_1205699924895779_3362003041438998723_n.jpg
END:VEVENT
END:VCALENDAR