BEGIN:VCALENDAR
VERSION:2.0
PRODID:-//Love Pittsfield MA - ECPv6.15.20//NONSGML v1.0//EN
CALSCALE:GREGORIAN
METHOD:PUBLISH
X-WR-CALNAME:Love Pittsfield MA
X-ORIGINAL-URL:https://lovepittsfield.com
X-WR-CALDESC:Events for Love Pittsfield MA
REFRESH-INTERVAL;VALUE=DURATION:PT1H
X-Robots-Tag:noindex
X-PUBLISHED-TTL:PT1H
BEGIN:VTIMEZONE
TZID:America/New_York
BEGIN:DAYLIGHT
TZOFFSETFROM:-0500
TZOFFSETTO:-0400
TZNAME:EDT
DTSTART:20240310T070000
END:DAYLIGHT
BEGIN:STANDARD
TZOFFSETFROM:-0400
TZOFFSETTO:-0500
TZNAME:EST
DTSTART:20241103T060000
END:STANDARD
BEGIN:DAYLIGHT
TZOFFSETFROM:-0500
TZOFFSETTO:-0400
TZNAME:EDT
DTSTART:20250309T070000
END:DAYLIGHT
BEGIN:STANDARD
TZOFFSETFROM:-0400
TZOFFSETTO:-0500
TZNAME:EST
DTSTART:20251102T060000
END:STANDARD
BEGIN:DAYLIGHT
TZOFFSETFROM:-0500
TZOFFSETTO:-0400
TZNAME:EDT
DTSTART:20260308T070000
END:DAYLIGHT
BEGIN:STANDARD
TZOFFSETFROM:-0400
TZOFFSETTO:-0500
TZNAME:EST
DTSTART:20261101T060000
END:STANDARD
END:VTIMEZONE
BEGIN:VEVENT
DTSTART;TZID=America/New_York:20250503T100000
DTEND;TZID=America/New_York:20250503T120000
DTSTAMP:20260422T070834
CREATED:20250425T163947Z
LAST-MODIFIED:20250425T163948Z
UID:10017419-1746266400-1746273600@lovepittsfield.com
SUMMARY:Printmaking for Young Artists
DESCRIPTION:Printmaking for Young Artists: Monotype Exploration (Ages 10 & Up) – Explore color\, texture\, and line with one-of-a-kind prints! Students will be introduced to the history and basic techniques of monotype printmaking. We’ll experiment with creative stencils and texture tools to build skills that can be applied to a variety of projects. Come learn about ghost prints and gelli plates!
URL:https://lovepittsfield.com/event/printmaking-for-young-artists/
LOCATION:Berkshire Art Center\, 141 North Street\, Pittsfield\, MA\, 01201\, United States
CATEGORIES:Arts
ATTACH;FMTTYPE=image/jpeg:https://lovepittsfield.com/wp-content/uploads/2025/04/IMG_7698.jpg
END:VEVENT
BEGIN:VEVENT
DTSTART;TZID=America/New_York:20250503T110000
DTEND;TZID=America/New_York:20250503T140000
DTSTAMP:20260422T070834
CREATED:20250402T152927Z
LAST-MODIFIED:20250415T165436Z
UID:10016908-1746270000-1746280800@lovepittsfield.com
SUMMARY:Baby Animals Festival
DESCRIPTION:Welcome the arrival of Spring with our BABY ANIMALS FESTIVAL! Meet our newest farm babies – lambs\, piglets\, calves\, chicks and kids (goats\, that is)–and enjoy events and activities throughout the Village\, from daily talks about the farm and the Shakers to craft demonstrations to walks along the Farm & Forest Trail.  To allow enough time for your visit\, please arrive at the Village between 11am-3:00pm. \nGeneral admission is $20 for adults\, $8 for youths ages 13-17 and children 12 and under are free. \nWe also offer a very special BEHIND-THE-SCENES tour each day at 10am! \n\n\nHop aboard our wagon hayride and take your hour-long tour and get all the dirt about our farm from the farmers themselves. Learn about the history of the Shaker Village and farm including little known facts and secrets and pet the newest and cutest members of our family. The tour will take you to see the animals in the Round Stone Barn\, Dairy Ell\, and barnyard where you’ll meet this year’s calves\, lambs\, kids\, piglets\, and chicks. After the tour\, you are welcome to re-visit the barn and explore the rest of the Village\, which opens to the general public at 11 am.
URL:https://lovepittsfield.com/event/baby-animals-festival/2025-05-03/
LOCATION:Hancock Shaker Village\, 1843 West Housatonic St.\, Pittsfield\, MA\, 01201\, United States
CATEGORIES:Kids Activities
ATTACH;FMTTYPE=image/jpeg:https://lovepittsfield.com/wp-content/uploads/2025/04/baby-animals-for-website-page-768x768-1.jpg
END:VEVENT
BEGIN:VEVENT
DTSTART;TZID=America/New_York:20250503T120000
DTEND;TZID=America/New_York:20250503T190000
DTSTAMP:20260422T070834
CREATED:20250422T152148Z
LAST-MODIFIED:20250422T152149Z
UID:10017379-1746273600-1746298800@lovepittsfield.com
SUMMARY:BeatNest Grand Opening & Showcase
DESCRIPTION:Join us for the grand opening of BeatNest’s new downtown Pittsfield location\, followed by an exciting showcase celebrating our students’ hard work and creativity this year! Drop in to check out our new space and stay for the tunes and good vibes!Lineup of performers coming soon!
URL:https://lovepittsfield.com/event/beatnest-grand-opening-showcase/
LOCATION:The BeatNest\, 163 North Street\, Pittsfield\, MA\, 01201\, United States
CATEGORIES:Live Music
ATTACH;FMTTYPE=image/jpeg:https://lovepittsfield.com/wp-content/uploads/2025/04/486682474_636928452565882_3248330761167675485_n.jpg
END:VEVENT
BEGIN:VEVENT
DTSTART;TZID=America/New_York:20250503T190000
DTEND;TZID=America/New_York:20250503T220000
DTSTAMP:20260422T070834
CREATED:20250428T160230Z
LAST-MODIFIED:20250428T160928Z
UID:10017449-1746298800-1746309600@lovepittsfield.com
SUMMARY:The BCC Players present Lucky Stiff
DESCRIPTION:The BCC Players present Lucky Stiff by Lynn Ahrens and Stephen Flaherty\nDirected by Joseph Sicotte\nRobert Boland Theatre at Berkshire Community College \nLucky Stiff is a musical farce in which a British shoe salesman inherits six million dollars from a dead uncle. There’s only one catch: In order to get the money\, he has to take the dead body\, prop it in a wheelchair and take it on one last spree to Monte Carlo. Chaos ensues.\nBuy tickets online or at the door.\nGeneral admission: $15\nBCC employees\, students and alumni: $10\nSeniors: $10 \nClick here to purchase tickets! \nFriday\, May 2 at 7 pm\nSaturday\, May 3 at 7 pm\nSunday\, May 4 at 2 pm\nFriday\, May 9 at 7 pm\nSaturday\, May 10 at 7 pm\nSunday\, May 11 at 2 pm
URL:https://lovepittsfield.com/event/the-bcc-players-present-lucky-stiff/2025-05-03/
LOCATION:Berkshire Community College\, 1350 West Street\, Pittsfield\, MA\, 01201
CATEGORIES:Theater
ATTACH;FMTTYPE=image/png:https://lovepittsfield.com/wp-content/uploads/2025/04/25_LuckyStiff_flyer5.png
END:VEVENT
BEGIN:VEVENT
DTSTART;TZID=America/New_York:20250503T193000
DTEND;TZID=America/New_York:20250503T220000
DTSTAMP:20260422T070834
CREATED:20250417T130057Z
LAST-MODIFIED:20250417T132216Z
UID:10017351-1746300600-1746309600@lovepittsfield.com
SUMMARY:Pittsfield Jazz Festival Presents The Legendary Count Basie Orchestra
DESCRIPTION:Experience the timeless swing of the Count Basie Orchestra as they headline the Pittsfield CityJazz Festival at The Colonial Theatre. Under the masterful direction of Scotty Barnhart\, this legendary ensemble continues to set the gold standard in jazz\, recently earning their 18th Grammy Award for Basie Swings The Blues in 2024. With a rich history of captivating performances for audiences worldwide\, the Count Basie Orchestra’s upcoming concert promises an evening of unparalleled musical excellence. \nAdding to the night’s excitement\, the Berkshires Jazz All Star Youth Ensemble will open the show\, showcasing the region’s emerging talent. Don’t miss this unique opportunity to witness both the future and the legacy of jazz in one unforgettable evening.
URL:https://lovepittsfield.com/event/pittsfield-jazz-festival-presents-the-legendary-count-basie-orchestra/
LOCATION:The Colonial Theatre\, 111 South Street\, Pittsfield\, MA\, 01201\, United States
CATEGORIES:Live Music
ATTACH;FMTTYPE=image/jpeg:https://lovepittsfield.com/wp-content/uploads/2025/04/4ce53884-1b95-4bef-b547-13b35ffe2572.jpg
END:VEVENT
END:VCALENDAR