BEGIN:VCALENDAR
VERSION:2.0
PRODID:-//Love Pittsfield MA - ECPv6.15.20//NONSGML v1.0//EN
CALSCALE:GREGORIAN
METHOD:PUBLISH
X-ORIGINAL-URL:https://lovepittsfield.com
X-WR-CALDESC:Events for Love Pittsfield MA
REFRESH-INTERVAL;VALUE=DURATION:PT1H
X-Robots-Tag:noindex
X-PUBLISHED-TTL:PT1H
BEGIN:VTIMEZONE
TZID:America/New_York
BEGIN:DAYLIGHT
TZOFFSETFROM:-0500
TZOFFSETTO:-0400
TZNAME:EDT
DTSTART:20240310T070000
END:DAYLIGHT
BEGIN:STANDARD
TZOFFSETFROM:-0400
TZOFFSETTO:-0500
TZNAME:EST
DTSTART:20241103T060000
END:STANDARD
BEGIN:DAYLIGHT
TZOFFSETFROM:-0500
TZOFFSETTO:-0400
TZNAME:EDT
DTSTART:20250309T070000
END:DAYLIGHT
BEGIN:STANDARD
TZOFFSETFROM:-0400
TZOFFSETTO:-0500
TZNAME:EST
DTSTART:20251102T060000
END:STANDARD
BEGIN:DAYLIGHT
TZOFFSETFROM:-0500
TZOFFSETTO:-0400
TZNAME:EDT
DTSTART:20260308T070000
END:DAYLIGHT
BEGIN:STANDARD
TZOFFSETFROM:-0400
TZOFFSETTO:-0500
TZNAME:EST
DTSTART:20261101T060000
END:STANDARD
END:VTIMEZONE
BEGIN:VEVENT
DTSTART;TZID=America/New_York:20250429T110000
DTEND;TZID=America/New_York:20250429T140000
DTSTAMP:20260425T081827
CREATED:20250402T152927Z
LAST-MODIFIED:20250415T165436Z
UID:10016904-1745924400-1745935200@lovepittsfield.com
SUMMARY:Baby Animals Festival
DESCRIPTION:Welcome the arrival of Spring with our BABY ANIMALS FESTIVAL! Meet our newest farm babies – lambs\, piglets\, calves\, chicks and kids (goats\, that is)–and enjoy events and activities throughout the Village\, from daily talks about the farm and the Shakers to craft demonstrations to walks along the Farm & Forest Trail.  To allow enough time for your visit\, please arrive at the Village between 11am-3:00pm. \nGeneral admission is $20 for adults\, $8 for youths ages 13-17 and children 12 and under are free. \nWe also offer a very special BEHIND-THE-SCENES tour each day at 10am! \n\n\nHop aboard our wagon hayride and take your hour-long tour and get all the dirt about our farm from the farmers themselves. Learn about the history of the Shaker Village and farm including little known facts and secrets and pet the newest and cutest members of our family. The tour will take you to see the animals in the Round Stone Barn\, Dairy Ell\, and barnyard where you’ll meet this year’s calves\, lambs\, kids\, piglets\, and chicks. After the tour\, you are welcome to re-visit the barn and explore the rest of the Village\, which opens to the general public at 11 am.
URL:https://lovepittsfield.com/event/baby-animals-festival/2025-04-29/
LOCATION:Hancock Shaker Village\, 1843 West Housatonic St.\, Pittsfield\, MA\, 01201\, United States
CATEGORIES:Kids Activities
ATTACH;FMTTYPE=image/jpeg:https://lovepittsfield.com/wp-content/uploads/2025/04/baby-animals-for-website-page-768x768-1.jpg
END:VEVENT
BEGIN:VEVENT
DTSTART;TZID=America/New_York:20250429T150000
DTEND;TZID=America/New_York:20250429T163000
DTSTAMP:20260425T081827
CREATED:20241125T152819Z
LAST-MODIFIED:20241125T152819Z
UID:10012642-1745938800-1745944200@lovepittsfield.com
SUMMARY:LEGO Club
DESCRIPTION:Join us for afterschool LEGO building fun with the library’s huge collection of LEGO Bricks! Best for ages 6-10. Youth will have opportunities for free play\, cooperative building\, a LEGO challenge\, and a time for sharing. No registration required\, siblings welcome. \n¡Venga y construya con la enorme colección de ladrillos LEGO de biblioteca! Sugerido para niños de 6 a 10 años. \nChildren under the age of 10 must be accompanied by an adult 18+ at all times.\nFor more information call the Children’s Library: 413-499-9480\, ext. 5.
URL:https://lovepittsfield.com/event/lego-club-2/2025-04-29/
LOCATION:Berkshire Athenaeum\, 1 Wendell Ave.\, Pittsfield\, MA\, 01201\, United States
CATEGORIES:Education,Kids Activities
ATTACH;FMTTYPE=image/png:https://lovepittsfield.com/wp-content/uploads/2024/11/7-45.png
ORGANIZER;CN="Berkshire Athenaeum":MAILTO:info@pittsfieldlibrary.org
END:VEVENT
BEGIN:VEVENT
DTSTART;TZID=America/New_York:20250429T180000
DTEND;TZID=America/New_York:20250429T210000
DTSTAMP:20260425T081827
CREATED:20250422T145410Z
LAST-MODIFIED:20250422T145410Z
UID:10017371-1745949600-1745960400@lovepittsfield.com
SUMMARY:Bella's Bingo Ball
DESCRIPTION:Round out the month with a night of playful bingo\, fabulous prizes\, and community vibes — hosted by the stunning Bella Santarella! Don’t miss a very special intermission performance by Bella herself — it’s all part of the fun! Whether you’re here to win or just soak up the joy\, all are welcome. Come laugh\, connect\, and shout BINGO! with us.
URL:https://lovepittsfield.com/event/bellas-bingo-ball/
LOCATION:WANDER Berkshires\, 34 Depot Street\, Pittsfield\, MA\, 01201\, United States
ATTACH;FMTTYPE=image/png:https://lovepittsfield.com/wp-content/uploads/2025/04/a93b3a1c-548a-5e03-c733-458bcbc0b242.png
END:VEVENT
BEGIN:VEVENT
DTSTART;TZID=America/New_York:20250429T190000
DTEND;TZID=America/New_York:20250429T210000
DTSTAMP:20260425T081827
CREATED:20250416T154932Z
LAST-MODIFIED:20250416T154932Z
UID:10017348-1745953200-1745960400@lovepittsfield.com
SUMMARY:Learn to Line Dance with Luana
DESCRIPTION:Kick Up Your Heels – It’s Line Dancing Time!Grab your boots and join us for a night of fun\, rhythm\, and good vibes! Whether you’re a seasoned pro or just two-steppin’ for the first time\, everyone’s welcome on the dance floor. Live music\, easy-to-follow moves\, and non-stop fun!No partner needed – just bring your energy and a smile!\nAdmission: $10 paid to instructor. Let’s dance the night away\, country-style!\nIt is also taco Tuesday! Grab two tacos and a margarita for $16.99!
URL:https://lovepittsfield.com/event/learn-to-line-dance-with-luana/
LOCATION:Methuselah Bar and Lounge\, 391 North Street\, Pittsfield\, 01201\, United States
CATEGORIES:Dance
ATTACH;FMTTYPE=image/jpeg:https://lovepittsfield.com/wp-content/uploads/2025/04/490512901_1415724909821522_6464438868161733233_n.jpg
END:VEVENT
BEGIN:VEVENT
DTSTART;TZID=America/New_York:20250429T210000
DTEND;TZID=America/New_York:20250429T230000
DTSTAMP:20260425T081827
CREATED:20250129T185111Z
LAST-MODIFIED:20250304T170106Z
UID:10014176-1745960400-1745967600@lovepittsfield.com
SUMMARY:Karaoke at Thistle and Mirth
DESCRIPTION:This is your moment to practice for AGT.\nKaraoke starts @ 9!
URL:https://lovepittsfield.com/event/karaoke-at-thistle-and-mirth/2025-04-29/
LOCATION:Thistle and Mirth\, 44 West Street\, Pittsfield\, MA\, 01201\, United States
CATEGORIES:Live Music
ATTACH;FMTTYPE=image/jpeg:https://lovepittsfield.com/wp-content/uploads/2025/01/474535763_1242236041242202_3368647784600003536_n.jpg
END:VEVENT
END:VCALENDAR