BEGIN:VCALENDAR
VERSION:2.0
PRODID:-//Love Pittsfield MA - ECPv6.15.20//NONSGML v1.0//EN
CALSCALE:GREGORIAN
METHOD:PUBLISH
X-WR-CALNAME:Love Pittsfield MA
X-ORIGINAL-URL:https://lovepittsfield.com
X-WR-CALDESC:Events for Love Pittsfield MA
REFRESH-INTERVAL;VALUE=DURATION:PT1H
X-Robots-Tag:noindex
X-PUBLISHED-TTL:PT1H
BEGIN:VTIMEZONE
TZID:America/New_York
BEGIN:DAYLIGHT
TZOFFSETFROM:-0500
TZOFFSETTO:-0400
TZNAME:EDT
DTSTART:20240310T070000
END:DAYLIGHT
BEGIN:STANDARD
TZOFFSETFROM:-0400
TZOFFSETTO:-0500
TZNAME:EST
DTSTART:20241103T060000
END:STANDARD
BEGIN:DAYLIGHT
TZOFFSETFROM:-0500
TZOFFSETTO:-0400
TZNAME:EDT
DTSTART:20250309T070000
END:DAYLIGHT
BEGIN:STANDARD
TZOFFSETFROM:-0400
TZOFFSETTO:-0500
TZNAME:EST
DTSTART:20251102T060000
END:STANDARD
BEGIN:DAYLIGHT
TZOFFSETFROM:-0500
TZOFFSETTO:-0400
TZNAME:EDT
DTSTART:20260308T070000
END:DAYLIGHT
BEGIN:STANDARD
TZOFFSETFROM:-0400
TZOFFSETTO:-0500
TZNAME:EST
DTSTART:20261101T060000
END:STANDARD
END:VTIMEZONE
BEGIN:VEVENT
DTSTART;TZID=America/New_York:20250428T110000
DTEND;TZID=America/New_York:20250428T140000
DTSTAMP:20260420T152812
CREATED:20250402T152927Z
LAST-MODIFIED:20250415T165436Z
UID:10016903-1745838000-1745848800@lovepittsfield.com
SUMMARY:Baby Animals Festival
DESCRIPTION:Welcome the arrival of Spring with our BABY ANIMALS FESTIVAL! Meet our newest farm babies – lambs\, piglets\, calves\, chicks and kids (goats\, that is)–and enjoy events and activities throughout the Village\, from daily talks about the farm and the Shakers to craft demonstrations to walks along the Farm & Forest Trail.  To allow enough time for your visit\, please arrive at the Village between 11am-3:00pm. \nGeneral admission is $20 for adults\, $8 for youths ages 13-17 and children 12 and under are free. \nWe also offer a very special BEHIND-THE-SCENES tour each day at 10am! \n\n\nHop aboard our wagon hayride and take your hour-long tour and get all the dirt about our farm from the farmers themselves. Learn about the history of the Shaker Village and farm including little known facts and secrets and pet the newest and cutest members of our family. The tour will take you to see the animals in the Round Stone Barn\, Dairy Ell\, and barnyard where you’ll meet this year’s calves\, lambs\, kids\, piglets\, and chicks. After the tour\, you are welcome to re-visit the barn and explore the rest of the Village\, which opens to the general public at 11 am.
URL:https://lovepittsfield.com/event/baby-animals-festival/2025-04-28/
LOCATION:Hancock Shaker Village\, 1843 West Housatonic St.\, Pittsfield\, MA\, 01201\, United States
CATEGORIES:Kids Activities
ATTACH;FMTTYPE=image/jpeg:https://lovepittsfield.com/wp-content/uploads/2025/04/baby-animals-for-website-page-768x768-1.jpg
END:VEVENT
BEGIN:VEVENT
DTSTART;TZID=America/New_York:20250428T173000
DTEND;TZID=America/New_York:20250428T193000
DTSTAMP:20260420T152812
CREATED:20240923T165931Z
LAST-MODIFIED:20260112T180705Z
UID:10008272-1745861400-1745868600@lovepittsfield.com
SUMMARY:Berkshire Drum Class
DESCRIPTION:West African and Caribbean Hand-Drum weekly Monday evening class with Aimee Gelinas & Daniel Cohen.\n \n• 5:30pm Beginner/Intermediate teen/adult\n• 6:30pm Intermediate/Advanced teen/adult \nClass cost: $10 per class / Drum rentals $5\nEmail aimee@gaiaroots.com for info/to register\n \nMonday evenings at the Lichtenstein Center for the Arts\n \n28 Renne Ave. Pittsfield \n \n  \n 
URL:https://lovepittsfield.com/event/berkshire-drum-class/2025-04-28/
LOCATION:Lichtenstein Center For the Arts\, 28 Renne Ave\, Pittsfield\, MA\, 01201\, United States
ATTACH;FMTTYPE=image/jpeg:https://lovepittsfield.com/wp-content/uploads/2024/09/unnamed-1.jpg
END:VEVENT
BEGIN:VEVENT
DTSTART;TZID=America/New_York:20250428T190000
DTEND;TZID=America/New_York:20250428T220000
DTSTAMP:20260420T152812
CREATED:20250320T170519Z
LAST-MODIFIED:20250320T170520Z
UID:10016840-1745866800-1745877600@lovepittsfield.com
SUMMARY:Spindle Music Bingo
DESCRIPTION:Pup Daddy Productions & Methuselah team up to bring you a monthly Monday night game of SPINDLE (music bingo) w/ DJ Pup Daddy. The music theme for the April 28th game is Back To The 90s! DJ Pup Daddy will randomly play 1-2 minutes of a popular song from the 1990s (think hip hop\, boy bands\, freestyle\, grunge\, pop) and if you have the song on your playing card\, cross it off.\n$5 per playing card and three chances to win prizes:\nSingle SPINDLE: $ & CandyDouble SPINDLE: $$ & CandyBlackout SPINDLE: $$$ & Candy\nPlus Methuselah’s full menu and bar are available throughout the game. So come play SPINDLE w/ DJ Pup Daddy and have a doggone good time!
URL:https://lovepittsfield.com/event/spindle-music-bingo/
LOCATION:Methuselah Bar and Lounge\, 391 North Street\, Pittsfield\, 01201\, United States
ATTACH;FMTTYPE=image/jpeg:https://lovepittsfield.com/wp-content/uploads/2025/03/481776136_1178145264317912_4720883532295460263_n.jpg
END:VEVENT
END:VCALENDAR