BEGIN:VCALENDAR
VERSION:2.0
PRODID:-//Love Pittsfield MA - ECPv6.15.20//NONSGML v1.0//EN
CALSCALE:GREGORIAN
METHOD:PUBLISH
X-WR-CALNAME:Love Pittsfield MA
X-ORIGINAL-URL:https://lovepittsfield.com
X-WR-CALDESC:Events for Love Pittsfield MA
REFRESH-INTERVAL;VALUE=DURATION:PT1H
X-Robots-Tag:noindex
X-PUBLISHED-TTL:PT1H
BEGIN:VTIMEZONE
TZID:America/New_York
BEGIN:DAYLIGHT
TZOFFSETFROM:-0500
TZOFFSETTO:-0400
TZNAME:EDT
DTSTART:20240310T070000
END:DAYLIGHT
BEGIN:STANDARD
TZOFFSETFROM:-0400
TZOFFSETTO:-0500
TZNAME:EST
DTSTART:20241103T060000
END:STANDARD
BEGIN:DAYLIGHT
TZOFFSETFROM:-0500
TZOFFSETTO:-0400
TZNAME:EDT
DTSTART:20250309T070000
END:DAYLIGHT
BEGIN:STANDARD
TZOFFSETFROM:-0400
TZOFFSETTO:-0500
TZNAME:EST
DTSTART:20251102T060000
END:STANDARD
BEGIN:DAYLIGHT
TZOFFSETFROM:-0500
TZOFFSETTO:-0400
TZNAME:EDT
DTSTART:20260308T070000
END:DAYLIGHT
BEGIN:STANDARD
TZOFFSETFROM:-0400
TZOFFSETTO:-0500
TZNAME:EST
DTSTART:20261101T060000
END:STANDARD
END:VTIMEZONE
BEGIN:VEVENT
DTSTART;TZID=America/New_York:20250427T110000
DTEND;TZID=America/New_York:20250427T140000
DTSTAMP:20260421T145742
CREATED:20250402T152927Z
LAST-MODIFIED:20250415T165436Z
UID:10016902-1745751600-1745762400@lovepittsfield.com
SUMMARY:Baby Animals Festival
DESCRIPTION:Welcome the arrival of Spring with our BABY ANIMALS FESTIVAL! Meet our newest farm babies – lambs\, piglets\, calves\, chicks and kids (goats\, that is)–and enjoy events and activities throughout the Village\, from daily talks about the farm and the Shakers to craft demonstrations to walks along the Farm & Forest Trail.  To allow enough time for your visit\, please arrive at the Village between 11am-3:00pm. \nGeneral admission is $20 for adults\, $8 for youths ages 13-17 and children 12 and under are free. \nWe also offer a very special BEHIND-THE-SCENES tour each day at 10am! \n\n\nHop aboard our wagon hayride and take your hour-long tour and get all the dirt about our farm from the farmers themselves. Learn about the history of the Shaker Village and farm including little known facts and secrets and pet the newest and cutest members of our family. The tour will take you to see the animals in the Round Stone Barn\, Dairy Ell\, and barnyard where you’ll meet this year’s calves\, lambs\, kids\, piglets\, and chicks. After the tour\, you are welcome to re-visit the barn and explore the rest of the Village\, which opens to the general public at 11 am.
URL:https://lovepittsfield.com/event/baby-animals-festival/2025-04-27/
LOCATION:Hancock Shaker Village\, 1843 West Housatonic St.\, Pittsfield\, MA\, 01201\, United States
CATEGORIES:Kids Activities
ATTACH;FMTTYPE=image/jpeg:https://lovepittsfield.com/wp-content/uploads/2025/04/baby-animals-for-website-page-768x768-1.jpg
END:VEVENT
BEGIN:VEVENT
DTSTART;TZID=America/New_York:20250427T120000
DTEND;TZID=America/New_York:20250427T140000
DTSTAMP:20260421T145742
CREATED:20250311T154244Z
LAST-MODIFIED:20250311T154244Z
UID:10014215-1745755200-1745762400@lovepittsfield.com
SUMMARY:Roald Dahl’s Matilda The Musical JR.
DESCRIPTION: \n\nFeaturing over 50 Berkshire County and beyond elementary\, middle and high school students. Get ready for an electrifying adventure as Roald Dahl’s Matilda The Musical JR. takes the stage at The Colonial Theatre in Pittsfield! Join Matilda\, a clever and courageous girl with extraordinary gifts\, as she takes a stand against the odds. From her cruel parents to her tyrannical headmistress\, Miss Trunchbull\, Matilda shows that even the smallest voices can spark big changes. With her wit\, intelligence and remarkable courage\, Matilda inspires her classmates and her kindhearted teacher\, Miss Honey\, to stand up for what’s right and proves that “sometimes\, you have to be a little bit naughty” to rewrite your story.Perfect for families and kids aged 7 and up and filled with catchy songs\, high-energy dance numbers and unforgettable characters\, Matilda The Musical JR. is a gleefully witty and inspiring story of resilience\, bravery and girl power that will have audiences of all ages cheering for the “revolting children.” Matilda is ready to teach the grown-ups a lesson—are you ready to join the rebellion? \nRecommended for ages 7 and up.
URL:https://lovepittsfield.com/event/roald-dahls-matilda-the-musical-jr/2025-04-27/
LOCATION:The Colonial Theatre\, 111 South Street\, Pittsfield\, MA\, 01201\, United States
CATEGORIES:Theater
ATTACH;FMTTYPE=image/jpeg:https://lovepittsfield.com/wp-content/uploads/2025/03/189fd328-e8ef-4b3f-bb30-63f504c9a758.jpg
END:VEVENT
BEGIN:VEVENT
DTSTART;TZID=America/New_York:20250427T130000
DTEND;TZID=America/New_York:20250427T150000
DTSTAMP:20260421T145742
CREATED:20250417T152718Z
LAST-MODIFIED:20251211T134307Z
UID:10009792-1745758800-1745766000@lovepittsfield.com
SUMMARY:Silent Book Club
DESCRIPTION:The SBC Berkshires will be back at Hot Plate Brewing\, Co. for our August meeting. If you are looking for something to do\, come by and join us with your books\, snacks\, and maybe a friend/loved one.\n1:00-1:30 – Order your drinks and share what you’re reading1:30-2:30 – Quiet Reading Hour2:30-3:00 – Optional socializing or keep on reading!\nThanks to Hot Plate for being our monthly venue host. Please feel free to order or bring in your own snacks/food.\nA variety of non-alcoholic and non-beer options are available for purchase\, and families are welcome!\nWe will meet every THIRD Sunday afternoon.
URL:https://lovepittsfield.com/event/silent-book-club-3/2025-04-27/
LOCATION:Hot Plate Brewing Company\, 1 School Street\, Pittsfield\, 01201\, United States
ATTACH;FMTTYPE=image/jpeg:https://lovepittsfield.com/wp-content/uploads/2024/10/452149310_122143662260250555_6830698244166565930_n.jpg
END:VEVENT
BEGIN:VEVENT
DTSTART;TZID=America/New_York:20250427T140000
DTEND;TZID=America/New_York:20250427T160000
DTSTAMP:20260421T145742
CREATED:20250320T165942Z
LAST-MODIFIED:20250320T165942Z
UID:10016839-1745762400-1745769600@lovepittsfield.com
SUMMARY:Paint & Sip
DESCRIPTION:Spring! PAINT AND SIP @ Methuselah Bar and Lounge(CANVAS EVENT)$60 PER PERSON INCLUDES ALL PAINTING MATERIALS \, CANVAS & ONE FREE COMPLIMENTARY DRINK\nINSTRUCTED BY STARR VOLKMERNO REFUND UNLESS EVENT IS CANCELLED\nTICKETS ARE AVAILABLE ONLINE AT EVENTBRITE.COM\nFOR MORE INFORMATION OR CALL OR TEXT JONATHAN 1-518-567-6584
URL:https://lovepittsfield.com/event/paint-sip/
LOCATION:Methuselah Bar and Lounge\, 391 North Street\, Pittsfield\, 01201\, United States
CATEGORIES:Arts
ATTACH;FMTTYPE=image/jpeg:https://lovepittsfield.com/wp-content/uploads/2025/03/476559393_943275527990115_5285238371658169870_n.jpg
END:VEVENT
END:VCALENDAR