BEGIN:VCALENDAR
VERSION:2.0
PRODID:-//Love Pittsfield MA - ECPv6.15.20//NONSGML v1.0//EN
CALSCALE:GREGORIAN
METHOD:PUBLISH
X-WR-CALNAME:Love Pittsfield MA
X-ORIGINAL-URL:https://lovepittsfield.com
X-WR-CALDESC:Events for Love Pittsfield MA
REFRESH-INTERVAL;VALUE=DURATION:PT1H
X-Robots-Tag:noindex
X-PUBLISHED-TTL:PT1H
BEGIN:VTIMEZONE
TZID:America/New_York
BEGIN:DAYLIGHT
TZOFFSETFROM:-0500
TZOFFSETTO:-0400
TZNAME:EDT
DTSTART:20240310T070000
END:DAYLIGHT
BEGIN:STANDARD
TZOFFSETFROM:-0400
TZOFFSETTO:-0500
TZNAME:EST
DTSTART:20241103T060000
END:STANDARD
BEGIN:DAYLIGHT
TZOFFSETFROM:-0500
TZOFFSETTO:-0400
TZNAME:EDT
DTSTART:20250309T070000
END:DAYLIGHT
BEGIN:STANDARD
TZOFFSETFROM:-0400
TZOFFSETTO:-0500
TZNAME:EST
DTSTART:20251102T060000
END:STANDARD
BEGIN:DAYLIGHT
TZOFFSETFROM:-0500
TZOFFSETTO:-0400
TZNAME:EDT
DTSTART:20260308T070000
END:DAYLIGHT
BEGIN:STANDARD
TZOFFSETFROM:-0400
TZOFFSETTO:-0500
TZNAME:EST
DTSTART:20261101T060000
END:STANDARD
END:VTIMEZONE
BEGIN:VEVENT
DTSTART;TZID=America/New_York:20250410T100000
DTEND;TZID=America/New_York:20250410T110000
DTSTAMP:20260421T145747
CREATED:20241219T161153Z
LAST-MODIFIED:20250124T155517Z
UID:10013451-1744279200-1744282800@lovepittsfield.com
SUMMARY:Preschool STEAM
DESCRIPTION:Join Pittsfield CFCE for a free playgroup for children ages 3-5. Come explore the world of Science\, Technology\, Engineering\, Art and Math with your preschool age child. This program will investigate a different topic through books\, hands on activities\, and play. All families will receive learning activities to take home. \nÚnase a Pittsfield CFCE para un grupo de juego gratuito para niños de 3 a 5 años. Venga a explorar el mundo de la ciencia\, la tecnología\, la ingeniería\, el arte y las matemáticas con su hijo en edad preescolar. Este programa investigará un tema diferente a través de libros\, actividades prácticas y juegos. Todas las familias recibirán actividades de aprendizaje para llevar a casa. \nChildren under the age of 10 must be accompanied by an adult 18+ at all times. \nFor more information call the Children’s Library: (413) 499–9480\, ext. 203 or Jenn Faulconer\, CFCE Coordinator at (413) 441–0974.
URL:https://lovepittsfield.com/event/preschool-steam-2/2025-04-10/
LOCATION:Berkshire Athenaeum\, 1 Wendell Ave.\, Pittsfield\, MA\, 01201\, United States
CATEGORIES:Education,Kids Activities,Literacy,Readings
ATTACH;FMTTYPE=image/png:https://lovepittsfield.com/wp-content/uploads/2024/12/3-49.png
ORGANIZER;CN="Berkshire Athenaeum":MAILTO:info@pittsfieldlibrary.org
END:VEVENT
BEGIN:VEVENT
DTSTART;TZID=America/New_York:20250410T170000
DTEND;TZID=America/New_York:20250410T190000
DTSTAMP:20260421T145747
CREATED:20250116T175851Z
LAST-MODIFIED:20250116T182143Z
UID:10014045-1744304400-1744311600@lovepittsfield.com
SUMMARY:Sip ‘n Stitch Social
DESCRIPTION:Calling all crafters\, creators\, and curious souls! Join us at Witch Slapped every Thursday evening for our Sip ‘n Stitch Social. Bring your latest project—whether it’s knitting\, crocheting\, embroidery\, or another craft—and enjoy a cozy\, welcoming space to stitch and sip with kindred spirits. \nB RING YOUR OWN SIP! Sip on tea\, coffee\, or your favorite  beverage\, and let the creativity flow. \nThis is a free\, drop-in event perfect for all skill levels. Whether you’re here to share tips\, get inspired\, or just unwind with a relaxing activity\, there’s a spot for you. \n✨ Let’s create magic\, one stitch at a time!
URL:https://lovepittsfield.com/event/sip-n-stitch-social/2025-04-10/
LOCATION:Witch Slapped\, 78 North Street\, Pittsfield\, MA\, 01201\, United States
CATEGORIES:Arts
ATTACH;FMTTYPE=image/jpeg:https://lovepittsfield.com/wp-content/uploads/2025/01/423312637_912099763940692_7044734864453822739_n.jpg
END:VEVENT
BEGIN:VEVENT
DTSTART;TZID=America/New_York:20250410T180000
DTEND;TZID=America/New_York:20250410T190000
DTSTAMP:20260421T145747
CREATED:20250116T174210Z
LAST-MODIFIED:20250116T174211Z
UID:10014030-1744308000-1744311600@lovepittsfield.com
SUMMARY:Writers Room: THE COLLAB
DESCRIPTION:Writers Room Thursdays return after a brief hiatus!6pm – 7pm every Thursday
URL:https://lovepittsfield.com/event/writers-room-the-collab/2025-04-10/
LOCATION:The COLLAB\, 163 North Street\, Pittsfield\, MA\, 01201\, United States
ATTACH;FMTTYPE=image/jpeg:https://lovepittsfield.com/wp-content/uploads/2025/01/466795215_122176610600139956_51117521187133790_n.jpg
END:VEVENT
END:VCALENDAR