BEGIN:VCALENDAR
VERSION:2.0
PRODID:-//Love Pittsfield MA - ECPv6.15.20//NONSGML v1.0//EN
CALSCALE:GREGORIAN
METHOD:PUBLISH
X-ORIGINAL-URL:https://lovepittsfield.com
X-WR-CALDESC:Events for Love Pittsfield MA
REFRESH-INTERVAL;VALUE=DURATION:PT1H
X-Robots-Tag:noindex
X-PUBLISHED-TTL:PT1H
BEGIN:VTIMEZONE
TZID:America/New_York
BEGIN:DAYLIGHT
TZOFFSETFROM:-0500
TZOFFSETTO:-0400
TZNAME:EDT
DTSTART:20240310T070000
END:DAYLIGHT
BEGIN:STANDARD
TZOFFSETFROM:-0400
TZOFFSETTO:-0500
TZNAME:EST
DTSTART:20241103T060000
END:STANDARD
BEGIN:DAYLIGHT
TZOFFSETFROM:-0500
TZOFFSETTO:-0400
TZNAME:EDT
DTSTART:20250309T070000
END:DAYLIGHT
BEGIN:STANDARD
TZOFFSETFROM:-0400
TZOFFSETTO:-0500
TZNAME:EST
DTSTART:20251102T060000
END:STANDARD
BEGIN:DAYLIGHT
TZOFFSETFROM:-0500
TZOFFSETTO:-0400
TZNAME:EDT
DTSTART:20260308T070000
END:DAYLIGHT
BEGIN:STANDARD
TZOFFSETFROM:-0400
TZOFFSETTO:-0500
TZNAME:EST
DTSTART:20261101T060000
END:STANDARD
END:VTIMEZONE
BEGIN:VEVENT
DTSTART;TZID=America/New_York:20250408T150000
DTEND;TZID=America/New_York:20250408T163000
DTSTAMP:20260423T095001
CREATED:20241125T152819Z
LAST-MODIFIED:20241125T152819Z
UID:10012639-1744124400-1744129800@lovepittsfield.com
SUMMARY:LEGO Club
DESCRIPTION:Join us for afterschool LEGO building fun with the library’s huge collection of LEGO Bricks! Best for ages 6-10. Youth will have opportunities for free play\, cooperative building\, a LEGO challenge\, and a time for sharing. No registration required\, siblings welcome. \n¡Venga y construya con la enorme colección de ladrillos LEGO de biblioteca! Sugerido para niños de 6 a 10 años. \nChildren under the age of 10 must be accompanied by an adult 18+ at all times.\nFor more information call the Children’s Library: 413-499-9480\, ext. 5.
URL:https://lovepittsfield.com/event/lego-club-2/2025-04-08/
LOCATION:Berkshire Athenaeum\, 1 Wendell Ave.\, Pittsfield\, MA\, 01201\, United States
CATEGORIES:Education,Kids Activities
ATTACH;FMTTYPE=image/png:https://lovepittsfield.com/wp-content/uploads/2024/11/7-45.png
ORGANIZER;CN="Berkshire Athenaeum":MAILTO:info@pittsfieldlibrary.org
END:VEVENT
BEGIN:VEVENT
DTSTART;TZID=America/New_York:20250408T190000
DTEND;TZID=America/New_York:20250408T210000
DTSTAMP:20260423T095001
CREATED:20250320T162432Z
LAST-MODIFIED:20250320T162433Z
UID:10016814-1744138800-1744146000@lovepittsfield.com
SUMMARY:WordxWord: Diversity
DESCRIPTION:In a series of events over the course of 3 months\, WordXWord is asking poets of any ilk to apply their creative energy to three fraught words – diversity\, equity\, and inclusion. Obviously these words have a wide range of applications other than the uses currently under pressure. First up\, is DIVERSITY.\nPoet interested in adding your voice? https://wordxwordfestival.com/pcc
URL:https://lovepittsfield.com/event/wordxword-diversity/
LOCATION:Unitarian Universalists of Pittsfield\, 175 Wendell Ave\, Pittsfield\, MA\, 01201\, United States
CATEGORIES:Readings
ATTACH;FMTTYPE=image/jpeg:https://lovepittsfield.com/wp-content/uploads/2025/03/483526794_1034560075368907_7867547142627113583_n.jpg
END:VEVENT
BEGIN:VEVENT
DTSTART;TZID=America/New_York:20250408T210000
DTEND;TZID=America/New_York:20250408T230000
DTSTAMP:20260423T095001
CREATED:20250129T185111Z
LAST-MODIFIED:20250304T170106Z
UID:10014173-1744146000-1744153200@lovepittsfield.com
SUMMARY:Karaoke at Thistle and Mirth
DESCRIPTION:This is your moment to practice for AGT.\nKaraoke starts @ 9!
URL:https://lovepittsfield.com/event/karaoke-at-thistle-and-mirth/2025-04-08/
LOCATION:Thistle and Mirth\, 44 West Street\, Pittsfield\, MA\, 01201\, United States
CATEGORIES:Live Music
ATTACH;FMTTYPE=image/jpeg:https://lovepittsfield.com/wp-content/uploads/2025/01/474535763_1242236041242202_3368647784600003536_n.jpg
END:VEVENT
END:VCALENDAR