BEGIN:VCALENDAR
VERSION:2.0
PRODID:-//Love Pittsfield MA - ECPv6.15.20//NONSGML v1.0//EN
CALSCALE:GREGORIAN
METHOD:PUBLISH
X-ORIGINAL-URL:https://lovepittsfield.com
X-WR-CALDESC:Events for Love Pittsfield MA
REFRESH-INTERVAL;VALUE=DURATION:PT1H
X-Robots-Tag:noindex
X-PUBLISHED-TTL:PT1H
BEGIN:VTIMEZONE
TZID:America/New_York
BEGIN:DAYLIGHT
TZOFFSETFROM:-0500
TZOFFSETTO:-0400
TZNAME:EDT
DTSTART:20240310T070000
END:DAYLIGHT
BEGIN:STANDARD
TZOFFSETFROM:-0400
TZOFFSETTO:-0500
TZNAME:EST
DTSTART:20241103T060000
END:STANDARD
BEGIN:DAYLIGHT
TZOFFSETFROM:-0500
TZOFFSETTO:-0400
TZNAME:EDT
DTSTART:20250309T070000
END:DAYLIGHT
BEGIN:STANDARD
TZOFFSETFROM:-0400
TZOFFSETTO:-0500
TZNAME:EST
DTSTART:20251102T060000
END:STANDARD
BEGIN:DAYLIGHT
TZOFFSETFROM:-0500
TZOFFSETTO:-0400
TZNAME:EDT
DTSTART:20260308T070000
END:DAYLIGHT
BEGIN:STANDARD
TZOFFSETFROM:-0400
TZOFFSETTO:-0500
TZNAME:EST
DTSTART:20261101T060000
END:STANDARD
END:VTIMEZONE
BEGIN:VEVENT
DTSTART;TZID=America/New_York:20250406T100000
DTEND;TZID=America/New_York:20250406T120000
DTSTAMP:20260423T095011
CREATED:20250317T150822Z
LAST-MODIFIED:20250317T150822Z
UID:10016736-1743933600-1743940800@lovepittsfield.com
SUMMARY:Opening Reception: Photography exhibition of Southwest America by Allan Seppa
DESCRIPTION:Downtown Pittsfield\, Inc. and Framework will feature a brand-new photography exhibition by Allan Seppa\, April 6 through May 22\, 2025\, at Framework by Downtown Pittsfield\, Inc. The exhibition will feature photography of Southwest America\, specifically of Arizona\, Utah\, and Colorado. \nThere will be an opening reception with the artist on Sunday\, April 6\, 10 am to 12 pm; and the artist will host a second reception during the May 2 First Fridays Artswalk from 5 to 8 pm. \nAllan Seppa’s exhibition will be on view Monday through Thursday\, 10 am to 2 pm\, April 7 through May 22\, by visiting the Downtown Pittsfield\, Inc. offices at 431 North Street. \nAllan started being serious about photography in the late 1960’s\, when he bought his first 35mm SLR film camera and signed up for the comprehensive correspondence course offered by the former Famous Photographers School of Westport\, Connecticut. Soon after moving to the Berkshires\, Allan joined the venerable Berkshire Museum Camera Club. During the many years that he was a member\, he won many awards for his color slides in competitions within the club and ones sponsored by the New England Camera Club Council (NECCC). Allan’s photographic vision is eclectic and includes landscapes\, seashorescapes\, cityscapes\, still lifes\, and street photography. Upon retirement\, he has exhibited his photos in many gallery and arts & craft shows and other events\, including seven First Fridays Artswalks. Allan lives in Pittsfield. Besides photography\, he enjoys hiking and bicycling with his wife. \n 
URL:https://lovepittsfield.com/event/opening-reception-photography-exhibition-of-southwest-america-by-allan-seppa/
LOCATION:Framework by Downtown Pittsfield\, Inc.\, 437 North Street\, Pittsfield\, MA\, 01201\, United States
CATEGORIES:ff-artswalk
ATTACH;FMTTYPE=image/png:https://lovepittsfield.com/wp-content/uploads/2025/03/Allan-Seppa-2025-Show-Graphic-DPI-Square-V1.png
ORGANIZER;CN="Downtown Pittsfield%2C Inc.":MAILTO:info@downtownpittsfield.com
END:VEVENT
END:VCALENDAR