BEGIN:VCALENDAR
VERSION:2.0
PRODID:-//Love Pittsfield MA - ECPv6.15.20//NONSGML v1.0//EN
CALSCALE:GREGORIAN
METHOD:PUBLISH
X-WR-CALNAME:Love Pittsfield MA
X-ORIGINAL-URL:https://lovepittsfield.com
X-WR-CALDESC:Events for Love Pittsfield MA
REFRESH-INTERVAL;VALUE=DURATION:PT1H
X-Robots-Tag:noindex
X-PUBLISHED-TTL:PT1H
BEGIN:VTIMEZONE
TZID:America/New_York
BEGIN:DAYLIGHT
TZOFFSETFROM:-0500
TZOFFSETTO:-0400
TZNAME:EDT
DTSTART:20240310T070000
END:DAYLIGHT
BEGIN:STANDARD
TZOFFSETFROM:-0400
TZOFFSETTO:-0500
TZNAME:EST
DTSTART:20241103T060000
END:STANDARD
BEGIN:DAYLIGHT
TZOFFSETFROM:-0500
TZOFFSETTO:-0400
TZNAME:EDT
DTSTART:20250309T070000
END:DAYLIGHT
BEGIN:STANDARD
TZOFFSETFROM:-0400
TZOFFSETTO:-0500
TZNAME:EST
DTSTART:20251102T060000
END:STANDARD
BEGIN:DAYLIGHT
TZOFFSETFROM:-0500
TZOFFSETTO:-0400
TZNAME:EDT
DTSTART:20260308T070000
END:DAYLIGHT
BEGIN:STANDARD
TZOFFSETFROM:-0400
TZOFFSETTO:-0500
TZNAME:EST
DTSTART:20261101T060000
END:STANDARD
END:VTIMEZONE
BEGIN:VEVENT
DTSTART;TZID=America/New_York:20250330T140000
DTEND;TZID=America/New_York:20250330T160000
DTSTAMP:20260419T204844
CREATED:20250311T153348Z
LAST-MODIFIED:20250311T153348Z
UID:10014207-1743343200-1743350400@lovepittsfield.com
SUMMARY:The Corvettes Doo Wop Revue
DESCRIPTION:Step back in time with The Corvettes Doo Wop Revue\, a celebration of the greatest hits from the golden era of 1950s Doo Wop. From coast to coast\, this high-energy group delivers a fresh take on classic tunes\, blending impeccable harmonies\, electrifying performances and hilarious stage antics. Every show is more than a concert—it’s a full-blown Doo Wop celebration in the tradition of iconic revivalists like Sha Na Na\, leaving audiences cheering for more!\n\n\nIn addition to their headlining shows\, The Corvettes have toured with legendary groups such as The Drifters\, The Tokens and The Platters\, sharing the stage with the artists who originally shaped the genre. Their setlist features timeless hits like “Come Go With Me\,” “In the Still of the Night\,” “Runaround Sue” and “Shake\, Rattle & Roll\,” promising an unforgettable trip down memory lane.Don’t miss your chance to enjoy a rollicking ride through the good old days of rock and roll. Whether you’re a lifelong fan or discovering Doo Wop for the first time\, The Corvettes Doo Wop Revue guarantees a night of toe-tapping\, heartwarming fun! \n 
URL:https://lovepittsfield.com/event/the-corvettes-doo-wop-revue/
LOCATION:The Colonial Theatre\, 111 South Street\, Pittsfield\, MA\, 01201\, United States
CATEGORIES:Theater
ATTACH;FMTTYPE=image/jpeg:https://lovepittsfield.com/wp-content/uploads/2025/03/0622ee2f-d37b-4ac6-8454-0fe65cc206f1.jpg
END:VEVENT
END:VCALENDAR