BEGIN:VCALENDAR
VERSION:2.0
PRODID:-//Love Pittsfield MA - ECPv6.15.20//NONSGML v1.0//EN
CALSCALE:GREGORIAN
METHOD:PUBLISH
X-ORIGINAL-URL:https://lovepittsfield.com
X-WR-CALDESC:Events for Love Pittsfield MA
REFRESH-INTERVAL;VALUE=DURATION:PT1H
X-Robots-Tag:noindex
X-PUBLISHED-TTL:PT1H
BEGIN:VTIMEZONE
TZID:America/New_York
BEGIN:DAYLIGHT
TZOFFSETFROM:-0500
TZOFFSETTO:-0400
TZNAME:EDT
DTSTART:20240310T070000
END:DAYLIGHT
BEGIN:STANDARD
TZOFFSETFROM:-0400
TZOFFSETTO:-0500
TZNAME:EST
DTSTART:20241103T060000
END:STANDARD
BEGIN:DAYLIGHT
TZOFFSETFROM:-0500
TZOFFSETTO:-0400
TZNAME:EDT
DTSTART:20250309T070000
END:DAYLIGHT
BEGIN:STANDARD
TZOFFSETFROM:-0400
TZOFFSETTO:-0500
TZNAME:EST
DTSTART:20251102T060000
END:STANDARD
BEGIN:DAYLIGHT
TZOFFSETFROM:-0500
TZOFFSETTO:-0400
TZNAME:EDT
DTSTART:20260308T070000
END:DAYLIGHT
BEGIN:STANDARD
TZOFFSETFROM:-0400
TZOFFSETTO:-0500
TZNAME:EST
DTSTART:20261101T060000
END:STANDARD
END:VTIMEZONE
BEGIN:VEVENT
DTSTART;TZID=America/New_York:20250329T110000
DTEND;TZID=America/New_York:20250329T120000
DTSTAMP:20260420T005630
CREATED:20250320T152047Z
LAST-MODIFIED:20250320T152048Z
UID:10016783-1743246000-1743249600@lovepittsfield.com
SUMMARY:Two Guys - Four Eyes; Book Signing
DESCRIPTION:On that date\, at 11:00am\, Dylan W. Kubis\, and me\, Thaddeus B. Kubis will host a book signing at Barnes & Noble in Pittsfield. We will be signing copies of our first joint book Two Guys – Four Eyes\, Our Journey Through Italy!\, and the introduction of Son & Father Photography.\nDate: Saturday\, March 29\,2025Time: 11:00amLocation: Barnes & Noble\, 555 Dalton Ave.\, Pittsfield\, MA\, 01202
URL:https://lovepittsfield.com/event/two-guys-four-eyes-book-signing/
LOCATION:Barnes & Noble\, 555 Dalton Ave\, Pittsfield
CATEGORIES:Readings
ATTACH;FMTTYPE=image/jpeg:https://lovepittsfield.com/wp-content/uploads/2025/03/480302009_1189718016489309_6931393359401963860_n.jpg
END:VEVENT
BEGIN:VEVENT
DTSTART;TZID=America/New_York:20250329T190000
DTEND;TZID=America/New_York:20250329T213000
DTSTAMP:20260420T005630
CREATED:20250307T185210Z
LAST-MODIFIED:20250307T185210Z
UID:10014196-1743274800-1743283800@lovepittsfield.com
SUMMARY:Elizabeth Freeman Benefit Show
DESCRIPTION:In honor of Women’s History Month\, we will be teaming up with Temescal Wellness and The Wolves to help raise money for one of our favorite organizations. We’re asking for a suggested donation of $5 for entry\, and Temescal Wellness will be donating $1 for every pint we sell that night!
URL:https://lovepittsfield.com/event/elizabeth-freeman-benefit-show/
LOCATION:Hot Plate Brewing Company\, 1 School Street\, Pittsfield\, 01201\, United States
CATEGORIES:Live Music
ATTACH;FMTTYPE=image/jpeg:https://lovepittsfield.com/wp-content/uploads/2025/03/480960910_1078025371034347_7258009720021192466_n.jpg
END:VEVENT
BEGIN:VEVENT
DTSTART;TZID=America/New_York:20250329T200000
DTEND;TZID=America/New_York:20250329T220000
DTSTAMP:20260420T005630
CREATED:20250312T153529Z
LAST-MODIFIED:20250312T153530Z
UID:10016604-1743278400-1743285600@lovepittsfield.com
SUMMARY:Mike and The Monsters
DESCRIPTION:Mike and the Monsters cover a wide range and variety of music\, performed with energy\, professionalism\, style and true rock and roll conviction! Modern sounds\, classic rock and maximum danceable party rock make up the Monsters musical repertoire. We are an extremely interactive band!!! Audience participation is a MUST at a Mike and the Monster’s show!!! So\, dont be shy! Cause we’re gonna have you singing\, dancing\, playing a little air guitar and having a few toasts with our audience\, whether it be a birthday\, anniversay\, or just because it’s 5 O’clock…somewhere!!! \n  \nhttps://www.eventbrite.com/…/lets-get-ready-to-party…​All Monster members are experienced Capital District and regional music veterans\, coming together with one goal ” to deliver the goods“ with a great live show and to keep people coming back for more! Deep musicianship\, multi-vocals along with the great selling point and secret weapon in lead vocalist Michaele Ann Flynn\, build a solid foundation for a Monster house of good times and great music!!!
URL:https://lovepittsfield.com/event/mike-and-the-monsters/
LOCATION:MA
CATEGORIES:Live Music
ATTACH;FMTTYPE=image/jpeg:https://lovepittsfield.com/wp-content/uploads/2025/03/481925988_1152141556693019_6067719669610918755_n.jpg
END:VEVENT
END:VCALENDAR