BEGIN:VCALENDAR
VERSION:2.0
PRODID:-//Love Pittsfield MA - ECPv6.15.20//NONSGML v1.0//EN
CALSCALE:GREGORIAN
METHOD:PUBLISH
X-WR-CALNAME:Love Pittsfield MA
X-ORIGINAL-URL:https://lovepittsfield.com
X-WR-CALDESC:Events for Love Pittsfield MA
REFRESH-INTERVAL;VALUE=DURATION:PT1H
X-Robots-Tag:noindex
X-PUBLISHED-TTL:PT1H
BEGIN:VTIMEZONE
TZID:America/New_York
BEGIN:DAYLIGHT
TZOFFSETFROM:-0500
TZOFFSETTO:-0400
TZNAME:EDT
DTSTART:20240310T070000
END:DAYLIGHT
BEGIN:STANDARD
TZOFFSETFROM:-0400
TZOFFSETTO:-0500
TZNAME:EST
DTSTART:20241103T060000
END:STANDARD
BEGIN:DAYLIGHT
TZOFFSETFROM:-0500
TZOFFSETTO:-0400
TZNAME:EDT
DTSTART:20250309T070000
END:DAYLIGHT
BEGIN:STANDARD
TZOFFSETFROM:-0400
TZOFFSETTO:-0500
TZNAME:EST
DTSTART:20251102T060000
END:STANDARD
BEGIN:DAYLIGHT
TZOFFSETFROM:-0500
TZOFFSETTO:-0400
TZNAME:EDT
DTSTART:20260308T070000
END:DAYLIGHT
BEGIN:STANDARD
TZOFFSETFROM:-0400
TZOFFSETTO:-0500
TZNAME:EST
DTSTART:20261101T060000
END:STANDARD
END:VTIMEZONE
BEGIN:VEVENT
DTSTART;TZID=America/New_York:20250328T170000
DTEND;TZID=America/New_York:20250328T200000
DTSTAMP:20260420T050531
CREATED:20250320T151523Z
LAST-MODIFIED:20250320T151523Z
UID:10016782-1743181200-1743192000@lovepittsfield.com
SUMMARY:Live Music with Chantell & Friends
DESCRIPTION:Guest chef residency with Core Kitchen (on instagram @saritaandrayhospitality). Sarita and Ray take over the kitchen bringing their innovative menu and amazing food. Chantell\, one of Berkshires most sought after vocalists brings together a trio for a memorable night of music.\n5 – 9p dinner service.by Core Kitchen 7-10p Live Music with Chantell and Friends Full cash bar\nWe are open: Monday-Friday\, 7am-2pm\, Saturday and Sunday\, 8am-2pm Open holidays at 8am and closed Thanksgiving Day\, Christmas Day and New Year’s Day Core Kitchen dinner served Friday and Saturday 5-9p\nMenu Mon-Sat (early bird till 10a\, regular 10-2p) Sunday Brunch menu from Core Kitchen\, 9-2p coffee & cash bar\, indoor and takeout service available till closing at 2.\nDottie’s Coffee Lounge438/444 North St.\, Pittsfield1 413 443 1792 www.dottiescoffeelounge.com Find Dottie’s on Facebook \nSee less
URL:https://lovepittsfield.com/event/live-music-with-chantell-friends/
LOCATION:Dottie’s Coffee Lounge\, 444 North Street\, Pittsfield\, MA\, 01201\, United States
CATEGORIES:Live Music
ATTACH;FMTTYPE=image/jpeg:https://lovepittsfield.com/wp-content/uploads/2025/03/480964308_652185690686110_5385067532810238808_n.jpg
END:VEVENT
BEGIN:VEVENT
DTSTART;TZID=America/New_York:20250328T180000
DTEND;TZID=America/New_York:20250328T220000
DTSTAMP:20260420T050531
CREATED:20250320T145805Z
LAST-MODIFIED:20250320T145805Z
UID:10016776-1743184800-1743199200@lovepittsfield.com
SUMMARY:Hardcore Music Show x Silver Lake Bookings
DESCRIPTION:Silver Lake Booking presents Hardcore Music Show\nGet ready for a night of loud\, raw\, and unfiltered music\nfeaturing local and touring hardcore bands\nWhen The Time Comes\nEn Masse (CT)\nGhost Chant (NY)\nAmora (PA) + Wain \nAll ages $10 Cover
URL:https://lovepittsfield.com/event/hardcore-music-show-x-silver-lake-bookings/
LOCATION:WANDER Berkshires\, 34 Depot Street\, Pittsfield\, MA\, 01201\, United States
CATEGORIES:Live Music
ATTACH;FMTTYPE=image/jpeg:https://lovepittsfield.com/wp-content/uploads/2025/03/IMG_33071.jpg
END:VEVENT
END:VCALENDAR