BEGIN:VCALENDAR
VERSION:2.0
PRODID:-//Love Pittsfield MA - ECPv6.15.20//NONSGML v1.0//EN
CALSCALE:GREGORIAN
METHOD:PUBLISH
X-WR-CALNAME:Love Pittsfield MA
X-ORIGINAL-URL:https://lovepittsfield.com
X-WR-CALDESC:Events for Love Pittsfield MA
REFRESH-INTERVAL;VALUE=DURATION:PT1H
X-Robots-Tag:noindex
X-PUBLISHED-TTL:PT1H
BEGIN:VTIMEZONE
TZID:America/New_York
BEGIN:DAYLIGHT
TZOFFSETFROM:-0500
TZOFFSETTO:-0400
TZNAME:EDT
DTSTART:20240310T070000
END:DAYLIGHT
BEGIN:STANDARD
TZOFFSETFROM:-0400
TZOFFSETTO:-0500
TZNAME:EST
DTSTART:20241103T060000
END:STANDARD
BEGIN:DAYLIGHT
TZOFFSETFROM:-0500
TZOFFSETTO:-0400
TZNAME:EDT
DTSTART:20250309T070000
END:DAYLIGHT
BEGIN:STANDARD
TZOFFSETFROM:-0400
TZOFFSETTO:-0500
TZNAME:EST
DTSTART:20251102T060000
END:STANDARD
BEGIN:DAYLIGHT
TZOFFSETFROM:-0500
TZOFFSETTO:-0400
TZNAME:EDT
DTSTART:20260308T070000
END:DAYLIGHT
BEGIN:STANDARD
TZOFFSETFROM:-0400
TZOFFSETTO:-0500
TZNAME:EST
DTSTART:20261101T060000
END:STANDARD
END:VTIMEZONE
BEGIN:VEVENT
DTSTART;TZID=America/New_York:20250625T170000
DTEND;TZID=America/New_York:20250625T190000
DTSTAMP:20260420T114115
CREATED:20250613T152925Z
LAST-MODIFIED:20250613T152925Z
UID:10809-1750870800-1750878000@lovepittsfield.com
SUMMARY:Womens Social Club
DESCRIPTION:Join us for a Wednesday night  women’s meet up with Healthy Hunnies – health industries professionals come together to decompress and share and support. Network\, make new friends\, learn something new about your community or just grab a girlfriend and make sometime for YOU. \nYou do not have to fit in to the category to come to our women’s nights at Dorothy’s- you simply need to be a woman seeking connection and a willingness to take an hour or two to fill your cup. \nEach evening we  will gather\, starting at 5 and have a share component and introduction. If you want to participate from 6-7. Come early to get some food and drinks. Stay for more if you feel called to do so
URL:https://lovepittsfield.com/event/womens-social-club/
LOCATION:Dottie’s Coffee Lounge\, 444 North Street\, Pittsfield\, MA\, 01201\, United States
ATTACH;FMTTYPE=image/jpeg:https://lovepittsfield.com/wp-content/uploads/2025/06/BeautyBAR.jpg
END:VEVENT
END:VCALENDAR