BEGIN:VCALENDAR
VERSION:2.0
PRODID:-//Love Pittsfield MA - ECPv6.15.20//NONSGML v1.0//EN
CALSCALE:GREGORIAN
METHOD:PUBLISH
X-WR-CALNAME:Love Pittsfield MA
X-ORIGINAL-URL:https://lovepittsfield.com
X-WR-CALDESC:Events for Love Pittsfield MA
REFRESH-INTERVAL;VALUE=DURATION:PT1H
X-Robots-Tag:noindex
X-PUBLISHED-TTL:PT1H
BEGIN:VTIMEZONE
TZID:America/New_York
BEGIN:DAYLIGHT
TZOFFSETFROM:-0500
TZOFFSETTO:-0400
TZNAME:EDT
DTSTART:20250309T070000
END:DAYLIGHT
BEGIN:STANDARD
TZOFFSETFROM:-0400
TZOFFSETTO:-0500
TZNAME:EST
DTSTART:20251102T060000
END:STANDARD
BEGIN:DAYLIGHT
TZOFFSETFROM:-0500
TZOFFSETTO:-0400
TZNAME:EDT
DTSTART:20260308T070000
END:DAYLIGHT
BEGIN:STANDARD
TZOFFSETFROM:-0400
TZOFFSETTO:-0500
TZNAME:EST
DTSTART:20261101T060000
END:STANDARD
BEGIN:DAYLIGHT
TZOFFSETFROM:-0500
TZOFFSETTO:-0400
TZNAME:EDT
DTSTART:20270314T070000
END:DAYLIGHT
BEGIN:STANDARD
TZOFFSETFROM:-0400
TZOFFSETTO:-0500
TZNAME:EST
DTSTART:20271107T060000
END:STANDARD
END:VTIMEZONE
BEGIN:VEVENT
DTSTART;TZID=America/New_York:20260911T180000
DTEND;TZID=America/New_York:20260911T200000
DTSTAMP:20260425T072325
CREATED:20250320T163346Z
LAST-MODIFIED:20250320T163347Z
UID:10016832-1789149600-1789156800@lovepittsfield.com
SUMMARY:Trans Art Workshop
DESCRIPTION:Join our monthly Trans Art Workshop x Berkshire Art Center on Second Fridays in Pittsfield at the Brothership Building. Draw\, sketch\, paint.\nWe’re grateful to Berkshire Art Center for opening their Pittsfield location to our community for Trans Art Workshops every second Friday! Make use of BAC’s space and materials to co-create safely with trans and non-binary community. All events are pay-what-you-can / no-one-turned-away-for-lack-of-funds .
URL:https://lovepittsfield.com/event/trans-art-workshop/2026-09-11/
LOCATION:Berkshire Art Center\, 141 North Street\, Pittsfield\, MA\, 01201\, United States
CATEGORIES:Arts
ATTACH;FMTTYPE=image/png:https://lovepittsfield.com/wp-content/uploads/2025/03/Screenshot-2025-03-20-at-12.25.48 PM.png
END:VEVENT
END:VCALENDAR