BEGIN:VCALENDAR
VERSION:2.0
PRODID:-//Love Pittsfield MA - ECPv6.15.20//NONSGML v1.0//EN
CALSCALE:GREGORIAN
METHOD:PUBLISH
X-WR-CALNAME:Love Pittsfield MA
X-ORIGINAL-URL:https://lovepittsfield.com
X-WR-CALDESC:Events for Love Pittsfield MA
REFRESH-INTERVAL;VALUE=DURATION:PT1H
X-Robots-Tag:noindex
X-PUBLISHED-TTL:PT1H
BEGIN:VTIMEZONE
TZID:America/New_York
BEGIN:DAYLIGHT
TZOFFSETFROM:-0500
TZOFFSETTO:-0400
TZNAME:EDT
DTSTART:20250309T070000
END:DAYLIGHT
BEGIN:STANDARD
TZOFFSETFROM:-0400
TZOFFSETTO:-0500
TZNAME:EST
DTSTART:20251102T060000
END:STANDARD
BEGIN:DAYLIGHT
TZOFFSETFROM:-0500
TZOFFSETTO:-0400
TZNAME:EDT
DTSTART:20260308T070000
END:DAYLIGHT
BEGIN:STANDARD
TZOFFSETFROM:-0400
TZOFFSETTO:-0500
TZNAME:EST
DTSTART:20261101T060000
END:STANDARD
BEGIN:DAYLIGHT
TZOFFSETFROM:-0500
TZOFFSETTO:-0400
TZNAME:EDT
DTSTART:20270314T070000
END:DAYLIGHT
BEGIN:STANDARD
TZOFFSETFROM:-0400
TZOFFSETTO:-0500
TZNAME:EST
DTSTART:20271107T060000
END:STANDARD
END:VTIMEZONE
BEGIN:VEVENT
DTSTART;TZID=America/New_York:20260516T140000
DTEND;TZID=America/New_York:20260516T160000
DTSTAMP:20260424T101033
CREATED:20260423T180127Z
LAST-MODIFIED:20260423T180127Z
UID:10020430-1778940000-1778947200@lovepittsfield.com
SUMMARY:Taconic Theatre presents Big Fish
DESCRIPTION:Tickets are now on sale for Big Fish Don’t let this one get away… reel yours in before they’re gone.\n May 8\, 9\, 14\, 15\, 16 at 7:00 PM May 9\, 16 at 2:00 PM May 14 is Pay What You Can Night- choose a ticket price that works for you\n Get your tickets here: taconichstheatre.ludus.com\nA larger-than-life father fills his life with wild stories and unbelievable adventures\, but when his son sets out to find the truth\, he discovers there might be more to the stories than he ever realized.
URL:https://lovepittsfield.com/event/taconic-theatre-presents-big-fish/2026-05-16/
LOCATION:Taconic High School\, 96 Valentine Road\, Pittsfield\, MA\, 01201\, United States
CATEGORIES:Theater
ATTACH;FMTTYPE=image/jpeg:https://lovepittsfield.com/wp-content/uploads/2026/04/658164963_935571535891746_481400196743930994_n.jpg
END:VEVENT
END:VCALENDAR