BEGIN:VCALENDAR
VERSION:2.0
PRODID:-//Love Pittsfield MA - ECPv6.15.20//NONSGML v1.0//EN
CALSCALE:GREGORIAN
METHOD:PUBLISH
X-WR-CALNAME:Love Pittsfield MA
X-ORIGINAL-URL:https://lovepittsfield.com
X-WR-CALDESC:Events for Love Pittsfield MA
REFRESH-INTERVAL;VALUE=DURATION:PT1H
X-Robots-Tag:noindex
X-PUBLISHED-TTL:PT1H
BEGIN:VTIMEZONE
TZID:America/New_York
BEGIN:DAYLIGHT
TZOFFSETFROM:-0500
TZOFFSETTO:-0400
TZNAME:EDT
DTSTART:20250309T070000
END:DAYLIGHT
BEGIN:STANDARD
TZOFFSETFROM:-0400
TZOFFSETTO:-0500
TZNAME:EST
DTSTART:20251102T060000
END:STANDARD
BEGIN:DAYLIGHT
TZOFFSETFROM:-0500
TZOFFSETTO:-0400
TZNAME:EDT
DTSTART:20260308T070000
END:DAYLIGHT
BEGIN:STANDARD
TZOFFSETFROM:-0400
TZOFFSETTO:-0500
TZNAME:EST
DTSTART:20261101T060000
END:STANDARD
BEGIN:DAYLIGHT
TZOFFSETFROM:-0500
TZOFFSETTO:-0400
TZNAME:EDT
DTSTART:20270314T070000
END:DAYLIGHT
BEGIN:STANDARD
TZOFFSETFROM:-0400
TZOFFSETTO:-0500
TZNAME:EST
DTSTART:20271107T060000
END:STANDARD
END:VTIMEZONE
BEGIN:VEVENT
DTSTART;TZID=America/New_York:20260925T193000
DTEND;TZID=America/New_York:20260925T213000
DTSTAMP:20260421T115243
CREATED:20260326T160910Z
LAST-MODIFIED:20260326T160910Z
UID:12902-1790364600-1790371800@lovepittsfield.com
SUMMARY:Rev Tor's 30th Anniversary Jam
DESCRIPTION:Rev Tor returns to The Colonial stage to celebrate 30 years! Since 1996\, Rev Tor has been a consistent presence on the East Coast club and festival circuit\, performing from Maine to Key West. Tor and his band have shared the stage with members of The Grateful Dead\, Dead & Co.\, Phish\, The Allman Brothers Band and New Riders of the Purple Sage. Over his 30+ year career\, he has also appeared at festivals and concerts alongside artists such as Leon Russell\, Los Lobos\, String Cheese Incident and many others. Along the way\, Rev Tor became known not only for his technical skill and soulful playing\, but for his collaborative spirit. \nRev Tor 30th Anniversary Jam will feature many special guests and surprises throughout the night\, including former members and some special musical friends. An updated lineup of guests will be announced soon. \nThe Jake Galliher Foundation is dedicated to honoring Jake’s memory and supporting individuals who exemplify his character and spirit. The Jake Galliher Foundation was established to commemorate the life of SSgt Jacob “Jake” M. Galliher\, who tragically lost his life on November 29th\, 2023 while serving our nation abroad. The foundation provides scholarships and awards to deserving individuals\, ensuring that Jake’s legacy of bravery\, dedication and kindness lives on.
URL:https://lovepittsfield.com/event/rev-tors-30th-anniversary-jam/
LOCATION:The Colonial Theatre\, 111 South Street\, Pittsfield\, MA\, 01201\, United States
CATEGORIES:Live Music
ATTACH;FMTTYPE=image/png:https://lovepittsfield.com/wp-content/uploads/2026/01/03-28-26-Rev-Tor-30th_email-header.png
END:VEVENT
END:VCALENDAR