BEGIN:VCALENDAR
VERSION:2.0
PRODID:-//Love Pittsfield MA - ECPv6.15.20//NONSGML v1.0//EN
CALSCALE:GREGORIAN
METHOD:PUBLISH
X-WR-CALNAME:Love Pittsfield MA
X-ORIGINAL-URL:https://lovepittsfield.com
X-WR-CALDESC:Events for Love Pittsfield MA
REFRESH-INTERVAL;VALUE=DURATION:PT1H
X-Robots-Tag:noindex
X-PUBLISHED-TTL:PT1H
BEGIN:VTIMEZONE
TZID:America/New_York
BEGIN:DAYLIGHT
TZOFFSETFROM:-0500
TZOFFSETTO:-0400
TZNAME:EDT
DTSTART:20250309T070000
END:DAYLIGHT
BEGIN:STANDARD
TZOFFSETFROM:-0400
TZOFFSETTO:-0500
TZNAME:EST
DTSTART:20251102T060000
END:STANDARD
BEGIN:DAYLIGHT
TZOFFSETFROM:-0500
TZOFFSETTO:-0400
TZNAME:EDT
DTSTART:20260308T070000
END:DAYLIGHT
BEGIN:STANDARD
TZOFFSETFROM:-0400
TZOFFSETTO:-0500
TZNAME:EST
DTSTART:20261101T060000
END:STANDARD
BEGIN:DAYLIGHT
TZOFFSETFROM:-0500
TZOFFSETTO:-0400
TZNAME:EDT
DTSTART:20270314T070000
END:DAYLIGHT
BEGIN:STANDARD
TZOFFSETFROM:-0400
TZOFFSETTO:-0500
TZNAME:EST
DTSTART:20271107T060000
END:STANDARD
END:VTIMEZONE
BEGIN:VEVENT
DTSTART;TZID=America/New_York:20260402T180000
DTEND;TZID=America/New_York:20260402T203000
DTSTAMP:20260422T133205
CREATED:20260112T182429Z
LAST-MODIFIED:20260112T182429Z
UID:10019703-1775152800-1775161800@lovepittsfield.com
SUMMARY:PAINTING: Watercolor Landscapes Class
DESCRIPTION:PAINTING: Watercolor Landscapes (Intermediate/Advanced) \n\nInstructor: Jill McLean\nDay & Time: Thursdays\, 6:00pm-8:30pm\nStart Date: February 26\, 2026\nEnd Date: April 2\, 2026\nLocation: Berkshire Athenaeum\, Pittsfield’s Public Library \n\n\n\n\n\n\n\n\n\n\nNo Class 3/12. \nA five class series focused on using watercolor to capture the beauty of landscapes. Learn how to use watercolor to paint light\, texture\, and space to depict vistas and scenes. Each week will cover a different skill or approach to watercolor landscape painting. The workshop will balance instructor demonstrations and independent student application. $312.50
URL:https://lovepittsfield.com/event/painting-watercolor-landscapes-class/2026-04-02/
LOCATION:Berkshire Athenaeum\, 1 Wendell Ave.\, Pittsfield\, MA\, 01201\, United States
CATEGORIES:art classes,Arts
ATTACH;FMTTYPE=image/webp:https://lovepittsfield.com/wp-content/uploads/2026/01/McLean-Landscapes-OliviasOverlook.webp
END:VEVENT
END:VCALENDAR