BEGIN:VCALENDAR
VERSION:2.0
PRODID:-//Love Pittsfield MA - ECPv6.15.20//NONSGML v1.0//EN
CALSCALE:GREGORIAN
METHOD:PUBLISH
X-WR-CALNAME:Love Pittsfield MA
X-ORIGINAL-URL:https://lovepittsfield.com
X-WR-CALDESC:Events for Love Pittsfield MA
REFRESH-INTERVAL;VALUE=DURATION:PT1H
X-Robots-Tag:noindex
X-PUBLISHED-TTL:PT1H
BEGIN:VTIMEZONE
TZID:America/New_York
BEGIN:DAYLIGHT
TZOFFSETFROM:-0500
TZOFFSETTO:-0400
TZNAME:EDT
DTSTART:20250309T070000
END:DAYLIGHT
BEGIN:STANDARD
TZOFFSETFROM:-0400
TZOFFSETTO:-0500
TZNAME:EST
DTSTART:20251102T060000
END:STANDARD
BEGIN:DAYLIGHT
TZOFFSETFROM:-0500
TZOFFSETTO:-0400
TZNAME:EDT
DTSTART:20260308T070000
END:DAYLIGHT
BEGIN:STANDARD
TZOFFSETFROM:-0400
TZOFFSETTO:-0500
TZNAME:EST
DTSTART:20261101T060000
END:STANDARD
BEGIN:DAYLIGHT
TZOFFSETFROM:-0500
TZOFFSETTO:-0400
TZNAME:EDT
DTSTART:20270314T070000
END:DAYLIGHT
BEGIN:STANDARD
TZOFFSETFROM:-0400
TZOFFSETTO:-0500
TZNAME:EST
DTSTART:20271107T060000
END:STANDARD
END:VTIMEZONE
BEGIN:VEVENT
DTSTART;TZID=America/New_York:20260720T123000
DTEND;TZID=America/New_York:20260720T143000
DTSTAMP:20260420T071203
CREATED:20260108T143147Z
LAST-MODIFIED:20260108T143147Z
UID:10019493-1784550600-1784557800@lovepittsfield.com
SUMMARY:Mahjong Mondays
DESCRIPTION:Interested in learning Mahjong or looking for a group to play with? Join us every Monday afternoon from 12:30-2:30 pm in the Berkshire Athenaeum’s auditorium for a welcoming and social game session. \nAll experience levels are welcome – from seasoned players to complete beginners. Supplies are provided\, and tutors will be available to offer guidance and instruction. Feel free to bring your own Mahjong card\, or use one provided at the library. \nSee you there!
URL:https://lovepittsfield.com/event/mahjong-mondays/2026-07-20/
LOCATION:Berkshire Athenaeum\, 1 Wendell Ave.\, Pittsfield\, MA\, 01201\, United States
ATTACH;FMTTYPE=image/webp:https://lovepittsfield.com/wp-content/uploads/2026/01/SocialMediaGraphicMondayMahjongGroup.webp
END:VEVENT
END:VCALENDAR