BEGIN:VCALENDAR
VERSION:2.0
PRODID:-//Love Pittsfield MA - ECPv6.15.20//NONSGML v1.0//EN
CALSCALE:GREGORIAN
METHOD:PUBLISH
X-WR-CALNAME:Love Pittsfield MA
X-ORIGINAL-URL:https://lovepittsfield.com
X-WR-CALDESC:Events for Love Pittsfield MA
REFRESH-INTERVAL;VALUE=DURATION:PT1H
X-Robots-Tag:noindex
X-PUBLISHED-TTL:PT1H
BEGIN:VTIMEZONE
TZID:America/New_York
BEGIN:DAYLIGHT
TZOFFSETFROM:-0500
TZOFFSETTO:-0400
TZNAME:EDT
DTSTART:20240310T070000
END:DAYLIGHT
BEGIN:STANDARD
TZOFFSETFROM:-0400
TZOFFSETTO:-0500
TZNAME:EST
DTSTART:20241103T060000
END:STANDARD
BEGIN:DAYLIGHT
TZOFFSETFROM:-0500
TZOFFSETTO:-0400
TZNAME:EDT
DTSTART:20250309T070000
END:DAYLIGHT
BEGIN:STANDARD
TZOFFSETFROM:-0400
TZOFFSETTO:-0500
TZNAME:EST
DTSTART:20251102T060000
END:STANDARD
BEGIN:DAYLIGHT
TZOFFSETFROM:-0500
TZOFFSETTO:-0400
TZNAME:EDT
DTSTART:20260308T070000
END:DAYLIGHT
BEGIN:STANDARD
TZOFFSETFROM:-0400
TZOFFSETTO:-0500
TZNAME:EST
DTSTART:20261101T060000
END:STANDARD
END:VTIMEZONE
BEGIN:VEVENT
DTSTART;TZID=America/New_York:20251015T173000
DTEND;TZID=America/New_York:20251015T190000
DTSTAMP:20260420T115758
CREATED:20250820T181024Z
LAST-MODIFIED:20250820T181024Z
UID:10018789-1760549400-1760554800@lovepittsfield.com
SUMMARY:Learning Tarot - A 7 Week Journey with Norma
DESCRIPTION:In this class participants will explore each of the 78 tarot cards and how they work together to tell stories and answer questions through words\, symbolism\, and color. Each class will focus on a different aspect of the tarot\, from taking them out of the box to the ability to do full readings at the completion of the class. There will be journaling and homework to help better understand and keep you engaged between classes.\nThis class will run for 7 consecutive weeks. Wednesday evenings 5:30pm until 7pm\, from September 3rd until October 15th.\nNorma Kirby is a practicing High Priestess in the Cabot tradition of Witchcraft. She completed her degrees in 2011\, and at that time she was initiated as a High Priestess under Laurie Cabot. She has continued to further her education in Witchcraft under Christopher Penczak and the late Raven Grimassi\, completing additional tarot and esoteric classes. Norma is a well known reader in Salem\, MA\, where she continues to grow and learn.\n– Cost for All 7 Classes –\nEarly Bird Discounted Rate of $175 if paid by September 1st.\n$225 if paying thereafter.\nNorma is graciously offering 1 scholarship spot to someone who is feeling drawn to the class but does not have the means to pay.\nMaterials Needed – Rider Waite Classic Tarot Deck (available for purchase at The Burrow if needed)\, a notebook\, and a scarf or tarot box to carry your cards.\nClass Size is Limited!Stop In or Call The Burrow to Book Your Spot!413-344-9265
URL:https://lovepittsfield.com/event/learning-tarot-a-7-week-journey-with-norma/2025-10-15/
LOCATION:Explore the Burrow\, 881 Dalton Ave\, Pittsfield\, MA\, 01201\, United States
ATTACH;FMTTYPE=image/jpeg:https://lovepittsfield.com/wp-content/uploads/2025/08/516375095_698709789812494_4026944826346632953_n-1.jpg
END:VEVENT
END:VCALENDAR