BEGIN:VCALENDAR
VERSION:2.0
PRODID:-//Love Pittsfield MA - ECPv6.15.20//NONSGML v1.0//EN
CALSCALE:GREGORIAN
METHOD:PUBLISH
X-WR-CALNAME:Love Pittsfield MA
X-ORIGINAL-URL:https://lovepittsfield.com
X-WR-CALDESC:Events for Love Pittsfield MA
REFRESH-INTERVAL;VALUE=DURATION:PT1H
X-Robots-Tag:noindex
X-PUBLISHED-TTL:PT1H
BEGIN:VTIMEZONE
TZID:America/New_York
BEGIN:DAYLIGHT
TZOFFSETFROM:-0500
TZOFFSETTO:-0400
TZNAME:EDT
DTSTART:20240310T070000
END:DAYLIGHT
BEGIN:STANDARD
TZOFFSETFROM:-0400
TZOFFSETTO:-0500
TZNAME:EST
DTSTART:20241103T060000
END:STANDARD
BEGIN:DAYLIGHT
TZOFFSETFROM:-0500
TZOFFSETTO:-0400
TZNAME:EDT
DTSTART:20250309T070000
END:DAYLIGHT
BEGIN:STANDARD
TZOFFSETFROM:-0400
TZOFFSETTO:-0500
TZNAME:EST
DTSTART:20251102T060000
END:STANDARD
BEGIN:DAYLIGHT
TZOFFSETFROM:-0500
TZOFFSETTO:-0400
TZNAME:EDT
DTSTART:20260308T070000
END:DAYLIGHT
BEGIN:STANDARD
TZOFFSETFROM:-0400
TZOFFSETTO:-0500
TZNAME:EST
DTSTART:20261101T060000
END:STANDARD
END:VTIMEZONE
BEGIN:VEVENT
DTSTART;TZID=America/New_York:20250321T170000
DTEND;TZID=America/New_York:20250321T230000
DTSTAMP:20260419T091623
CREATED:20250312T152235Z
LAST-MODIFIED:20250312T152236Z
UID:9629-1742576400-1742598000@lovepittsfield.com
SUMMARY:Latin Night & Core Kitchen
DESCRIPTION:Come join us at Latin Night with Prashad and Luana! Get ready to heat up the dance floor with an evening of music\, movement\, and fun! Guest chef residency with Core Kitchen (on instagram @saritaandrayhospitality). Sarita and Ray take over the kitchen bringing their innovative menu and amazing food.\n5 – 9p dinner service/Core Kitchen\n7p- SALSA Class – basic steps\, partners work\, some spicy moves\, and then take them to the dance floor 8-11p – Social Dance Party – the dance floor opens for everyone to enjoy merengue\, salsa\, bachata and more Event Entrance Cost: $15 per person (at the door) No experience or partner is necessary – just bring your energy and love for dancing!. For More Info: 413 329 8959\nInvite your friends and make it a night to remember!\nFull cash bar available
URL:https://lovepittsfield.com/event/latin-night-core-kitchen/
LOCATION:Dottie’s Coffee Lounge\, 444 North Street\, Pittsfield\, MA\, 01201\, United States
CATEGORIES:Dance
ATTACH;FMTTYPE=image/jpeg:https://lovepittsfield.com/wp-content/uploads/2025/03/482246282_648087544429258_5183756580247809406_n.jpg
END:VEVENT
END:VCALENDAR