BEGIN:VCALENDAR
VERSION:2.0
PRODID:-//Love Pittsfield MA - ECPv6.15.20//NONSGML v1.0//EN
CALSCALE:GREGORIAN
METHOD:PUBLISH
X-WR-CALNAME:Love Pittsfield MA
X-ORIGINAL-URL:https://lovepittsfield.com
X-WR-CALDESC:Events for Love Pittsfield MA
REFRESH-INTERVAL;VALUE=DURATION:PT1H
X-Robots-Tag:noindex
X-PUBLISHED-TTL:PT1H
BEGIN:VTIMEZONE
TZID:America/New_York
BEGIN:DAYLIGHT
TZOFFSETFROM:-0500
TZOFFSETTO:-0400
TZNAME:EDT
DTSTART:20250309T070000
END:DAYLIGHT
BEGIN:STANDARD
TZOFFSETFROM:-0400
TZOFFSETTO:-0500
TZNAME:EST
DTSTART:20251102T060000
END:STANDARD
BEGIN:DAYLIGHT
TZOFFSETFROM:-0500
TZOFFSETTO:-0400
TZNAME:EDT
DTSTART:20260308T070000
END:DAYLIGHT
BEGIN:STANDARD
TZOFFSETFROM:-0400
TZOFFSETTO:-0500
TZNAME:EST
DTSTART:20261101T060000
END:STANDARD
BEGIN:DAYLIGHT
TZOFFSETFROM:-0500
TZOFFSETTO:-0400
TZNAME:EDT
DTSTART:20270314T070000
END:DAYLIGHT
BEGIN:STANDARD
TZOFFSETFROM:-0400
TZOFFSETTO:-0500
TZNAME:EST
DTSTART:20271107T060000
END:STANDARD
END:VTIMEZONE
BEGIN:VEVENT
DTSTART;TZID=America/New_York:20260327T193000
DTEND;TZID=America/New_York:20260327T213000
DTSTAMP:20260424T044412
CREATED:20260309T152613Z
LAST-MODIFIED:20260309T152613Z
UID:12754-1774639800-1774647000@lovepittsfield.com
SUMMARY:Kristin Key: 2026 Ca-Caw Tour
DESCRIPTION:Get ready for an unforgettable night of laughter and music with Kristin Key\, the nationally acclaimed queer musical comedian taking the country by storm. With her razor-sharp wit\, infectious songs and fearless honesty\, Kristin has become a comedy favorite\, selling out shows nationwide and racking up more than 92 million views across social media—including the viral hit “Lesbian National Anthem.” \nA proud advocate for inclusivity and joy\, Kristin uses comedy to bring people together and supports local nonprofits at every tour stop. She’s the 2024 Award of Merit recipient from the North County LGBTQ Resource Center and a 2025 Curve Power List honoree for her community impact—proof that this isn’t just comedy\, it’s a movement. \nKristin has released six comedy albums\, starred in her own DryBar Comedy special\, and appeared on NBC’s Bring the Funny\, Last Comic Standing\, VH-1 and SiriusXM. She’s also the host of the hit podcast Kristin Knows Blank. \nDon’t miss the 2026 Ca-Caw Tour—an uplifting\, laugh-out-loud celebration that’s part stand-up\, part sing-along and 100% unforgettable.
URL:https://lovepittsfield.com/event/kristin-key-2026-ca-caw-tour/
LOCATION:The Colonial Theatre\, 111 South Street\, Pittsfield\, MA\, 01201\, United States
CATEGORIES:comedy,Live Music
ATTACH;FMTTYPE=image/png:https://lovepittsfield.com/wp-content/uploads/2026/03/03-27-26-Kristin-Key_email-header.png
END:VEVENT
END:VCALENDAR