BEGIN:VCALENDAR
VERSION:2.0
PRODID:-//Love Pittsfield MA - ECPv6.15.20//NONSGML v1.0//EN
CALSCALE:GREGORIAN
METHOD:PUBLISH
X-WR-CALNAME:Love Pittsfield MA
X-ORIGINAL-URL:https://lovepittsfield.com
X-WR-CALDESC:Events for Love Pittsfield MA
REFRESH-INTERVAL;VALUE=DURATION:PT1H
X-Robots-Tag:noindex
X-PUBLISHED-TTL:PT1H
BEGIN:VTIMEZONE
TZID:America/New_York
BEGIN:DAYLIGHT
TZOFFSETFROM:-0500
TZOFFSETTO:-0400
TZNAME:EDT
DTSTART:20250309T070000
END:DAYLIGHT
BEGIN:STANDARD
TZOFFSETFROM:-0400
TZOFFSETTO:-0500
TZNAME:EST
DTSTART:20251102T060000
END:STANDARD
BEGIN:DAYLIGHT
TZOFFSETFROM:-0500
TZOFFSETTO:-0400
TZNAME:EDT
DTSTART:20260308T070000
END:DAYLIGHT
BEGIN:STANDARD
TZOFFSETFROM:-0400
TZOFFSETTO:-0500
TZNAME:EST
DTSTART:20261101T060000
END:STANDARD
BEGIN:DAYLIGHT
TZOFFSETFROM:-0500
TZOFFSETTO:-0400
TZNAME:EDT
DTSTART:20270314T070000
END:DAYLIGHT
BEGIN:STANDARD
TZOFFSETFROM:-0400
TZOFFSETTO:-0500
TZNAME:EST
DTSTART:20271107T060000
END:STANDARD
END:VTIMEZONE
BEGIN:VEVENT
DTSTART;TZID=America/New_York:20260316T180000
DTEND;TZID=America/New_York:20260316T200000
DTSTAMP:20260420T110641
CREATED:20260310T133924Z
LAST-MODIFIED:20260310T133924Z
UID:10020102-1773684000-1773691200@lovepittsfield.com
SUMMARY:Jolly Ranchers Band - Methuselah Mondays!
DESCRIPTION:LGBTQ+ Jazz & Pop Night with the Jolly Ranchers. The Jolly Ranchers are a vocally driven four-piece jazz combo. Our passion lies in creating musical experiences by reimagining the beloved jazz classics and popular songs that resonate deeply. Rich harmonies sweet melodies…we celebrate the magic of music! Celebrate LGBTQ+ community\, friends\, and great music! 
URL:https://lovepittsfield.com/event/jolly-ranchers-band-methuselah-mondays/2026-03-16/
LOCATION:Methuselah Bar and Lounge\, 391 North Street\, Pittsfield\, 01201\, United States
CATEGORIES:Live Music
ATTACH;FMTTYPE=image/jpeg:https://lovepittsfield.com/wp-content/uploads/2026/03/646745258_1684171079643569_8790383684594061120_n.jpg
END:VEVENT
END:VCALENDAR