BEGIN:VCALENDAR
VERSION:2.0
PRODID:-//Love Pittsfield MA - ECPv6.15.20//NONSGML v1.0//EN
CALSCALE:GREGORIAN
METHOD:PUBLISH
X-WR-CALNAME:Love Pittsfield MA
X-ORIGINAL-URL:https://lovepittsfield.com
X-WR-CALDESC:Events for Love Pittsfield MA
REFRESH-INTERVAL;VALUE=DURATION:PT1H
X-Robots-Tag:noindex
X-PUBLISHED-TTL:PT1H
BEGIN:VTIMEZONE
TZID:America/New_York
BEGIN:DAYLIGHT
TZOFFSETFROM:-0500
TZOFFSETTO:-0400
TZNAME:EDT
DTSTART:20250309T070000
END:DAYLIGHT
BEGIN:STANDARD
TZOFFSETFROM:-0400
TZOFFSETTO:-0500
TZNAME:EST
DTSTART:20251102T060000
END:STANDARD
BEGIN:DAYLIGHT
TZOFFSETFROM:-0500
TZOFFSETTO:-0400
TZNAME:EDT
DTSTART:20260308T070000
END:DAYLIGHT
BEGIN:STANDARD
TZOFFSETFROM:-0400
TZOFFSETTO:-0500
TZNAME:EST
DTSTART:20261101T060000
END:STANDARD
BEGIN:DAYLIGHT
TZOFFSETFROM:-0500
TZOFFSETTO:-0400
TZNAME:EDT
DTSTART:20270314T070000
END:DAYLIGHT
BEGIN:STANDARD
TZOFFSETFROM:-0400
TZOFFSETTO:-0500
TZNAME:EST
DTSTART:20271107T060000
END:STANDARD
END:VTIMEZONE
BEGIN:VEVENT
DTSTART;TZID=America/New_York:20260501T170000
DTEND;TZID=America/New_York:20260501T200000
DTSTAMP:20260423T103458
CREATED:20260416T131827Z
LAST-MODIFIED:20260416T131827Z
UID:13023-1777654800-1777665600@lovepittsfield.com
SUMMARY:Jim Horsford Live Pottery Demos
DESCRIPTION:Jim Horsford will also be popped up in Palace Park hosting a free live pottery demonstration from 5 to 8 pm where he will be inviting individuals to help him make pots on the potter’s wheel. Jim spent 30 years as an art teacher at Herberg Middle School from 1978 to 2008. Currently\, he teaches pottery on the wheel at the Lichtenstein Center for the Arts where he has been since 2000. His creations will be available for purchase. \nIn the case of inclement weather\, “Art in the Park” with Peter Vacchina\, pottery demos with Jim Horsford\, and music with Autumn Phoenix will be inside the Lichtenstein Center for the Arts at 28 Renee Avenue.
URL:https://lovepittsfield.com/event/jim-horsford-live-pottery-demos/
LOCATION:Palace Park\, 116 North Street\, Pittsfield\, MA\, 01201
CATEGORIES:ff-festival,First Fridays at Five
ATTACH;FMTTYPE=image/png:https://lovepittsfield.com/wp-content/uploads/2026/04/May-2026-Jim-Horsford-First-Fridays-at-Five-Square.png
END:VEVENT
END:VCALENDAR