BEGIN:VCALENDAR
VERSION:2.0
PRODID:-//Love Pittsfield MA - ECPv6.15.20//NONSGML v1.0//EN
CALSCALE:GREGORIAN
METHOD:PUBLISH
X-WR-CALNAME:Love Pittsfield MA
X-ORIGINAL-URL:https://lovepittsfield.com
X-WR-CALDESC:Events for Love Pittsfield MA
REFRESH-INTERVAL;VALUE=DURATION:PT1H
X-Robots-Tag:noindex
X-PUBLISHED-TTL:PT1H
BEGIN:VTIMEZONE
TZID:America/New_York
BEGIN:DAYLIGHT
TZOFFSETFROM:-0500
TZOFFSETTO:-0400
TZNAME:EDT
DTSTART:20250309T070000
END:DAYLIGHT
BEGIN:STANDARD
TZOFFSETFROM:-0400
TZOFFSETTO:-0500
TZNAME:EST
DTSTART:20251102T060000
END:STANDARD
BEGIN:DAYLIGHT
TZOFFSETFROM:-0500
TZOFFSETTO:-0400
TZNAME:EDT
DTSTART:20260308T070000
END:DAYLIGHT
BEGIN:STANDARD
TZOFFSETFROM:-0400
TZOFFSETTO:-0500
TZNAME:EST
DTSTART:20261101T060000
END:STANDARD
BEGIN:DAYLIGHT
TZOFFSETFROM:-0500
TZOFFSETTO:-0400
TZNAME:EDT
DTSTART:20270314T070000
END:DAYLIGHT
BEGIN:STANDARD
TZOFFSETFROM:-0400
TZOFFSETTO:-0500
TZNAME:EST
DTSTART:20271107T060000
END:STANDARD
END:VTIMEZONE
BEGIN:VEVENT
DTSTART;TZID=America/New_York:20260501T193000
DTEND;TZID=America/New_York:20260501T220000
DTSTAMP:20260425T085427
CREATED:20260423T173905Z
LAST-MODIFIED:20260423T173905Z
UID:13067-1777663800-1777672800@lovepittsfield.com
SUMMARY:I’m Going To Graceland
DESCRIPTION:Rev Tor & Friends Celebrate the 40th Anniversary of  Paul Simon’s Graceland with special guest Simon & Girlfunkel\nwith an appearance by The BTG Youth Chorus \nRev Tor & Friends return to The Colonial Theatre with an encore live performance of Paul Simon’s Graceland in celebration of the album’s 40th anniversary. Blending South African musical traditions with Simon’s distinctive songwriting\, Graceland became one of the most influential and beloved albums of the 1980s. Lively\, reflective\, joyful and complex\, the record acknowledges both cultural divides and personal transformation\, resulting in music that continues to resonate across generations. \nAudiences will hear favorites such as “Diamonds on the Soles of Her Shoes\,” “I Know What I Know\,” and “You Can Call Me Al\,” performed in full alongside select songs from Simon’s solo catalog. Opening the evening are special guests Belle of The Fall\, appearing as Simon & Girlfunkel.
URL:https://lovepittsfield.com/event/im-going-to-graceland-2/
LOCATION:The Colonial Theatre\, 111 South Street\, Pittsfield\, MA\, 01201\, United States
CATEGORIES:ff-festival,First Fridays at Five,Live Music
ATTACH;FMTTYPE=image/jpeg:https://lovepittsfield.com/wp-content/uploads/2026/04/05-01-26-Graceland-600.jpg
END:VEVENT
END:VCALENDAR