BEGIN:VCALENDAR
VERSION:2.0
PRODID:-//Love Pittsfield MA - ECPv6.15.20//NONSGML v1.0//EN
CALSCALE:GREGORIAN
METHOD:PUBLISH
X-WR-CALNAME:Love Pittsfield MA
X-ORIGINAL-URL:https://lovepittsfield.com
X-WR-CALDESC:Events for Love Pittsfield MA
REFRESH-INTERVAL;VALUE=DURATION:PT1H
X-Robots-Tag:noindex
X-PUBLISHED-TTL:PT1H
BEGIN:VTIMEZONE
TZID:America/New_York
BEGIN:DAYLIGHT
TZOFFSETFROM:-0500
TZOFFSETTO:-0400
TZNAME:EDT
DTSTART:20240310T070000
END:DAYLIGHT
BEGIN:STANDARD
TZOFFSETFROM:-0400
TZOFFSETTO:-0500
TZNAME:EST
DTSTART:20241103T060000
END:STANDARD
BEGIN:DAYLIGHT
TZOFFSETFROM:-0500
TZOFFSETTO:-0400
TZNAME:EDT
DTSTART:20250309T070000
END:DAYLIGHT
BEGIN:STANDARD
TZOFFSETFROM:-0400
TZOFFSETTO:-0500
TZNAME:EST
DTSTART:20251102T060000
END:STANDARD
BEGIN:DAYLIGHT
TZOFFSETFROM:-0500
TZOFFSETTO:-0400
TZNAME:EDT
DTSTART:20260308T070000
END:DAYLIGHT
BEGIN:STANDARD
TZOFFSETFROM:-0400
TZOFFSETTO:-0500
TZNAME:EST
DTSTART:20261101T060000
END:STANDARD
END:VTIMEZONE
BEGIN:VEVENT
DTSTART;TZID=America/New_York:20250604T170000
DTEND;TZID=America/New_York:20250604T200000
DTSTAMP:20260420T071631
CREATED:20250527T151516Z
LAST-MODIFIED:20250527T151517Z
UID:10600-1749056400-1749067200@lovepittsfield.com
SUMMARY:First cruise night of the season!!
DESCRIPTION:Cruise Night at the Pittsfield Airport \n 5pm-8pm Family friendly! Free admission All types of vehicles welcome!\nThere will be music and food trucks if you’d like to grab a bite to eat.\nCome join us and check out some awesome rides while you’re here!\nAnd don’t forget to share this event with your friends!
URL:https://lovepittsfield.com/event/first-cruise-night-of-the-season/
LOCATION:Pittsfield Airport\, 832 Tamarack Road\, Pittsfield\, MA\, 01201\, United States
ATTACH;FMTTYPE=image/png:https://lovepittsfield.com/wp-content/uploads/2025/05/Screenshot-2025-05-27-at-11.12.44 AM.png
END:VEVENT
END:VCALENDAR