BEGIN:VCALENDAR
VERSION:2.0
PRODID:-//Love Pittsfield MA - ECPv6.15.20//NONSGML v1.0//EN
CALSCALE:GREGORIAN
METHOD:PUBLISH
X-WR-CALNAME:Love Pittsfield MA
X-ORIGINAL-URL:https://lovepittsfield.com
X-WR-CALDESC:Events for Love Pittsfield MA
REFRESH-INTERVAL;VALUE=DURATION:PT1H
X-Robots-Tag:noindex
X-PUBLISHED-TTL:PT1H
BEGIN:VTIMEZONE
TZID:America/New_York
BEGIN:DAYLIGHT
TZOFFSETFROM:-0500
TZOFFSETTO:-0400
TZNAME:EDT
DTSTART:20240310T070000
END:DAYLIGHT
BEGIN:STANDARD
TZOFFSETFROM:-0400
TZOFFSETTO:-0500
TZNAME:EST
DTSTART:20241103T060000
END:STANDARD
BEGIN:DAYLIGHT
TZOFFSETFROM:-0500
TZOFFSETTO:-0400
TZNAME:EDT
DTSTART:20250309T070000
END:DAYLIGHT
BEGIN:STANDARD
TZOFFSETFROM:-0400
TZOFFSETTO:-0500
TZNAME:EST
DTSTART:20251102T060000
END:STANDARD
BEGIN:DAYLIGHT
TZOFFSETFROM:-0500
TZOFFSETTO:-0400
TZNAME:EDT
DTSTART:20260308T070000
END:DAYLIGHT
BEGIN:STANDARD
TZOFFSETFROM:-0400
TZOFFSETTO:-0500
TZNAME:EST
DTSTART:20261101T060000
END:STANDARD
END:VTIMEZONE
BEGIN:VEVENT
DTSTART;TZID=America/New_York:20250605T193000
DTEND;TZID=America/New_York:20250605T213000
DTSTAMP:20260419T134811
CREATED:20250521T145323Z
LAST-MODIFIED:20250521T145323Z
UID:10017566-1749151800-1749159000@lovepittsfield.com
SUMMARY:Eisenhower: This Piece of Ground
DESCRIPTION:Tony Award® winner John Rubinstein stars in a one-man tour de force about the five-star President who put people over party. \n 
URL:https://lovepittsfield.com/event/eisenhower-this-piece-of-ground/2025-06-05/
LOCATION:Barrington Stage Company: Boyd-Quinson Stage\, 30 Union Street\, Pittsfield\, MA\, 01201\, United States
CATEGORIES:Theater
ATTACH;FMTTYPE=image/png:https://lovepittsfield.com/wp-content/uploads/2025/05/2025_Square_Icons_EISEN_Icon.png
END:VEVENT
END:VCALENDAR