BEGIN:VCALENDAR
VERSION:2.0
PRODID:-//Love Pittsfield MA - ECPv6.15.20//NONSGML v1.0//EN
CALSCALE:GREGORIAN
METHOD:PUBLISH
X-WR-CALNAME:Love Pittsfield MA
X-ORIGINAL-URL:https://lovepittsfield.com
X-WR-CALDESC:Events for Love Pittsfield MA
REFRESH-INTERVAL;VALUE=DURATION:PT1H
X-Robots-Tag:noindex
X-PUBLISHED-TTL:PT1H
BEGIN:VTIMEZONE
TZID:America/New_York
BEGIN:DAYLIGHT
TZOFFSETFROM:-0500
TZOFFSETTO:-0400
TZNAME:EDT
DTSTART:20250309T070000
END:DAYLIGHT
BEGIN:STANDARD
TZOFFSETFROM:-0400
TZOFFSETTO:-0500
TZNAME:EST
DTSTART:20251102T060000
END:STANDARD
BEGIN:DAYLIGHT
TZOFFSETFROM:-0500
TZOFFSETTO:-0400
TZNAME:EDT
DTSTART:20260308T070000
END:DAYLIGHT
BEGIN:STANDARD
TZOFFSETFROM:-0400
TZOFFSETTO:-0500
TZNAME:EST
DTSTART:20261101T060000
END:STANDARD
BEGIN:DAYLIGHT
TZOFFSETFROM:-0500
TZOFFSETTO:-0400
TZNAME:EDT
DTSTART:20270314T070000
END:DAYLIGHT
BEGIN:STANDARD
TZOFFSETFROM:-0400
TZOFFSETTO:-0500
TZNAME:EST
DTSTART:20271107T060000
END:STANDARD
END:VTIMEZONE
BEGIN:VEVENT
DTSTART;TZID=America/New_York:20260516T193000
DTEND;TZID=America/New_York:20260516T213000
DTSTAMP:20260424T114543
CREATED:20260123T174348Z
LAST-MODIFIED:20260123T174349Z
UID:12474-1778959800-1778967000@lovepittsfield.com
SUMMARY:Dancing Dream: The Music of ABBA
DESCRIPTION:Feel the sparkle\, harmony and pure joy of ABBA’s greatest hits brought to life on stage. Back by popular demand after selling out The Colonial\, Dancing Dream: The Music of ABBA channels the iconic sound\, style and glamour of Sweden’s most legendary pop group with dazzling vocals\, vibrant costumes and infectious choreography. Founded in New York City by two European-born performers\, the group delivers all the beloved classics—“Dancing Queen\,” “Mamma Mia\,” “Take a Chance on Me\,” “Fernando” and many more—inviting audiences of all ages to relive the golden age of 70s pop. \nSince their debut in 2009 (including a memorable feature on The Colbert Report)\, Dancing Dream has toured theaters\, festivals\, casinos and concert venues nationwide\, building a devoted fan base that keeps coming back for more. Their shows are joyful\, high-energy and filled with sing-along moments that celebrate ABBA’s enduring legacy. Slip on your platforms\, gather your friends and get ready for a night of music that feels as warm and fun as ever. Every performance is a party to remember.
URL:https://lovepittsfield.com/event/dancing-dream-the-music-of-abba/
LOCATION:The Colonial Theatre\, 111 South Street\, Pittsfield\, MA\, 01201\, United States
CATEGORIES:Live Music
ATTACH;FMTTYPE=image/png:https://lovepittsfield.com/wp-content/uploads/2026/01/05-16-26-Dancing-Dream_email-header.png
END:VEVENT
END:VCALENDAR