BEGIN:VCALENDAR
VERSION:2.0
PRODID:-//Love Pittsfield MA - ECPv6.15.20//NONSGML v1.0//EN
CALSCALE:GREGORIAN
METHOD:PUBLISH
X-WR-CALNAME:Love Pittsfield MA
X-ORIGINAL-URL:https://lovepittsfield.com
X-WR-CALDESC:Events for Love Pittsfield MA
REFRESH-INTERVAL;VALUE=DURATION:PT1H
X-Robots-Tag:noindex
X-PUBLISHED-TTL:PT1H
BEGIN:VTIMEZONE
TZID:America/New_York
BEGIN:DAYLIGHT
TZOFFSETFROM:-0500
TZOFFSETTO:-0400
TZNAME:EDT
DTSTART:20240310T070000
END:DAYLIGHT
BEGIN:STANDARD
TZOFFSETFROM:-0400
TZOFFSETTO:-0500
TZNAME:EST
DTSTART:20241103T060000
END:STANDARD
BEGIN:DAYLIGHT
TZOFFSETFROM:-0500
TZOFFSETTO:-0400
TZNAME:EDT
DTSTART:20250309T070000
END:DAYLIGHT
BEGIN:STANDARD
TZOFFSETFROM:-0400
TZOFFSETTO:-0500
TZNAME:EST
DTSTART:20251102T060000
END:STANDARD
BEGIN:DAYLIGHT
TZOFFSETFROM:-0500
TZOFFSETTO:-0400
TZNAME:EDT
DTSTART:20260308T070000
END:DAYLIGHT
BEGIN:STANDARD
TZOFFSETFROM:-0400
TZOFFSETTO:-0500
TZNAME:EST
DTSTART:20261101T060000
END:STANDARD
END:VTIMEZONE
BEGIN:VEVENT
DTSTART;TZID=America/New_York:20251011T130000
DTEND;TZID=America/New_York:20251011T160000
DTSTAMP:20260424T073718
CREATED:20250820T181939Z
LAST-MODIFIED:20250820T182024Z
UID:10018793-1760187600-1760198400@lovepittsfield.com
SUMMARY:Clock Tower Artists Open Studios
DESCRIPTION:Hello! We invite you to visit our website for information about our artists and our open studios schedule! www.clocktowerartists.comIf you haven’t visited recently\, you will notice that we opened up a new wing on the third floor with more artists! Now we have a West Wing and a South Wing!\nHere is a snapshot of what is coming soon to our studio floor!\nOPEN STUDIOS 2025– Second Saturday of each month\, 1:00-4:00 pm – May through December\nHope to see you here! Feel free to share this post!
URL:https://lovepittsfield.com/event/clock-tower-artists-open-studios/2025-10-11/
LOCATION:Clock Tower Artists\, 75 South Church Street\, 3 Floor\, Pittsfield\, 01201\, United States
CATEGORIES:Arts
ATTACH;FMTTYPE=image/jpeg:https://lovepittsfield.com/wp-content/uploads/2025/08/509998405_695572773279700_965222499308357369_n.jpg
END:VEVENT
END:VCALENDAR