BEGIN:VCALENDAR
VERSION:2.0
PRODID:-//Love Pittsfield MA - ECPv6.15.20//NONSGML v1.0//EN
CALSCALE:GREGORIAN
METHOD:PUBLISH
X-WR-CALNAME:Love Pittsfield MA
X-ORIGINAL-URL:https://lovepittsfield.com
X-WR-CALDESC:Events for Love Pittsfield MA
REFRESH-INTERVAL;VALUE=DURATION:PT1H
X-Robots-Tag:noindex
X-PUBLISHED-TTL:PT1H
BEGIN:VTIMEZONE
TZID:America/New_York
BEGIN:DAYLIGHT
TZOFFSETFROM:-0500
TZOFFSETTO:-0400
TZNAME:EDT
DTSTART:20250309T070000
END:DAYLIGHT
BEGIN:STANDARD
TZOFFSETFROM:-0400
TZOFFSETTO:-0500
TZNAME:EST
DTSTART:20251102T060000
END:STANDARD
BEGIN:DAYLIGHT
TZOFFSETFROM:-0500
TZOFFSETTO:-0400
TZNAME:EDT
DTSTART:20260308T070000
END:DAYLIGHT
BEGIN:STANDARD
TZOFFSETFROM:-0400
TZOFFSETTO:-0500
TZNAME:EST
DTSTART:20261101T060000
END:STANDARD
BEGIN:DAYLIGHT
TZOFFSETFROM:-0500
TZOFFSETTO:-0400
TZNAME:EDT
DTSTART:20270314T070000
END:DAYLIGHT
BEGIN:STANDARD
TZOFFSETFROM:-0400
TZOFFSETTO:-0500
TZNAME:EST
DTSTART:20271107T060000
END:STANDARD
END:VTIMEZONE
BEGIN:VEVENT
DTSTART;TZID=America/New_York:20260207T140000
DTEND;TZID=America/New_York:20260207T160000
DTSTAMP:20260423T102010
CREATED:20260203T144515Z
LAST-MODIFIED:20260203T144515Z
UID:12570-1770472800-1770480000@lovepittsfield.com
SUMMARY:Candle + Flower Workshop | Ladies Night
DESCRIPTION:Join us February 7th for an intimate\, hands-on evening at our shop featuring candle making hosted by Jenna\, owner of Berkshire Candle and a guided flower-making session with fresh\, seasonal blooms. No experience needed – just come ready to create.\nDetails:• Custom candle-making experience• Floral design workshop• $75 per person• Held at our shop• Limited space available\nReserve your spot for a cozy\, creative night out.www.thistlenthornfloral.com
URL:https://lovepittsfield.com/event/candle-flower-workshop-ladies-night/
LOCATION:Thistle ‘n Thorn Floral\, 393 North Street\, Pittsfield\, MA\, 01201\, United States
CATEGORIES:art classes
ATTACH;FMTTYPE=image/jpeg:https://lovepittsfield.com/wp-content/uploads/2026/02/621237937_1713482249941108_1954226005655407827_n.jpg
END:VEVENT
END:VCALENDAR