BEGIN:VCALENDAR
VERSION:2.0
PRODID:-//Love Pittsfield MA - ECPv6.15.20//NONSGML v1.0//EN
CALSCALE:GREGORIAN
METHOD:PUBLISH
X-WR-CALNAME:Love Pittsfield MA
X-ORIGINAL-URL:https://lovepittsfield.com
X-WR-CALDESC:Events for Love Pittsfield MA
REFRESH-INTERVAL;VALUE=DURATION:PT1H
X-Robots-Tag:noindex
X-PUBLISHED-TTL:PT1H
BEGIN:VTIMEZONE
TZID:America/New_York
BEGIN:DAYLIGHT
TZOFFSETFROM:-0500
TZOFFSETTO:-0400
TZNAME:EDT
DTSTART:20240310T070000
END:DAYLIGHT
BEGIN:STANDARD
TZOFFSETFROM:-0400
TZOFFSETTO:-0500
TZNAME:EST
DTSTART:20241103T060000
END:STANDARD
BEGIN:DAYLIGHT
TZOFFSETFROM:-0500
TZOFFSETTO:-0400
TZNAME:EDT
DTSTART:20250309T070000
END:DAYLIGHT
BEGIN:STANDARD
TZOFFSETFROM:-0400
TZOFFSETTO:-0500
TZNAME:EST
DTSTART:20251102T060000
END:STANDARD
BEGIN:DAYLIGHT
TZOFFSETFROM:-0500
TZOFFSETTO:-0400
TZNAME:EDT
DTSTART:20260308T070000
END:DAYLIGHT
BEGIN:STANDARD
TZOFFSETFROM:-0400
TZOFFSETTO:-0500
TZNAME:EST
DTSTART:20261101T060000
END:STANDARD
END:VTIMEZONE
BEGIN:VEVENT
DTSTART;TZID=America/New_York:20250606T183000
DTEND;TZID=America/New_York:20250606T190000
DTSTAMP:20260419T140522
CREATED:20250520T134037Z
LAST-MODIFIED:20250606T172750Z
UID:10446-1749234600-1749236400@lovepittsfield.com
SUMMARY:BTG: Magic Tree House: Pirates Past Noon
DESCRIPTION:Berkshire Theatre Group’s young company of artists will perform a snippet from the Magic Tree House: Pirates Past Noon KIDS at 6:30 pm at the PRICE MEMORIAL CHURCH. Magic Tree House: Pirates Past Noon KIDS is an adaptation of the fourth of Mary Pope Osborne’s award-winning fantasy adventure books from the Magic Tree House book series\, which has sold more than 100 million copies and is available in more than a hundred countries around the world. \nThis time around\, Jack and Annie’s tree house takes them to an exotic island with pirates\, where the two discover the power of friendship and the simple pleasures in everyday life. Magic Tree House: Pirates Past Noon KIDS features a book by Will Osborne and Jenny Laird\, lyrics by Will Osborne and Randy Courts\, and music by Randy Courts. The musical is co-directed by David Adkins and Kathy Jo Grover with musical direction by Erin M. White and choreography by Kathy Jo Grover. \nPhoto credit Katie Watts
URL:https://lovepittsfield.com/event/btg-magic-tree-house-pirates-past-noon/
LOCATION:Price Memorial A.M.E. Church\, 27 East Street\, Pittsfield\, MA\, 01201\, United States
CATEGORIES:ff-festival,First Fridays at Five,Kids Activities
ATTACH;FMTTYPE=image/png:https://lovepittsfield.com/wp-content/uploads/2025/05/V2-Magic-Tree-House-Pirates-Past-Noon-June-First-Fridays-at-Five-e1749230182795.png
END:VEVENT
END:VCALENDAR