BEGIN:VCALENDAR
VERSION:2.0
PRODID:-//Love Pittsfield MA - ECPv6.15.20//NONSGML v1.0//EN
CALSCALE:GREGORIAN
METHOD:PUBLISH
X-WR-CALNAME:Love Pittsfield MA
X-ORIGINAL-URL:https://lovepittsfield.com
X-WR-CALDESC:Events for Love Pittsfield MA
REFRESH-INTERVAL;VALUE=DURATION:PT1H
X-Robots-Tag:noindex
X-PUBLISHED-TTL:PT1H
BEGIN:VTIMEZONE
TZID:America/New_York
BEGIN:DAYLIGHT
TZOFFSETFROM:-0500
TZOFFSETTO:-0400
TZNAME:EDT
DTSTART:20250309T070000
END:DAYLIGHT
BEGIN:STANDARD
TZOFFSETFROM:-0400
TZOFFSETTO:-0500
TZNAME:EST
DTSTART:20251102T060000
END:STANDARD
BEGIN:DAYLIGHT
TZOFFSETFROM:-0500
TZOFFSETTO:-0400
TZNAME:EDT
DTSTART:20260308T070000
END:DAYLIGHT
BEGIN:STANDARD
TZOFFSETFROM:-0400
TZOFFSETTO:-0500
TZNAME:EST
DTSTART:20261101T060000
END:STANDARD
BEGIN:DAYLIGHT
TZOFFSETFROM:-0500
TZOFFSETTO:-0400
TZNAME:EDT
DTSTART:20270314T070000
END:DAYLIGHT
BEGIN:STANDARD
TZOFFSETFROM:-0400
TZOFFSETTO:-0500
TZNAME:EST
DTSTART:20271107T060000
END:STANDARD
END:VTIMEZONE
BEGIN:VEVENT
DTSTART;TZID=America/New_York:20260501T170000
DTEND;TZID=America/New_York:20260501T200000
DTSTAMP:20260424T063636
CREATED:20260416T131605Z
LAST-MODIFIED:20260416T131605Z
UID:13022-1777654800-1777665600@lovepittsfield.com
SUMMARY:“Art in the Park” with Peter Vacchina
DESCRIPTION:DPI. and First Fridays Artswalk will feature Peter Vacchina as the May “Art in the Park” artist. Peter will be popped up in Palace Park (near 122 North Street) from 5 to 8 pm\, inviting the community to add pieces to a “made-on-the-spot” mosaic and discussing his process with all who are interested. \nPeter is a sculptor working primarily in marble\, mosaic\, and the occasional ice sculpture. His art reflects his personal life experiences\, particularly his time living and traveling abroad. Before becoming a full-time artist in Pittsfield\, Peter lived and taught science in Belgium\, Brazil\, Mexico\, England\, Italy\, and California. “I appreciate the challenge of working in marble and its potential to last for centuries. In my marble sculptures\, I seek to invoke memory in the way a scent or sound might\, and in doing so inspire heartfelt stories in the viewer.” \n“Art in the Park” is supported in part by the Feigenbaum Foundation and in part by a grant from the Mass Cultural Council\, and a grant from the Pittsfield Cultural Council\, a local agency which is supported by the Mass Cultural Council\, a state agency.
URL:https://lovepittsfield.com/event/art-in-the-park-with-peter-vacchina/
LOCATION:Palace Park\, 116 North Street\, Pittsfield\, MA\, 01201
CATEGORIES:ff-festival,First Fridays at Five
ATTACH;FMTTYPE=image/png:https://lovepittsfield.com/wp-content/uploads/2026/04/Art-in-the-Park-May-2026-DPI-Square.png
END:VEVENT
END:VCALENDAR