BEGIN:VCALENDAR
VERSION:2.0
PRODID:-//Love Pittsfield MA - ECPv6.15.20//NONSGML v1.0//EN
CALSCALE:GREGORIAN
METHOD:PUBLISH
X-WR-CALNAME:Love Pittsfield MA
X-ORIGINAL-URL:https://lovepittsfield.com
X-WR-CALDESC:Events for Love Pittsfield MA
REFRESH-INTERVAL;VALUE=DURATION:PT1H
X-Robots-Tag:noindex
X-PUBLISHED-TTL:PT1H
BEGIN:VTIMEZONE
TZID:America/New_York
BEGIN:DAYLIGHT
TZOFFSETFROM:-0500
TZOFFSETTO:-0400
TZNAME:EDT
DTSTART:20240310T070000
END:DAYLIGHT
BEGIN:STANDARD
TZOFFSETFROM:-0400
TZOFFSETTO:-0500
TZNAME:EST
DTSTART:20241103T060000
END:STANDARD
BEGIN:DAYLIGHT
TZOFFSETFROM:-0500
TZOFFSETTO:-0400
TZNAME:EDT
DTSTART:20250309T070000
END:DAYLIGHT
BEGIN:STANDARD
TZOFFSETFROM:-0400
TZOFFSETTO:-0500
TZNAME:EST
DTSTART:20251102T060000
END:STANDARD
BEGIN:DAYLIGHT
TZOFFSETFROM:-0500
TZOFFSETTO:-0400
TZNAME:EDT
DTSTART:20260308T070000
END:DAYLIGHT
BEGIN:STANDARD
TZOFFSETFROM:-0400
TZOFFSETTO:-0500
TZNAME:EST
DTSTART:20261101T060000
END:STANDARD
END:VTIMEZONE
BEGIN:VEVENT
DTSTART;TZID=America/New_York:20250704T100000
DTEND;TZID=America/New_York:20250704T120000
DTSTAMP:20260422T103722
CREATED:20250620T160102Z
LAST-MODIFIED:20250624T145904Z
UID:10876-1751623200-1751630400@lovepittsfield.com
SUMMARY:Pittsfield Fourth of July Parade
DESCRIPTION:The Pittsfield 4th of July Parade has an historic reputation dating back to 1824. \nThis year’s event is themed “Young at Heart\,” and it will have more than 100 units\, including over a dozen floats\, several musical and dance performances\, and other elements that celebrate the community’s youth. \nA long-beloved tradition\, it kicks off on July 4 at 10 a.m. on the dot and proceeds through the downtown. \n“It is a lot of work\, but we have a great team\,” Parade Committee President Rebecca Brien said during Pittsfield Community Television‘s “Parade in Preview” program on Wednesday night. \nPCTV’s Executive Director Shawn Serre said\, “Really\, nothing tops the Pittsfield Fourth of July parade.” \nPittsfield native Madison Quinn was named the Grand Marshal for her leadership of the non-profit organization Strong Little Souls\, which she founded at the age of 13.  SLS provides care packages\, meals\, toys\, and reading materials to young patients while advocating for pediatric cancer research. \nThe parade is preceded by the annual 4th of July 5K run on the parade route. \nClick here for more information.  
URL:https://lovepittsfield.com/event/4th-of-july-parade/
LOCATION:Downtown Pittsfield
CATEGORIES:Arts,Dance,Kids Activities,Live Music
ATTACH;FMTTYPE=image/jpeg:https://lovepittsfield.com/wp-content/uploads/2025/06/19702934_1988783638057676_3744239958135670547_o.jpg
END:VEVENT
END:VCALENDAR