BEGIN:VCALENDAR
VERSION:2.0
PRODID:-//Love Pittsfield MA - ECPv6.15.20//NONSGML v1.0//EN
CALSCALE:GREGORIAN
METHOD:PUBLISH
X-WR-CALNAME:Love Pittsfield MA
X-ORIGINAL-URL:https://lovepittsfield.com
X-WR-CALDESC:Events for Love Pittsfield MA
REFRESH-INTERVAL;VALUE=DURATION:PT1H
X-Robots-Tag:noindex
X-PUBLISHED-TTL:PT1H
BEGIN:VTIMEZONE
TZID:America/New_York
BEGIN:DAYLIGHT
TZOFFSETFROM:-0500
TZOFFSETTO:-0400
TZNAME:EDT
DTSTART:20250309T070000
END:DAYLIGHT
BEGIN:STANDARD
TZOFFSETFROM:-0400
TZOFFSETTO:-0500
TZNAME:EST
DTSTART:20251102T060000
END:STANDARD
BEGIN:DAYLIGHT
TZOFFSETFROM:-0500
TZOFFSETTO:-0400
TZNAME:EDT
DTSTART:20260308T070000
END:DAYLIGHT
BEGIN:STANDARD
TZOFFSETFROM:-0400
TZOFFSETTO:-0500
TZNAME:EST
DTSTART:20261101T060000
END:STANDARD
BEGIN:DAYLIGHT
TZOFFSETFROM:-0500
TZOFFSETTO:-0400
TZNAME:EDT
DTSTART:20270314T070000
END:DAYLIGHT
BEGIN:STANDARD
TZOFFSETFROM:-0400
TZOFFSETTO:-0500
TZNAME:EST
DTSTART:20271107T060000
END:STANDARD
END:VTIMEZONE
BEGIN:VEVENT
DTSTART;TZID=America/New_York:20260708T140000
DTEND;TZID=America/New_York:20260708T160000
DTSTAMP:20260424T094259
CREATED:20260304T135939Z
LAST-MODIFIED:20260304T135939Z
UID:10019984-1783519200-1783526400@lovepittsfield.com
SUMMARY:1776 Musical
DESCRIPTION:America’s Prize Winning Musical Featuring over 50 artists from the surrounding community.\nThis community-centered production of 1776 reimagines the iconic American musical as a shared civic project—one that brings local artists together to explore the ideas\, conflicts and compromises that shaped a nation. Featuring its celebrated score and witty\, thought-provoking book\, the production dives into the debates and bold personalities behind the signing of the Declaration of Independence\, inviting audiences into the messy\, human process of democracy in action. With energy\, humor and heart\, this staging offers a lively and engaging theatrical experience that resonates across generations. \nConceived as an intensive ensemble-driven project\, 1776 places a strong emphasis on collaboration\, dialogue and discovery. The rehearsal process allows artists to spend meaningful time unpacking the historical context\, motivations and contradictions of the characters\, while also sparking a series of conversations connected to the production that invite the broader community into the work. In the spirit of past Colonial Theatre favorites such as Mary Poppins\, Tarzan\, Shrek and The Music Man\, this project marks the return of a large-scale community musical to the Colonial stage for the first time since 2019. Directed by David Adkins\, BTG’s Artistic Director of Education & Training\, 1776 celebrates collective storytelling and shared inquiry—continuing BTG’s tradition of productions that bring the community together for a meaningful and memorable night at the theatre. \nRecommended for Ages 7 and up. \nProduction\nmusic and lyrics by Sherman Edwards\nbook by Peter Stone\nbased on a concept by Sherman Edwards\noriginal production directed by Peter Hunt\noriginally produced on the Broadway stage by Stuart Ostrow \ndirected by David Adkins\nmusic direction by Erin White\nchoreography by Kathy Jo Grover\nfeaturing artists from the surrounding community
URL:https://lovepittsfield.com/event/1776-musical/2026-07-08/1/
LOCATION:The Colonial Theatre\, 111 South Street\, Pittsfield\, MA\, 01201\, United States
CATEGORIES:Musical Theatre,Theater
ATTACH;FMTTYPE=image/png:https://lovepittsfield.com/wp-content/uploads/2026/03/07-02-26-1776_email-header.png
END:VEVENT
END:VCALENDAR