BEGIN:VCALENDAR
VERSION:2.0
PRODID:-//Love Pittsfield MA - ECPv6.15.20//NONSGML v1.0//EN
CALSCALE:GREGORIAN
METHOD:PUBLISH
X-WR-CALNAME:Love Pittsfield MA
X-ORIGINAL-URL:https://lovepittsfield.com
X-WR-CALDESC:Events for Love Pittsfield MA
REFRESH-INTERVAL;VALUE=DURATION:PT1H
X-Robots-Tag:noindex
X-PUBLISHED-TTL:PT1H
BEGIN:VTIMEZONE
TZID:America/New_York
BEGIN:DAYLIGHT
TZOFFSETFROM:-0500
TZOFFSETTO:-0400
TZNAME:EDT
DTSTART:20240310T070000
END:DAYLIGHT
BEGIN:STANDARD
TZOFFSETFROM:-0400
TZOFFSETTO:-0500
TZNAME:EST
DTSTART:20241103T060000
END:STANDARD
BEGIN:DAYLIGHT
TZOFFSETFROM:-0500
TZOFFSETTO:-0400
TZNAME:EDT
DTSTART:20250309T070000
END:DAYLIGHT
BEGIN:STANDARD
TZOFFSETFROM:-0400
TZOFFSETTO:-0500
TZNAME:EST
DTSTART:20251102T060000
END:STANDARD
BEGIN:DAYLIGHT
TZOFFSETFROM:-0500
TZOFFSETTO:-0400
TZNAME:EDT
DTSTART:20260308T070000
END:DAYLIGHT
BEGIN:STANDARD
TZOFFSETFROM:-0400
TZOFFSETTO:-0500
TZNAME:EST
DTSTART:20261101T060000
END:STANDARD
END:VTIMEZONE
BEGIN:VEVENT
DTSTART;TZID=America/New_York:20250222T193000
DTEND;TZID=America/New_York:20250222T223000
DTSTAMP:20260423T101846
CREATED:20250109T145632Z
LAST-MODIFIED:20250109T145632Z
UID:9006-1740252600-1740263400@lovepittsfield.com
SUMMARY:10x10: Memories of Patsy: The Patsy Cline Tribute Show
DESCRIPTION:Experience the magic of Patsy Cline all over again with Memories of Patsy\, a nationally touring tribute concert that brings the legendary singer’s timeless music to life. This unforgettable performance transports audiences back to an era when Patsy Cline’s unforgettable voice dominated the airwaves and concert stages across America. Featuring some of her most iconic songs\, including “Crazy\,” “Walkin’ After Midnight\,” “I Fall to Pieces\,” “She’s Got You\,” “San Antonio Rose\,” “Blue Moon of Kentucky” and “Sweet Dreams\,” this show celebrates the artistry that has become woven into the fabric of American music. \nMemories of Patsy authentically recreates the full concert experience\, earning rave reviews across the country. Critics have called it “an unbelievable performance… a must-see for all music fans” (Santa Barbara News-Press)\, “Patsy would be proud – great vocalist and outstanding band” (Santa Fe New Mexican)\, and “an absolutely magical performance” (Florida Today). Don’t miss your chance to relive the music of a true American icon.
URL:https://lovepittsfield.com/event/10x10-memories-of-patsy-the-patsy-cline-tribute-show/
LOCATION:The Colonial Theatre\, 111 South Street\, Pittsfield\, MA\, 01201\, United States
CATEGORIES:10x10,Live Music
ATTACH;FMTTYPE=image/jpeg:https://lovepittsfield.com/wp-content/uploads/2025/01/2680e853-1560-47a2-aef1-83311eaddca5.jpg
END:VEVENT
END:VCALENDAR