BEGIN:VCALENDAR
VERSION:2.0
PRODID:-//Love Pittsfield MA - ECPv6.15.20//NONSGML v1.0//EN
CALSCALE:GREGORIAN
METHOD:PUBLISH
X-WR-CALNAME:Love Pittsfield MA
X-ORIGINAL-URL:https://lovepittsfield.com
X-WR-CALDESC:Events for Love Pittsfield MA
REFRESH-INTERVAL;VALUE=DURATION:PT1H
X-Robots-Tag:noindex
X-PUBLISHED-TTL:PT1H
BEGIN:VTIMEZONE
TZID:America/New_York
BEGIN:DAYLIGHT
TZOFFSETFROM:-0500
TZOFFSETTO:-0400
TZNAME:EDT
DTSTART:20240310T070000
END:DAYLIGHT
BEGIN:STANDARD
TZOFFSETFROM:-0400
TZOFFSETTO:-0500
TZNAME:EST
DTSTART:20241103T060000
END:STANDARD
BEGIN:DAYLIGHT
TZOFFSETFROM:-0500
TZOFFSETTO:-0400
TZNAME:EDT
DTSTART:20250309T070000
END:DAYLIGHT
BEGIN:STANDARD
TZOFFSETFROM:-0400
TZOFFSETTO:-0500
TZNAME:EST
DTSTART:20251102T060000
END:STANDARD
BEGIN:DAYLIGHT
TZOFFSETFROM:-0500
TZOFFSETTO:-0400
TZNAME:EDT
DTSTART:20260308T070000
END:DAYLIGHT
BEGIN:STANDARD
TZOFFSETFROM:-0400
TZOFFSETTO:-0500
TZNAME:EST
DTSTART:20261101T060000
END:STANDARD
END:VTIMEZONE
BEGIN:VEVENT
DTSTART;TZID=America/New_York:20250215T110000
DTEND;TZID=America/New_York:20250215T120000
DTSTAMP:20260422T074330
CREATED:20250123T194357Z
LAST-MODIFIED:20250213T191731Z
UID:9235-1739617200-1739620800@lovepittsfield.com
SUMMARY:10x10: Jacob's Pillow Movement Workshop
DESCRIPTION:Jacob’s Pillow – America’s longest-running international dance festival\, located in Becket\, MA – will host a free dance and movement workshop about community and aging led by artists Michael Richter and Liv Schaffer on February 15 at 11am at the Common Room\, Zion Lutheran Church\, 74 First Street. Open to all with a special invitation to seniors. \nClick here to register for this event:  Aging in Community:Dancing our Joys and Challenges – Jacob’s Pillow
URL:https://lovepittsfield.com/event/10x10-jacobs-pillow-movement-workshop/
LOCATION:Zion Lutheran Church\, 74 1st Street\, Pittsfield\, MA\, 01201\, United States
CATEGORIES:10x10,Dance
ATTACH;FMTTYPE=image/jpeg:https://lovepittsfield.com/wp-content/uploads/2025/01/Celeste-Miller_Head-Shot_400x400.jpg
END:VEVENT
END:VCALENDAR