BEGIN:VCALENDAR
VERSION:2.0
PRODID:-//Love Pittsfield MA - ECPv6.15.20//NONSGML v1.0//EN
CALSCALE:GREGORIAN
METHOD:PUBLISH
X-WR-CALNAME:Love Pittsfield MA
X-ORIGINAL-URL:https://lovepittsfield.com
X-WR-CALDESC:Events for Love Pittsfield MA
REFRESH-INTERVAL;VALUE=DURATION:PT1H
X-Robots-Tag:noindex
X-PUBLISHED-TTL:PT1H
BEGIN:VTIMEZONE
TZID:America/New_York
BEGIN:DAYLIGHT
TZOFFSETFROM:-0500
TZOFFSETTO:-0400
TZNAME:EDT
DTSTART:20240310T070000
END:DAYLIGHT
BEGIN:STANDARD
TZOFFSETFROM:-0400
TZOFFSETTO:-0500
TZNAME:EST
DTSTART:20241103T060000
END:STANDARD
BEGIN:DAYLIGHT
TZOFFSETFROM:-0500
TZOFFSETTO:-0400
TZNAME:EDT
DTSTART:20250309T070000
END:DAYLIGHT
BEGIN:STANDARD
TZOFFSETFROM:-0400
TZOFFSETTO:-0500
TZNAME:EST
DTSTART:20251102T060000
END:STANDARD
BEGIN:DAYLIGHT
TZOFFSETFROM:-0500
TZOFFSETTO:-0400
TZNAME:EDT
DTSTART:20260308T070000
END:DAYLIGHT
BEGIN:STANDARD
TZOFFSETFROM:-0400
TZOFFSETTO:-0500
TZNAME:EST
DTSTART:20261101T060000
END:STANDARD
END:VTIMEZONE
BEGIN:VEVENT
DTSTART;TZID=America/New_York:20250222T170000
DTEND;TZID=America/New_York:20250222T180000
DTSTAMP:20260421T150445
CREATED:20250129T183259Z
LAST-MODIFIED:20250129T183259Z
UID:9311-1740243600-1740247200@lovepittsfield.com
SUMMARY:10×10: Fire Dancing with Opal Raven
DESCRIPTION:Opal Raven Cirque is a circus and sideshow performer based in Western Massachusetts. Opal will perform a Fire Dance routine from 5:15 to 5:45 pm at the First Street Common. She’s known across New England and the Tri-State area for her “Danger Dame of the Flame” variety show. Also known as the Sword Queen of Gypsy Layne\, Opal showcases masterful sword spinning and daring prop tricks. \nBook-ending the Fire Show will be Berkshire United Way’s 10x the Fun from 3:30 to 5:30 pm at the Zion Lutheran Church and 10 Minutes of Fireworks at 6 pm on the Common. Viewing of the fireworks will only be allowed from the First Street Parking Lot\, so please be prepared to stand or bring chairs.
URL:https://lovepittsfield.com/event/10x10-fire-dancing-with-opal-raven/
LOCATION:The Common\, 100 First St\, Pittsfield\, MA\, 01201\, United States
CATEGORIES:10x10
ATTACH;FMTTYPE=image/png:https://lovepittsfield.com/wp-content/uploads/2025/01/2025-FINAL-Fire-Dancing-with-Opal-and-DPI.png
ORGANIZER;CN="Downtown Pittsfield%2C Inc.":MAILTO:info@downtownpittsfield.com
END:VEVENT
END:VCALENDAR